Workbook

Sheet Xarxa
A1: ELEMENTS DE XARXA | I1: C-31 (D)
A3: Network | C3: 10 | D3: 137 | E3: 238 | F3: 224
A4: Netmask | C4: 255 | D4: 255 | E4: 255 | F4: 224
A5: Wildcard | C5: 0 | D5: 0 | E5: 0 | F5: =256-F4-1 -> 31
A6: HostMin | C6: =C3 -> 10 | D6: =D3 -> 137 | E6: =E3 -> 238 | F6: =F3+1 -> 225
A7: HostMax | C7: =C3 -> 10 | D7: =D3 -> 137 | E7: =E3 -> 238 | F7: =F3+F5-2 -> 253
A8: Broadcast | C8: =C3 -> 10 | D8: =D3 -> 137 | E8: =E3 -> 238 | F8: =F3+F5-1 -> 254
A9: Hosts | C9: =F5-2 -> 29
A10: VLAN | C10: 12
A12: IP | C12: MASK | F12: GATEWAY | G12: MASK | H12: MAC | I12: DESCRIPTION
A13: =CONCATENATE($C$3,".",$D$3,".",$E$3) -> 10.137.238 | B13: =F6 -> 225 | C13: =CONCATENATE($C$4,".",$D$4,".",$E$4,".",$F$4) -> 255.255.255.224 | F13: =CONCATENATE($C$3,".",$D$3,".",$E$3,".",$F$3+1) -> 10.137.238.225 | H13: - | I13: Gateway | J13: =CONCATENATE(A13,".",B13) -> 10.137.238.225 | K13: =C13 -> 255.255.255.224 | L13: =F13 -> 10.137.238.225 | M13: =H13 -> - | N13: =$C$10 -> 12
A14: =CONCATENATE($C$3,".",$D$3,".",$E$3) -> 10.137.238 | B14: =B13+1 -> 226 | C14: =CONCATENATE($C$4,".",$D$4,".",$E$4,".",$F$4) -> 255.255.255.224 | F14: =CONCATENATE($C$3,".",$D$3,".",$E$3,".",$F$3+1) -> 10.137.238.225 | H14: - | J14: =CONCATENATE(A14,".",B14) -> 10.137.238.226 | K14: =C14 -> 255.255.255.224 | L14: =F14 -> 10.137.238.225 | M14: =H14 -> - | N14: =$C$10 -> 12
A15: =CONCATENATE($C$3,".",$D$3,".",$E$3) -> 10.137.238 | B15: =B14+1 -> 227 | C15: =CONCATENATE($C$4,".",$D$4,".",$E$4,".",$F$4) -> 255.255.255.224 | F15: =CONCATENATE($C$3,".",$D$3,".",$E$3,".",$F$3+1) -> 10.137.238.225 | H15: - | J15: =CONCATENATE(A15,".",B15) -> 10.137.238.227 | K15: =C15 -> 255.255.255.224 | L15: =F15 -> 10.137.238.225 | M15: =H15 -> - | N15: =$C$10 -> 12
A16: =CONCATENATE($C$3,".",$D$3,".",$E$3) -> 10.137.238 | B16: =B15+1 -> 228 | C16: =CONCATENATE($C$4,".",$D$4,".",$E$4,".",$F$4) -> 255.255.255.224 | F16: =CONCATENATE($C$3,".",$D$3,".",$E$3,".",$F$3+1) -> 10.137.238.225 | H16: 00-80-63-C6-E8-C3 | I16: Node Xarxa 32 | J16: =CONCATENATE(A16,".",B16) -> 10.137.238.228 | K16: =C16 -> 255.255.255.224 | L16: =F16 -> 10.137.238.225 | M16: =H16 -> 00-80-63-C6-E8-C3 | N16: =$C$10 -> 12
A17: =CONCATENATE($C$3,".",$D$3,".",$E$3) -> 10.137.238 | B17: =B16+1 -> 229 | C17: =CONCATENATE($C$4,".",$D$4,".",$E$4,".",$F$4) -> 255.255.255.224 | F17: =CONCATENATE($C$3,".",$D$3,".",$E$3,".",$F$3+1) -> 10.137.238.225 | H17: 00-80-63-C6-E8-5A | I17: Node Xarxa 33 | J17: =CONCATENATE(A17,".",B17) -> 10.137.238.229 | K17: =C17 -> 255.255.255.224 | L17: =F17 -> 10.137.238.225 | M17: =H17 -> 00-80-63-C6-E8-5A | N17: =$C$10 -> 12
A18: =CONCATENATE($C$3,".",$D$3,".",$E$3) -> 10.137.238 | B18: =B17+1 -> 230 | C18: =CONCATENATE($C$4,".",$D$4,".",$E$4,".",$F$4) -> 255.255.255.224 | F18: =CONCATENATE($C$3,".",$D$3,".",$E$3,".",$F$3+1) -> 10.137.238.225 | H18: 00-80-63-C2-F0-F2 | I18: Node Xarxa 34 | J18: =CONCATENATE(A18,".",B18) -> 10.137.238.230 | K18: =C18 -> 255.255.255.224 | L18: =F18 -> 10.137.238.225 | M18: =H18 -> 00-80-63-C2-F0-F2 | N18: =$C$10 -> 12
A19: =CONCATENATE($C$3,".",$D$3,".",$E$3) -> 10.137.238 | B19: =B18+1 -> 231 | C19: =CONCATENATE($C$4,".",$D$4,".",$E$4,".",$F$4) -> 255.255.255.224 | F19: =CONCATENATE($C$3,".",$D$3,".",$E$3,".",$F$3+1) -> 10.137.238.225 | H19: 00-80-63-C3-31-19 | I19: Node Xarxa 35 | J19: =CONCATENATE(A19,".",B19) -> 10.137.238.231 | K19: =C19 -> 255.255.255.224 | L19: =F19 -> 10.137.238.225 | M19: =H19 -> 00-80-63-C3-31-19 | N19: =$C$10 -> 12
A20: =CONCATENATE($C$3,".",$D$3,".",$E$3) -> 10.137.238 | B20: =B19+1 -> 232 | C20: =CONCATENATE($C$4,".",$D$4,".",$E$4,".",$F$4) -> 255.255.255.224 | F20: =CONCATENATE($C$3,".",$D$3,".",$E$3,".",$F$3+1) -> 10.137.238.225 | H20: 00-80-63-C3-32-0B | I20: Node Xarxa 36 | J20: =CONCATENATE(A20,".",B20) -> 10.137.238.232 | K20: =C20 -> 255.255.255.224 | L20: =F20 -> 10.137.238.225 | M20: =H20 -> 00-80-63-C3-32-0B | N20: =$C$10 -> 12
A21: =CONCATENATE($C$3,".",$D$3,".",$E$3) -> 10.137.238 | B21: =B20+1 -> 233 | C21: =CONCATENATE($C$4,".",$D$4,".",$E$4,".",$F$4) -> 255.255.255.224 | F21: =CONCATENATE($C$3,".",$D$3,".",$E$3,".",$F$3+1) -> 10.137.238.225 | H21: 00-80-63-C3-32-0B | I21: Node Xarxa 37 | J21: =CONCATENATE(A21,".",B21) -> 10.137.238.233 | K21: =C21 -> 255.255.255.224 | L21: =F21 -> 10.137.238.225 | M21: =H21 -> 00-80-63-C3-32-0B | N21: =$C$10 -> 12
A22: =CONCATENATE($C$3,".",$D$3,".",$E$3) -> 10.137.238 | B22: =B21+1 -> 234 | C22: =CONCATENATE($C$4,".",$D$4,".",$E$4,".",$F$4) -> 255.255.255.224 | F22: =CONCATENATE($C$3,".",$D$3,".",$E$3,".",$F$3+1) -> 10.137.238.225 | H22: 00-80-63-C3-31-5B | I22: Node Xarxa 38 | J22: =CONCATENATE(A22,".",B22) -> 10.137.238.234 | K22: =C22 -> 255.255.255.224 | L22: =F22 -> 10.137.238.225 | M22: =H22 -> 00-80-63-C3-31-5B | N22: =$C$10 -> 12
A23: =CONCATENATE($C$3,".",$D$3,".",$E$3) -> 10.137.238 | B23: =B22+1 -> 235 | C23: =CONCATENATE($C$4,".",$D$4,".",$E$4,".",$F$4) -> 255.255.255.224 | F23: =CONCATENATE($C$3,".",$D$3,".",$E$3,".",$F$3+1) -> 10.137.238.225 | H23: 00-80-63-C3-30-C1 | I23: Node Xarxa 39 | J23: =CONCATENATE(A23,".",B23) -> 10.137.238.235 | K23: =C23 -> 255.255.255.224 | L23: =F23 -> 10.137.238.225 | M23: =H23 -> 00-80-63-C3-30-C1 | N23: =$C$10 -> 12
A24: =CONCATENATE($C$3,".",$D$3,".",$E$3) -> 10.137.238 | B24: =B23+1 -> 236 | C24: =CONCATENATE($C$4,".",$D$4,".",$E$4,".",$F$4) -> 255.255.255.224 | F24: =CONCATENATE($C$3,".",$D$3,".",$E$3,".",$F$3+1) -> 10.137.238.225 | H24: 00-80-63-C3-31-F5 | I24: Node Xarxa 40 | J24: =CONCATENATE(A24,".",B24) -> 10.137.238.236 | K24: =C24 -> 255.255.255.224 | L24: =F24 -> 10.137.238.225 | M24: =H24 -> 00-80-63-C3-31-F5 | N24: =$C$10 -> 12
A25: =CONCATENATE($C$3,".",$D$3,".",$E$3) -> 10.137.238 | B25: =B24+1 -> 237 | C25: =CONCATENATE($C$4,".",$D$4,".",$E$4,".",$F$4) -> 255.255.255.224 | F25: =CONCATENATE($C$3,".",$D$3,".",$E$3,".",$F$3+1) -> 10.137.238.225 | H25: 00-80-63-C3-31-71 | I25: Node Xarxa 41 | J25: =CONCATENATE(A25,".",B25) -> 10.137.238.237 | K25: =C25 -> 255.255.255.224 | L25: =F25 -> 10.137.238.225 | M25: =H25 -> 00-80-63-C3-31-71 | N25: =$C$10 -> 12
A26: =CONCATENATE($C$3,".",$D$3,".",$E$3) -> 10.137.238 | B26: =B25+1 -> 238 | C26: =CONCATENATE($C$4,".",$D$4,".",$E$4,".",$F$4) -> 255.255.255.224 | F26: =CONCATENATE($C$3,".",$D$3,".",$E$3,".",$F$3+1) -> 10.137.238.225 | H26: 00-80-63-C3-31-9D | I26: Node Xarxa 42 | J26: =CONCATENATE(A26,".",B26) -> 10.137.238.238 | K26: =C26 -> 255.255.255.224 | L26: =F26 -> 10.137.238.225 | M26: =H26 -> 00-80-63-C3-31-9D | N26: =$C$10 -> 12
A27: =CONCATENATE($C$3,".",$D$3,".",$E$3) -> 10.137.238 | B27: =B26+1 -> 239 | C27: =CONCATENATE($C$4,".",$D$4,".",$E$4,".",$F$4) -> 255.255.255.224 | F27: =CONCATENATE($C$3,".",$D$3,".",$E$3,".",$F$3+1) -> 10.137.238.225 | H27: 00-80-63-C3-30-D7 | I27: Node Xarxa 43 | J27: =CONCATENATE(A27,".",B27) -> 10.137.238.239 | K27: =C27 -> 255.255.255.224 | L27: =F27 -> 10.137.238.225 | M27: =H27 -> 00-80-63-C3-30-D7 | N27: =$C$10 -> 12
A28: =CONCATENATE($C$3,".",$D$3,".",$E$3) -> 10.137.238 | B28: =B27+1 -> 240 | C28: =CONCATENATE($C$4,".",$D$4,".",$E$4,".",$F$4) -> 255.255.255.224 | F28: =CONCATENATE($C$3,".",$D$3,".",$E$3,".",$F$3+1) -> 10.137.238.225 | H28: 00-80-63-B6-35-9E | I28: Node Xarxa 44 | J28: =CONCATENATE(A28,".",B28) -> 10.137.238.240 | K28: =C28 -> 255.255.255.224 | L28: =F28 -> 10.137.238.225 | M28: =H28 -> 00-80-63-B6-35-9E | N28: =$C$10 -> 12
A29: =CONCATENATE($C$3,".",$D$3,".",$E$3) -> 10.137.238 | B29: =B28+1 -> 241 | C29: =CONCATENATE($C$4,".",$D$4,".",$E$4,".",$F$4) -> 255.255.255.224 | F29: =CONCATENATE($C$3,".",$D$3,".",$E$3,".",$F$3+1) -> 10.137.238.225 | H29: - | J29: =CONCATENATE(A29,".",B29) -> 10.137.238.241 | K29: =C29 -> 255.255.255.224 | L29: =F29 -> 10.137.238.225 | M29: =H29 -> - | N29: =$C$10 -> 12
A30: =CONCATENATE($C$3,".",$D$3,".",$E$3) -> 10.137.238 | B30: =B29+1 -> 242 | C30: =CONCATENATE($C$4,".",$D$4,".",$E$4,".",$F$4) -> 255.255.255.224 | F30: =CONCATENATE($C$3,".",$D$3,".",$E$3,".",$F$3+1) -> 10.137.238.225 | H30: - | J30: =CONCATENATE(A30,".",B30) -> 10.137.238.242 | K30: =C30 -> 255.255.255.224 | L30: =F30 -> 10.137.238.225 | M30: =H30 -> - | N30: =$C$10 -> 12
A31: =CONCATENATE($C$3,".",$D$3,".",$E$3) -> 10.137.238 | B31: =B30+1 -> 243 | C31: =CONCATENATE($C$4,".",$D$4,".",$E$4,".",$F$4) -> 255.255.255.224 | F31: =CONCATENATE($C$3,".",$D$3,".",$E$3,".",$F$3+1) -> 10.137.238.225 | H31: - | J31: =CONCATENATE(A31,".",B31) -> 10.137.238.243 | K31: =C31 -> 255.255.255.224 | L31: =F31 -> 10.137.238.225 | M31: =H31 -> - | N31: =$C$10 -> 12
A32: =CONCATENATE($C$3,".",$D$3,".",$E$3) -> 10.137.238 | B32: =B31+1 -> 244 | C32: =CONCATENATE($C$4,".",$D$4,".",$E$4,".",$F$4) -> 255.255.255.224 | F32: =CONCATENATE($C$3,".",$D$3,".",$E$3,".",$F$3+1) -> 10.137.238.225 | H32: - | J32: =CONCATENATE(A32,".",B32) -> 10.137.238.244 | K32: =C32 -> 255.255.255.224 | L32: =F32 -> 10.137.238.225 | M32: =H32 -> - | N32: =$C$10 -> 12
A33: =CONCATENATE($C$3,".",$D$3,".",$E$3) -> 10.137.238 | B33: =B32+1 -> 245 | C33: =CONCATENATE($C$4,".",$D$4,".",$E$4,".",$F$4) -> 255.255.255.224 | F33: =CONCATENATE($C$3,".",$D$3,".",$E$3,".",$F$3+1) -> 10.137.238.225 | H33: - | J33: =CONCATENATE(A33,".",B33) -> 10.137.238.245 | K33: =C33 -> 255.255.255.224 | L33: =F33 -> 10.137.238.225 | M33: =H33 -> - | N33: =$C$10 -> 12
A34: =CONCATENATE($C$3,".",$D$3,".",$E$3) -> 10.137.238 | B34: =B33+1 -> 246 | C34: =CONCATENATE($C$4,".",$D$4,".",$E$4,".",$F$4) -> 255.255.255.224 | F34: =CONCATENATE($C$3,".",$D$3,".",$E$3,".",$F$3+1) -> 10.137.238.225 | H34: - | J34: =CONCATENATE(A34,".",B34) -> 10.137.238.246 | K34: =C34 -> 255.255.255.224 | L34: =F34 -> 10.137.238.225 | M34: =H34 -> - | N34: =$C$10 -> 12
A35: =CONCATENATE($C$3,".",$D$3,".",$E$3) -> 10.137.238 | B35: =B34+1 -> 247 | C35: =CONCATENATE($C$4,".",$D$4,".",$E$4,".",$F$4) -> 255.255.255.224 | F35: =CONCATENATE($C$3,".",$D$3,".",$E$3,".",$F$3+1) -> 10.137.238.225 | H35: - | J35: =CONCATENATE(A35,".",B35) -> 10.137.238.247 | K35: =C35 -> 255.255.255.224 | L35: =F35 -> 10.137.238.225 | M35: =H35 -> - | N35: =$C$10 -> 12
A36: =CONCATENATE($C$3,".",$D$3,".",$E$3) -> 10.137.238 | B36: =B35+1 -> 248 | C36: =CONCATENATE($C$4,".",$D$4,".",$E$4,".",$F$4) -> 255.255.255.224 | F36: =CONCATENATE($C$3,".",$D$3,".",$E$3,".",$F$3+1) -> 10.137.238.225 | H36: - | J36: =CONCATENATE(A36,".",B36) -> 10.137.238.248 | K36: =C36 -> 255.255.255.224 | L36: =F36 -> 10.137.238.225 | M36: =H36 -> - | N36: =$C$10 -> 12
A37: =CONCATENATE($C$3,".",$D$3,".",$E$3) -> 10.137.238 | B37: =B36+1 -> 249 | C37: =CONCATENATE($C$4,".",$D$4,".",$E$4,".",$F$4) -> 255.255.255.224 | F37: =CONCATENATE($C$3,".",$D$3,".",$E$3,".",$F$3+1) -> 10.137.238.225 | H37: - | J37: =CONCATENATE(A37,".",B37) -> 10.137.238.249 | K37: =C37 -> 255.255.255.224 | L37: =F37 -> 10.137.238.225 | M37: =H37 -> - | N37: =$C$10 -> 12
A38: =CONCATENATE($C$3,".",$D$3,".",$E$3) -> 10.137.238 | B38: =B37+1 -> 250 | C38: =CONCATENATE($C$4,".",$D$4,".",$E$4,".",$F$4) -> 255.255.255.224 | F38: =CONCATENATE($C$3,".",$D$3,".",$E$3,".",$F$3+1) -> 10.137.238.225 | H38: - | J38: =CONCATENATE(A38,".",B38) -> 10.137.238.250 | K38: =C38 -> 255.255.255.224 | L38: =F38 -> 10.137.238.225 | M38: =H38 -> - | N38: =$C$10 -> 12
A39: =CONCATENATE($C$3,".",$D$3,".",$E$3) -> 10.137.238 | B39: =B38+1 -> 251 | C39: =CONCATENATE($C$4,".",$D$4,".",$E$4,".",$F$4) -> 255.255.255.224 | F39: =CONCATENATE($C$3,".",$D$3,".",$E$3,".",$F$3+1) -> 10.137.238.225 | H39: - | J39: =CONCATENATE(A39,".",B39) -> 10.137.238.251 | K39: =C39 -> 255.255.255.224 | L39: =F39 -> 10.137.238.225 | M39: =H39 -> - | N39: =$C$10 -> 12
A40: =CONCATENATE($C$3,".",$D$3,".",$E$3) -> 10.137.238 | B40: =B39+1 -> 252 | C40: =CONCATENATE($C$4,".",$D$4,".",$E$4,".",$F$4) -> 255.255.255.224 | F40: =CONCATENATE($C$3,".",$D$3,".",$E$3,".",$F$3+1) -> 10.137.238.225 | H40: - | J40: =CONCATENATE(A40,".",B40) -> 10.137.238.252 | K40: =C40 -> 255.255.255.224 | L40: =F40 -> 10.137.238.225 | M40: =H40 -> - | N40: =$C$10 -> 12
A41: =CONCATENATE($C$3,".",$D$3,".",$E$3) -> 10.137.238 | B41: =B40+1 -> 253 | C41: =CONCATENATE($C$4,".",$D$4,".",$E$4,".",$F$4) -> 255.255.255.224 | F41: =CONCATENATE($C$3,".",$D$3,".",$E$3,".",$F$3+1) -> 10.137.238.225 | H41: - | J41: =CONCATENATE(A41,".",B41) -> 10.137.238.253 | K41: =C41 -> 255.255.255.224 | L41: =F41 -> 10.137.238.225 | M41: =H41 -> - | N41: =$C$10 -> 12

Sheet Dades 1
A1: CANAL DADES-1 | I1: =Xarxa!I1 -> C-31 (D)
A3: Network | C3: 10 | D3: 137 | E3: 238 | F3: 192
A4: Netmask | C4: 255 | D4: 255 | E4: 255 | F4: 224
A5: Wildcard | C5: 0 | D5: 0 | E5: 0 | F5: =256-F4-1 -> 31
A6: HostMin | C6: =C3 -> 10 | D6: =D3 -> 137 | E6: =E3 -> 238 | F6: =F3+1 -> 193
A7: HostMax | C7: =C3 -> 10 | D7: =D3 -> 137 | E7: =E3 -> 238 | F7: =F3+F5-2 -> 221
A8: Broadcast | C8: =C3 -> 10 | D8: =D3 -> 137 | E8: =E3 -> 238 | F8: =F3+F5-1 -> 222
A9: Hosts | C9: =F5-2 -> 29
A10: VLAN | C10: 22
A12: IP | C12: MASK | F12: GATEWAY | G12: MASK | H12: MAC | I12: DESCRIPTION
A13: =CONCATENATE($C$3,".",$D$3,".",$E$3) -> 10.137.238 | B13: =F6 -> 193 | C13: =CONCATENATE($C$4,".",$D$4,".",$E$4,".",$F$4) -> 255.255.255.224 | F13: =CONCATENATE($C$3,".",$D$3,".",$E$3,".",$F$3+1) -> 10.137.238.193 | H13: - | I13: Gateway | J13: =CONCATENATE(A13,".",B13) -> 10.137.238.193 | K13: =C13 -> 255.255.255.224 | L13: =F13 -> 10.137.238.193 | M13: =H13 -> - | N13: =$C$10 -> 22
A14: =CONCATENATE($C$3,".",$D$3,".",$E$3) -> 10.137.238 | B14: =B13+1 -> 194 | C14: =CONCATENATE($C$4,".",$D$4,".",$E$4,".",$F$4) -> 255.255.255.224 | F14: =CONCATENATE($C$3,".",$D$3,".",$E$3,".",$F$3+1) -> 10.137.238.193 | H14: - | J14: =CONCATENATE(A14,".",B14) -> 10.137.238.194 | K14: =C14 -> 255.255.255.224 | L14: =F14 -> 10.137.238.193 | M14: =H14 -> - | N14: =$C$10 -> 22
A15: =CONCATENATE($C$3,".",$D$3,".",$E$3) -> 10.137.238 | B15: =B14+1 -> 195 | C15: =CONCATENATE($C$4,".",$D$4,".",$E$4,".",$F$4) -> 255.255.255.224 | F15: =CONCATENATE($C$3,".",$D$3,".",$E$3,".",$F$3+1) -> 10.137.238.193 | H15: - | J15: =CONCATENATE(A15,".",B15) -> 10.137.238.195 | K15: =C15 -> 255.255.255.224 | L15: =F15 -> 10.137.238.193 | M15: =H15 -> - | N15: =$C$10 -> 22
A16: =CONCATENATE($C$3,".",$D$3,".",$E$3) -> 10.137.238 | B16: =B15+1 -> 196 | C16: =CONCATENATE($C$4,".",$D$4,".",$E$4,".",$F$4) -> 255.255.255.224 | F16: =CONCATENATE($C$3,".",$D$3,".",$E$3,".",$F$3+1) -> 10.137.238.193 | H16: - | J16: =CONCATENATE(A16,".",B16) -> 10.137.238.196 | K16: =C16 -> 255.255.255.224 | L16: =F16 -> 10.137.238.193 | M16: =H16 -> - | N16: =$C$10 -> 22
A17: =CONCATENATE($C$3,".",$D$3,".",$E$3) -> 10.137.238 | B17: =B16+1 -> 197 | C17: =CONCATENATE($C$4,".",$D$4,".",$E$4,".",$F$4) -> 255.255.255.224 | F17: =CONCATENATE($C$3,".",$D$3,".",$E$3,".",$F$3+1) -> 10.137.238.193 | H17: - | J17: =CONCATENATE(A17,".",B17) -> 10.137.238.197 | K17: =C17 -> 255.255.255.224 | L17: =F17 -> 10.137.238.193 | M17: =H17 -> - | N17: =$C$10 -> 22
A18: =CONCATENATE($C$3,".",$D$3,".",$E$3) -> 10.137.238 | B18: =B17+1 -> 198 | C18: =CONCATENATE($C$4,".",$D$4,".",$E$4,".",$F$4) -> 255.255.255.224 | F18: =CONCATENATE($C$3,".",$D$3,".",$E$3,".",$F$3+1) -> 10.137.238.193 | H18: - | J18: =CONCATENATE(A18,".",B18) -> 10.137.238.198 | K18: =C18 -> 255.255.255.224 | L18: =F18 -> 10.137.238.193 | M18: =H18 -> - | N18: =$C$10 -> 22
A19: =CONCATENATE($C$3,".",$D$3,".",$E$3) -> 10.137.238 | B19: =B18+1 -> 199 | C19: =CONCATENATE($C$4,".",$D$4,".",$E$4,".",$F$4) -> 255.255.255.224 | F19: =CONCATENATE($C$3,".",$D$3,".",$E$3,".",$F$3+1) -> 10.137.238.193 | H19: - | J19: =CONCATENATE(A19,".",B19) -> 10.137.238.199 | K19: =C19 -> 255.255.255.224 | L19: =F19 -> 10.137.238.193 | M19: =H19 -> - | N19: =$C$10 -> 22
A20: =CONCATENATE($C$3,".",$D$3,".",$E$3) -> 10.137.238 | B20: =B19+1 -> 200 | C20: =CONCATENATE($C$4,".",$D$4,".",$E$4,".",$F$4) -> 255.255.255.224 | F20: =CONCATENATE($C$3,".",$D$3,".",$E$3,".",$F$3+1) -> 10.137.238.193 | H20: - | J20: =CONCATENATE(A20,".",B20) -> 10.137.238.200 | K20: =C20 -> 255.255.255.224 | L20: =F20 -> 10.137.238.193 | M20: =H20 -> - | N20: =$C$10 -> 22
A21: =CONCATENATE($C$3,".",$D$3,".",$E$3) -> 10.137.238 | B21: =B20+1 -> 201 | C21: =CONCATENATE($C$4,".",$D$4,".",$E$4,".",$F$4) -> 255.255.255.224 | F21: =CONCATENATE($C$3,".",$D$3,".",$E$3,".",$F$3+1) -> 10.137.238.193 | H21: - | J21: =CONCATENATE(A21,".",B21) -> 10.137.238.201 | K21: =C21 -> 255.255.255.224 | L21: =F21 -> 10.137.238.193 | M21: =H21 -> - | N21: =$C$10 -> 22
A22: =CONCATENATE($C$3,".",$D$3,".",$E$3) -> 10.137.238 | B22: =B21+1 -> 202 | C22: =CONCATENATE($C$4,".",$D$4,".",$E$4,".",$F$4) -> 255.255.255.224 | F22: =CONCATENATE($C$3,".",$D$3,".",$E$3,".",$F$3+1) -> 10.137.238.193 | H22: - | J22: =CONCATENATE(A22,".",B22) -> 10.137.238.202 | K22: =C22 -> 255.255.255.224 | L22: =F22 -> 10.137.238.193 | M22: =H22 -> - | N22: =$C$10 -> 22
A23: =CONCATENATE($C$3,".",$D$3,".",$E$3) -> 10.137.238 | B23: =B22+1 -> 203 | C23: =CONCATENATE($C$4,".",$D$4,".",$E$4,".",$F$4) -> 255.255.255.224 | F23: =CONCATENATE($C$3,".",$D$3,".",$E$3,".",$F$3+1) -> 10.137.238.193 | H23: - | J23: =CONCATENATE(A23,".",B23) -> 10.137.238.203 | K23: =C23 -> 255.255.255.224 | L23: =F23 -> 10.137.238.193 | M23: =H23 -> - | N23: =$C$10 -> 22
A24: =CONCATENATE($C$3,".",$D$3,".",$E$3) -> 10.137.238 | B24: =B23+1 -> 204 | C24: =CONCATENATE($C$4,".",$D$4,".",$E$4,".",$F$4) -> 255.255.255.224 | F24: =CONCATENATE($C$3,".",$D$3,".",$E$3,".",$F$3+1) -> 10.137.238.193 | H24: 00-04-76-E3-4A-27 | I24: Eru 31 principal | J24: =CONCATENATE(A24,".",B24) -> 10.137.238.204 | K24: =C24 -> 255.255.255.224 | L24: =F24 -> 10.137.238.193 | M24: =H24 -> 00-04-76-E3-4A-27 | N24: =$C$10 -> 22
A25: =CONCATENATE($C$3,".",$D$3,".",$E$3) -> 10.137.238 | B25: =B24+1 -> 205 | C25: =CONCATENATE($C$4,".",$D$4,".",$E$4,".",$F$4) -> 255.255.255.224 | F25: =CONCATENATE($C$3,".",$D$3,".",$E$3,".",$F$3+1) -> 10.137.238.193 | H25: 00-04-76-E9-42-D1 | I25: Eru 32 principal | J25: =CONCATENATE(A25,".",B25) -> 10.137.238.205 | K25: =C25 -> 255.255.255.224 | L25: =F25 -> 10.137.238.193 | M25: =H25 -> 00-04-76-E9-42-D1 | N25: =$C$10 -> 22
A26: =CONCATENATE($C$3,".",$D$3,".",$E$3) -> 10.137.238 | B26: =B25+1 -> 206 | C26: =CONCATENATE($C$4,".",$D$4,".",$E$4,".",$F$4) -> 255.255.255.224 | F26: =CONCATENATE($C$3,".",$D$3,".",$E$3,".",$F$3+1) -> 10.137.238.193 | H26: 00-04-76-E9-4A-B3 | I26: Eru 33 principal | J26: =CONCATENATE(A26,".",B26) -> 10.137.238.206 | K26: =C26 -> 255.255.255.224 | L26: =F26 -> 10.137.238.193 | M26: =H26 -> 00-04-76-E9-4A-B3 | N26: =$C$10 -> 22
A27: =CONCATENATE($C$3,".",$D$3,".",$E$3) -> 10.137.238 | B27: =B26+1 -> 207 | C27: =CONCATENATE($C$4,".",$D$4,".",$E$4,".",$F$4) -> 255.255.255.224 | F27: =CONCATENATE($C$3,".",$D$3,".",$E$3,".",$F$3+1) -> 10.137.238.193 | H27: 00-04-76-E9-4C-4A | I27: Eru 34 principal | J27: =CONCATENATE(A27,".",B27) -> 10.137.238.207 | K27: =C27 -> 255.255.255.224 | L27: =F27 -> 10.137.238.193 | M27: =H27 -> 00-04-76-E9-4C-4A | N27: =$C$10 -> 22
A28: =CONCATENATE($C$3,".",$D$3,".",$E$3) -> 10.137.238 | B28: =B27+1 -> 208 | C28: =CONCATENATE($C$4,".",$D$4,".",$E$4,".",$F$4) -> 255.255.255.224 | F28: =CONCATENATE($C$3,".",$D$3,".",$E$3,".",$F$3+1) -> 10.137.238.193 | H28: 00-04-76-E9-4A-B0 | I28: Eru 35 principal | J28: =CONCATENATE(A28,".",B28) -> 10.137.238.208 | K28: =C28 -> 255.255.255.224 | L28: =F28 -> 10.137.238.193 | M28: =H28 -> 00-04-76-E9-4A-B0 | N28: =$C$10 -> 22
A29: =CONCATENATE($C$3,".",$D$3,".",$E$3) -> 10.137.238 | B29: =B28+1 -> 209 | C29: =CONCATENATE($C$4,".",$D$4,".",$E$4,".",$F$4) -> 255.255.255.224 | F29: =CONCATENATE($C$3,".",$D$3,".",$E$3,".",$F$3+1) -> 10.137.238.193 | H29: 00-04-76-E9-4E-81 | I29: Eru 36 principal | J29: =CONCATENATE(A29,".",B29) -> 10.137.238.209 | K29: =C29 -> 255.255.255.224 | L29: =F29 -> 10.137.238.193 | M29: =H29 -> 00-04-76-E9-4E-81 | N29: =$C$10 -> 22
A30: =CONCATENATE($C$3,".",$D$3,".",$E$3) -> 10.137.238 | B30: =B29+1 -> 210 | C30: =CONCATENATE($C$4,".",$D$4,".",$E$4,".",$F$4) -> 255.255.255.224 | F30: =CONCATENATE($C$3,".",$D$3,".",$E$3,".",$F$3+1) -> 10.137.238.193 | H30: 00-04-76-E9-42-14 | I30: Eru 37 principal | J30: =CONCATENATE(A30,".",B30) -> 10.137.238.210 | K30: =C30 -> 255.255.255.224 | L30: =F30 -> 10.137.238.193 | M30: =H30 -> 00-04-76-E9-42-14 | N30: =$C$10 -> 22
A31: =CONCATENATE($C$3,".",$D$3,".",$E$3) -> 10.137.238 | B31: =B30+1 -> 211 | C31: =CONCATENATE($C$4,".",$D$4,".",$E$4,".",$F$4) -> 255.255.255.224 | F31: =CONCATENATE($C$3,".",$D$3,".",$E$3,".",$F$3+1) -> 10.137.238.193 | H31: 00-04-76-E3-4C-0F | I31: Eru 38 principal | J31: =CONCATENATE(A31,".",B31) -> 10.137.238.211 | K31: =C31 -> 255.255.255.224 | L31: =F31 -> 10.137.238.193 | M31: =H31 -> 00-04-76-E3-4C-0F | N31: =$C$10 -> 22
A32: =CONCATENATE($C$3,".",$D$3,".",$E$3) -> 10.137.238 | B32: =B31+1 -> 212 | C32: =CONCATENATE($C$4,".",$D$4,".",$E$4,".",$F$4) -> 255.255.255.224 | F32: =CONCATENATE($C$3,".",$D$3,".",$E$3,".",$F$3+1) -> 10.137.238.193 | H32: 00-04-76-E9-43-35 | I32: Eru 39 principal | J32: =CONCATENATE(A32,".",B32) -> 10.137.238.212 | K32: =C32 -> 255.255.255.224 | L32: =F32 -> 10.137.238.193 | M32: =H32 -> 00-04-76-E9-43-35 | N32: =$C$10 -> 22
A33: =CONCATENATE($C$3,".",$D$3,".",$E$3) -> 10.137.238 | B33: =B32+1 -> 213 | C33: =CONCATENATE($C$4,".",$D$4,".",$E$4,".",$F$4) -> 255.255.255.224 | F33: =CONCATENATE($C$3,".",$D$3,".",$E$3,".",$F$3+1) -> 10.137.238.193 | H33: 00-04-76-E9-4C-6B | I33: Eru 40 principal | J33: =CONCATENATE(A33,".",B33) -> 10.137.238.213 | K33: =C33 -> 255.255.255.224 | L33: =F33 -> 10.137.238.193 | M33: =H33 -> 00-04-76-E9-4C-6B | N33: =$C$10 -> 22
A34: =CONCATENATE($C$3,".",$D$3,".",$E$3) -> 10.137.238 | B34: =B33+1 -> 214 | C34: =CONCATENATE($C$4,".",$D$4,".",$E$4,".",$F$4) -> 255.255.255.224 | F34: =CONCATENATE($C$3,".",$D$3,".",$E$3,".",$F$3+1) -> 10.137.238.193 | H34: 00-04-76-E9-4C-53 | I34: Eru 41 principal | J34: =CONCATENATE(A34,".",B34) -> 10.137.238.214 | K34: =C34 -> 255.255.255.224 | L34: =F34 -> 10.137.238.193 | M34: =H34 -> 00-04-76-E9-4C-53 | N34: =$C$10 -> 22
A35: =CONCATENATE($C$3,".",$D$3,".",$E$3) -> 10.137.238 | B35: =B34+1 -> 215 | C35: =CONCATENATE($C$4,".",$D$4,".",$E$4,".",$F$4) -> 255.255.255.224 | F35: =CONCATENATE($C$3,".",$D$3,".",$E$3,".",$F$3+1) -> 10.137.238.193 | H35: 00-04-76-E9-43-32 | I35: Eru 42 principal | J35: =CONCATENATE(A35,".",B35) -> 10.137.238.215 | K35: =C35 -> 255.255.255.224 | L35: =F35 -> 10.137.238.193 | M35: =H35 -> 00-04-76-E9-43-32 | N35: =$C$10 -> 22
... A37: =CONCATENATE($C$3,".",$D$3,".",$E$3) -> 10.137.238 | B37: =B36+1 -> 217 | C37: =CONCATENATE($C$4,".",$D$4,".",$E$4,".",$F$4) -> 255.255.255.224 | F37: =CONCATENATE($C$3,".",$D$3,".",$E$3,".",$F$3+1) -> 10.137.238.193 | H37: 00-04-76-E9-42-12 | I37: Eru 44 principal | J37: =CONCATENATE(A37,".",B37) -> 10.137.238.217 | K37: =C37 -> 255.255.255.224 | L37: =F37 -> 10.137.238.193 | M37: =H37 -> 00-04-76-E9-42-12 | N37: =$C$10 -> 22
A38: =CONCATENATE($C$3,".",$D$3,".",$E$3) -> 10.137.238 | B38: =B37+1 -> 218 | C38: =CONCATENATE($C$4,".",$D$4,".",$E$4,".",$F$4) -> 255.255.255.224 | F38: =CONCATENATE($C$3,".",$D$3,".",$E$3,".",$F$3+1) -> 10.137.238.193 | H38: - | J38: =CONCATENATE(A38,".",B38) -> 10.137.238.218 | K38: =C38 -> 255.255.255.224 | L38: =F38 -> 10.137.238.193 | M38: =H38 -> - | N38: =$C$10 -> 22
A39: =CONCATENATE($C$3,".",$D$3,".",$E$3) -> 10.137.238 | B39: =B38+1 -> 219 | C39: =CONCATENATE($C$4,".",$D$4,".",$E$4,".",$F$4) -> 255.255.255.224 | F39: =CONCATENATE($C$3,".",$D$3,".",$E$3,".",$F$3+1) -> 10.137.238.193 | H39: - | J39: =CONCATENATE(A39,".",B39) -> 10.137.238.219 | K39: =C39 -> 255.255.255.224 | L39: =F39 -> 10.137.238.193 | M39: =H39 -> - | N39: =$C$10 -> 22
A40: =CONCATENATE($C$3,".",$D$3,".",$E$3) -> 10.137.238 | B40: =B39+1 -> 220 | C40: =CONCATENATE($C$4,".",$D$4,".",$E$4,".",$F$4) -> 255.255.255.224 | F40: =CONCATENATE($C$3,".",$D$3,".",$E$3,".",$F$3+1) -> 10.137.238.193 | H40: - | J40: =CONCATENATE(A40,".",B40) -> 10.137.238.220 | K40: =C40 -> 255.255.255.224 | L40: =F40 -> 10.137.238.193 | M40: =H40 -> - | N40: =$C$10 -> 22
A41: =CONCATENATE($C$3,".",$D$3,".",$E$3) -> 10.137.238 | B41: =B40+1 -> 221 | C41: =CONCATENATE($C$4,".",$D$4,".",$E$4,".",$F$4) -> 255.255.255.224 | F41: =CONCATENATE($C$3,".",$D$3,".",$E$3,".",$F$3+1) -> 10.137.238.193 | H41: - | J41: =CONCATENATE(A41,".",B41) -> 10.137.238.221 | K41: =C41 -> 255.255.255.224 | L41: =F41 -> 10.137.238.193 | M41: =H41 -> - | N41: =$C$10 -> 22

Sheet TOT
A1: =I1 -> Node Xarxa 32 | B1: =Xarxa!A13 -> 10.137.238 | C1: =Xarxa!B13 -> 225 | D1: =Xarxa!C13 -> 255.255.255.224 | E1: =Xarxa!D13 -> 0 | F1: =Xarxa!E13 -> 0 | G1: =Xarxa!F13 -> 10.137.238.225 | H1: =Xarxa!G13 -> 0 | I1: =Xarxa!I16 -> Node Xarxa 32 | J1: =RIGHT(B1,LEN(B1)-7) -> 238
A2: =I2 -> Node Xarxa 33 | B2: =Xarxa!A14 -> 10.137.238 | C2: =Xarxa!B14 -> 226 | D2: =Xarxa!C14 -> 255.255.255.224 | E2: =Xarxa!D14 -> 0 | F2: =Xarxa!E14 -> 0 | G2: =Xarxa!F14 -> 10.137.238.225 | H2: =Xarxa!G14 -> 0 | I2: =Xarxa!I17 -> Node Xarxa 33 | J2: =RIGHT(B2,LEN(B2)-7) -> 238
A3: =I3 -> Node Xarxa 34 | B3: =Xarxa!A15 -> 10.137.238 | C3: =Xarxa!B15 -> 227 | D3: =Xarxa!C15 -> 255.255.255.224 | E3: =Xarxa!D15 -> 0 | F3: =Xarxa!E15 -> 0 | G3: =Xarxa!F15 -> 10.137.238.225 | H3: =Xarxa!G15 -> 0 | I3: =Xarxa!I18 -> Node Xarxa 34 | J3: =RIGHT(B3,LEN(B3)-7) -> 238
A4: =I4 -> Node Xarxa 35 | B4: =Xarxa!A16 -> 10.137.238 | C4: =Xarxa!B16 -> 228 | D4: =Xarxa!C16 -> 255.255.255.224 | E4: =Xarxa!D16 -> 0 | F4: =Xarxa!E16 -> 0 | G4: =Xarxa!F16 -> 10.137.238.225 | H4: =Xarxa!G16 -> 0 | I4: =Xarxa!I19 -> Node Xarxa 35 | J4: =RIGHT(B4,LEN(B4)-7) -> 238
A5: =I5 -> Node Xarxa 36 | B5: =Xarxa!A17 -> 10.137.238 | C5: =Xarxa!B17 -> 229 | D5: =Xarxa!C17 -> 255.255.255.224 | E5: =Xarxa!D17 -> 0 | F5: =Xarxa!E17 -> 0 | G5: =Xarxa!F17 -> 10.137.238.225 | H5: =Xarxa!G17 -> 0 | I5: =Xarxa!I20 -> Node Xarxa 36 | J5: =RIGHT(B5,LEN(B5)-7) -> 238
A6: =I6 -> Node Xarxa 37 | B6: =Xarxa!A18 -> 10.137.238 | C6: =Xarxa!B18 -> 230 | D6: =Xarxa!C18 -> 255.255.255.224 | E6: =Xarxa!D18 -> 0 | F6: =Xarxa!E18 -> 0 | G6: =Xarxa!F18 -> 10.137.238.225 | H6: =Xarxa!G18 -> 0 | I6: =Xarxa!I21 -> Node Xarxa 37 | J6: =RIGHT(B6,LEN(B6)-7) -> 238
A7: =I7 -> Node Xarxa 38 | B7: =Xarxa!A19 -> 10.137.238 | C7: =Xarxa!B19 -> 231 | D7: =Xarxa!C19 -> 255.255.255.224 | E7: =Xarxa!D19 -> 0 | F7: =Xarxa!E19 -> 0 | G7: =Xarxa!F19 -> 10.137.238.225 | H7: =Xarxa!G19 -> 0 | I7: =Xarxa!I22 -> Node Xarxa 38 | J7: =RIGHT(B7,LEN(B7)-7) -> 238
A8: =I8 -> Node Xarxa 39 | B8: =Xarxa!A20 -> 10.137.238 | C8: =Xarxa!B20 -> 232 | D8: =Xarxa!C20 -> 255.255.255.224 | E8: =Xarxa!D20 -> 0 | F8: =Xarxa!E20 -> 0 | G8: =Xarxa!F20 -> 10.137.238.225 | H8: =Xarxa!G20 -> 0 | I8: =Xarxa!I23 -> Node Xarxa 39 | J8: =RIGHT(B8,LEN(B8)-7) -> 238
A9: =I9 -> Node Xarxa 40 | B9: =Xarxa!A21 -> 10.137.238 | C9: =Xarxa!B21 -> 233 | D9: =Xarxa!C21 -> 255.255.255.224 | E9: =Xarxa!D21 -> 0 | F9: =Xarxa!E21 -> 0 | G9: =Xarxa!F21 -> 10.137.238.225 | H9: =Xarxa!G21 -> 0 | I9: =Xarxa!I24 -> Node Xarxa 40 | J9: =RIGHT(B9,LEN(B9)-7) -> 238
A10: =I10 -> #REF! | B10: =Xarxa!#REF! -> #REF! | C10: =Xarxa!#REF! -> #REF! | D10: =Xarxa!#REF! -> #REF! | E10: =Xarxa!#REF! -> #REF! | F10: =Xarxa!#REF! -> #REF! | G10: =Xarxa!#REF! -> #REF! | H10: =Xarxa!#REF! -> #REF! | I10: =Xarxa!#REF! -> #REF! | J10: =RIGHT(B10,LEN(B10)-7) -> #REF!
A11: =I11 -> #REF! | B11: =Xarxa!#REF! -> #REF! | C11: =Xarxa!#REF! -> #REF! | D11: =Xarxa!#REF! -> #REF! | E11: =Xarxa!#REF! -> #REF! | F11: =Xarxa!#REF! -> #REF! | G11: =Xarxa!#REF! -> #REF! | H11: =Xarxa!#REF! -> #REF! | I11: =Xarxa!#REF! -> #REF! | J11: =RIGHT(B11,LEN(B11)-7) -> #REF!
A12: =I12 -> #REF! | B12: =Xarxa!#REF! -> #REF! | C12: =Xarxa!#REF! -> #REF! | D12: =Xarxa!#REF! -> #REF! | E12: =Xarxa!#REF! -> #REF! | F12: =Xarxa!#REF! -> #REF! | G12: =Xarxa!#REF! -> #REF! | H12: =Xarxa!#REF! -> #REF! | I12: =Xarxa!#REF! -> #REF! | J12: =RIGHT(B12,LEN(B12)-7) -> #REF!
A13: =I13 -> #REF! | B13: =Xarxa!#REF! -> #REF! | C13: =Xarxa!#REF! -> #REF! | D13: =Xarxa!#REF! -> #REF! | E13: =Xarxa!#REF! -> #REF! | F13: =Xarxa!#REF! -> #REF! | G13: =Xarxa!#REF! -> #REF! | H13: =Xarxa!#REF! -> #REF! | I13: =Xarxa!#REF! -> #REF! | J13: =RIGHT(B13,LEN(B13)-7) -> #REF!
A14: =I14 -> #REF! | B14: =Xarxa!#REF! -> #REF! | C14: =Xarxa!#REF! -> #REF! | D14: =Xarxa!#REF! -> #REF! | E14: =Xarxa!#REF! -> #REF! | F14: =Xarxa!#REF! -> #REF! | G14: =Xarxa!#REF! -> #REF! | H14: =Xarxa!#REF! -> #REF! | I14: =Xarxa!#REF! -> #REF! | J14: =RIGHT(B14,LEN(B14)-7) -> #REF!
A15: =I15 -> Node Xarxa 41 | B15: =Xarxa!A22 -> 10.137.238 | C15: =Xarxa!B22 -> 234 | D15: =Xarxa!C22 -> 255.255.255.224 | E15: =Xarxa!D22 -> 0 | F15: =Xarxa!E22 -> 0 | G15: =Xarxa!F22 -> 10.137.238.225 | H15: =Xarxa!G22 -> 0 | I15: =Xarxa!I25 -> Node Xarxa 41 | J15: =RIGHT(B15,LEN(B15)-7) -> 238
A16: =I16 -> Node Xarxa 42 | B16: =Xarxa!A23 -> 10.137.238 | C16: =Xarxa!B23 -> 235 | D16: =Xarxa!C23 -> 255.255.255.224 | E16: =Xarxa!D23 -> 0 | F16: =Xarxa!E23 -> 0 | G16: =Xarxa!F23 -> 10.137.238.225 | H16: =Xarxa!G23 -> 0 | I16: =Xarxa!I26 -> Node Xarxa 42 | J16: =RIGHT(B16,LEN(B16)-7) -> 238
A17: =I17 -> #REF! | B17: =Xarxa!#REF! -> #REF! | C17: =Xarxa!#REF! -> #REF! | D17: =Xarxa!#REF! -> #REF! | E17: =Xarxa!#REF! -> #REF! | F17: =Xarxa!#REF! -> #REF! | G17: =Xarxa!#REF! -> #REF! | H17: =Xarxa!#REF! -> #REF! | I17: =Xarxa!#REF! -> #REF! | J17: =RIGHT(B17,LEN(B17)-7) -> #REF!
A18: =I18 -> #REF! | B18: =Xarxa!#REF! -> #REF! | C18: =Xarxa!#REF! -> #REF! | D18: =Xarxa!#REF! -> #REF! | E18: =Xarxa!#REF! -> #REF! | F18: =Xarxa!#REF! -> #REF! | G18: =Xarxa!#REF! -> #REF! | H18: =Xarxa!#REF! -> #REF! | I18: =Xarxa!#REF! -> #REF! | J18: =RIGHT(B18,LEN(B18)-7) -> #REF!
A19: =I19 -> #REF! | B19: =Xarxa!#REF! -> #REF! | C19: =Xarxa!#REF! -> #REF! | D19: =Xarxa!#REF! -> #REF! | E19: =Xarxa!#REF! -> #REF! | F19: =Xarxa!#REF! -> #REF! | G19: =Xarxa!#REF! -> #REF! | H19: =Xarxa!#REF! -> #REF! | I19: =Xarxa!#REF! -> #REF! | J19: =RIGHT(B19,LEN(B19)-7) -> #REF!
A20: =I20 -> #REF! | B20: =Xarxa!#REF! -> #REF! | C20: =Xarxa!#REF! -> #REF! | D20: =Xarxa!#REF! -> #REF! | E20: =Xarxa!#REF! -> #REF! | F20: =Xarxa!#REF! -> #REF! | G20: =Xarxa!#REF! -> #REF! | H20: =Xarxa!#REF! -> #REF! | I20: =Xarxa!#REF! -> #REF! | J20: =RIGHT(B20,LEN(B20)-7) -> #REF!
A21: =I21 -> #REF! | B21: =Xarxa!#REF! -> #REF! | C21: =Xarxa!#REF! -> #REF! | D21: =Xarxa!#REF! -> #REF! | E21: =Xarxa!#REF! -> #REF! | F21: =Xarxa!#REF! -> #REF! | G21: =Xarxa!#REF! -> #REF! | H21: =Xarxa!#REF! -> #REF! | I21: =Xarxa!#REF! -> #REF! | J21: =RIGHT(B21,LEN(B21)-7) -> #REF!
A22: =I22 -> #REF! | B22: =Xarxa!#REF! -> #REF! | C22: =Xarxa!#REF! -> #REF! | D22: =Xarxa!#REF! -> #REF! | E22: =Xarxa!#REF! -> #REF! | F22: =Xarxa!#REF! -> #REF! | G22: =Xarxa!#REF! -> #REF! | H22: =Xarxa!#REF! -> #REF! | I22: =Xarxa!#REF! -> #REF! | J22: =RIGHT(B22,LEN(B22)-7) -> #REF!
A23: =I23 -> #REF! | B23: =Xarxa!#REF! -> #REF! | C23: =Xarxa!#REF! -> #REF! | D23: =Xarxa!#REF! -> #REF! | E23: =Xarxa!#REF! -> #REF! | F23: =Xarxa!#REF! -> #REF! | G23: =Xarxa!#REF! -> #REF! | H23: =Xarxa!#REF! -> #REF! | I23: =Xarxa!#REF! -> #REF! | J23: =RIGHT(B23,LEN(B23)-7) -> #REF!
A24: =I24 -> #REF! | B24: =Xarxa!#REF! -> #REF! | C24: =Xarxa!#REF! -> #REF! | D24: =Xarxa!#REF! -> #REF! | E24: =Xarxa!#REF! -> #REF! | F24: =Xarxa!#REF! -> #REF! | G24: =Xarxa!#REF! -> #REF! | H24: =Xarxa!#REF! -> #REF! | I24: =Xarxa!#REF! -> #REF! | J24: =RIGHT(B24,LEN(B24)-7) -> #REF!
A25: =I25 -> #REF! | B25: =Xarxa!#REF! -> #REF! | C25: =Xarxa!#REF! -> #REF! | D25: =Xarxa!#REF! -> #REF! | E25: =Xarxa!#REF! -> #REF! | F25: =Xarxa!#REF! -> #REF! | G25: =Xarxa!#REF! -> #REF! | H25: =Xarxa!#REF! -> #REF! | I25: =Xarxa!#REF! -> #REF! | J25: =RIGHT(B25,LEN(B25)-7) -> #REF!
A26: =I26 -> #REF! | B26: =Xarxa!#REF! -> #REF! | C26: =Xarxa!#REF! -> #REF! | D26: =Xarxa!#REF! -> #REF! | E26: =Xarxa!#REF! -> #REF! | F26: =Xarxa!#REF! -> #REF! | G26: =Xarxa!#REF! -> #REF! | H26: =Xarxa!#REF! -> #REF! | I26: =Xarxa!#REF! -> #REF! | J26: =RIGHT(B26,LEN(B26)-7) -> #REF!
A27: =I27 -> #REF! | B27: =Xarxa!#REF! -> #REF! | C27: =Xarxa!#REF! -> #REF! | D27: =Xarxa!#REF! -> #REF! | E27: =Xarxa!#REF! -> #REF! | F27: =Xarxa!#REF! -> #REF! | G27: =Xarxa!#REF! -> #REF! | H27: =Xarxa!#REF! -> #REF! | I27: =Xarxa!#REF! -> #REF! | J27: =RIGHT(B27,LEN(B27)-7) -> #REF!
A28: =I28 -> #REF! | B28: =Xarxa!#REF! -> #REF! | C28: =Xarxa!#REF! -> #REF! | D28: =Xarxa!#REF! -> #REF! | E28: =Xarxa!#REF! -> #REF! | F28: =Xarxa!#REF! -> #REF! | G28: =Xarxa!#REF! -> #REF! | H28: =Xarxa!#REF! -> #REF! | I28: =Xarxa!#REF! -> #REF! | J28: =RIGHT(B28,LEN(B28)-7) -> #REF!
... A31: =I31 -> #REF! | B31: =Xarxa!#REF! -> #REF! | C31: =Xarxa!#REF! -> #REF! | D31: =Xarxa!#REF! -> #REF! | E31: =Xarxa!#REF! -> #REF! | F31: =Xarxa!#REF! -> #REF! | G31: =Xarxa!#REF! -> #REF! | H31: =Xarxa!#REF! -> #REF! | I31: =Xarxa!#REF! -> #REF! | J31: =RIGHT(B31,LEN(B31)-7) -> #REF!
A32: =I32 -> 0 | B32: =Xarxa!A42 -> 0 | C32: =Xarxa!B42 -> 0 | D32: =Xarxa!C42 -> 0 | E32: =Xarxa!D42 -> 0 | F32: =Xarxa!E42 -> 0 | G32: =Xarxa!F42 -> 0 | H32: =Xarxa!G42 -> 0 | I32: =Xarxa!I42 -> 0 | J32: =RIGHT(B32,LEN(B32)-7) -> #VALUE!
A33: =I33 -> 0 | B33: =Xarxa!A43 -> 0 | C33: =Xarxa!B43 -> 0 | D33: =Xarxa!C43 -> 0 | E33: =Xarxa!D43 -> 0 | F33: =Xarxa!E43 -> 0 | G33: =Xarxa!F43 -> 0 | H33: =Xarxa!G43 -> 0 | I33: =Xarxa!I43 -> 0 | J33: =RIGHT(B33,LEN(B33)-7) -> #VALUE!
A34: =I34 -> 0 | B34: =Xarxa!A44 -> 0 | C34: =Xarxa!B44 -> 0 | D34: =Xarxa!C44 -> 0 | E34: =Xarxa!D44 -> 0 | F34: =Xarxa!E44 -> 0 | G34: =Xarxa!F44 -> 0 | H34: =Xarxa!G44 -> 0 | I34: =Xarxa!I44 -> 0 | J34: =RIGHT(B34,LEN(B34)-7) -> #VALUE!
A35: =I35 -> 0 | B35: =Xarxa!A45 -> 0 | C35: =Xarxa!B45 -> 0 | D35: =Xarxa!C45 -> 0 | E35: =Xarxa!D45 -> 0 | F35: =Xarxa!E45 -> 0 | G35: =Xarxa!F45 -> 0 | H35: =Xarxa!G45 -> 0 | I35: =Xarxa!I45 -> 0 | J35: =RIGHT(B35,LEN(B35)-7) -> #VALUE!
A36: =I36 -> #REF! | B36: =#REF! -> #REF! | C36: =#REF! -> #REF! | D36: =#REF! -> #REF! | E36: =#REF! -> #REF! | F36: =#REF! -> #REF! | G36: =#REF! -> #REF! | H36: =#REF! -> #REF! | I36: =#REF! -> #REF! | J36: =RIGHT(B36,LEN(B36)-7) -> #REF!
A37: =I37 -> #REF! | B37: =#REF! -> #REF! | C37: =#REF! -> #REF! | D37: =#REF! -> #REF! | E37: =#REF! -> #REF! | F37: =#REF! -> #REF! | G37: =#REF! -> #REF! | H37: =#REF! -> #REF! | I37: =#REF! -> #REF! | J37: =RIGHT(B37,LEN(B37)-7) -> #REF!
A38: =I38 -> #REF! | B38: =#REF! -> #REF! | C38: =#REF! -> #REF! | D38: =#REF! -> #REF! | E38: =#REF! -> #REF! | F38: =#REF! -> #REF! | G38: =#REF! -> #REF! | H38: =#REF! -> #REF! | I38: =#REF! -> #REF! | J38: =RIGHT(B38,LEN(B38)-7) -> #REF!
A39: =I39 -> #REF! | B39: =#REF! -> #REF! | C39: =#REF! -> #REF! | D39: =#REF! -> #REF! | E39: =#REF! -> #REF! | F39: =#REF! -> #REF! | G39: =#REF! -> #REF! | H39: =#REF! -> #REF! | I39: =#REF! -> #REF! | J39: =RIGHT(B39,LEN(B39)-7) -> #REF!
A40: =I40 -> #REF! | B40: =#REF! -> #REF! | C40: =#REF! -> #REF! | D40: =#REF! -> #REF! | E40: =#REF! -> #REF! | F40: =#REF! -> #REF! | G40: =#REF! -> #REF! | H40: =#REF! -> #REF! | I40: =#REF! -> #REF! | J40: =RIGHT(B40,LEN(B40)-7) -> #REF!
A41: =I41 -> #REF! | B41: =#REF! -> #REF! | C41: =#REF! -> #REF! | D41: =#REF! -> #REF! | E41: =#REF! -> #REF! | F41: =#REF! -> #REF! | G41: =#REF! -> #REF! | H41: =#REF! -> #REF! | I41: =#REF! -> #REF! | J41: =RIGHT(B41,LEN(B41)-7) -> #REF!
A42: =I42 -> #REF! | B42: =#REF! -> #REF! | C42: =#REF! -> #REF! | D42: =#REF! -> #REF! | E42: =#REF! -> #REF! | F42: =#REF! -> #REF! | G42: =#REF! -> #REF! | H42: =#REF! -> #REF! | I42: =#REF! -> #REF! | J42: =RIGHT(B42,LEN(B42)-7) -> #REF!
A43: =I43 -> #REF! | B43: =#REF! -> #REF! | C43: =#REF! -> #REF! | D43: =#REF! -> #REF! | E43: =#REF! -> #REF! | F43: =#REF! -> #REF! | G43: =#REF! -> #REF! | H43: =#REF! -> #REF! | I43: =#REF! -> #REF! | J43: =RIGHT(B43,LEN(B43)-7) -> #REF!
A44: =I44 -> #REF! | B44: =#REF! -> #REF! | C44: =#REF! -> #REF! | D44: =#REF! -> #REF! | E44: =#REF! -> #REF! | F44: =#REF! -> #REF! | G44: =#REF! -> #REF! | H44: =#REF! -> #REF! | I44: =#REF! -> #REF! | J44: =RIGHT(B44,LEN(B44)-7) -> #REF!
A45: =I45 -> #REF! | B45: =#REF! -> #REF! | C45: =#REF! -> #REF! | D45: =#REF! -> #REF! | E45: =#REF! -> #REF! | F45: =#REF! -> #REF! | G45: =#REF! -> #REF! | H45: =#REF! -> #REF! | I45: =#REF! -> #REF! | J45: =RIGHT(B45,LEN(B45)-7) -> #REF!
A46: =I46 -> #REF! | B46: =#REF! -> #REF! | C46: =#REF! -> #REF! | D46: =#REF! -> #REF! | E46: =#REF! -> #REF! | F46: =#REF! -> #REF! | G46: =#REF! -> #REF! | H46: =#REF! -> #REF! | I46: =#REF! -> #REF! | J46: =RIGHT(B46,LEN(B46)-7) -> #REF!
A47: =I47 -> #REF! | B47: =#REF! -> #REF! | C47: =#REF! -> #REF! | D47: =#REF! -> #REF! | E47: =#REF! -> #REF! | F47: =#REF! -> #REF! | G47: =#REF! -> #REF! | H47: =#REF! -> #REF! | I47: =#REF! -> #REF! | J47: =RIGHT(B47,LEN(B47)-7) -> #REF!
... A313: =I313 -> #REF! | B313: =#REF! -> #REF! | C313: =#REF! -> #REF! | D313: =#REF! -> #REF! | E313: =#REF! -> #REF! | F313: =#REF! -> #REF! | G313: =#REF! -> #REF! | H313: =#REF! -> #REF! | I313: =#REF! -> #REF! | J313: =RIGHT(B313,LEN(B313)-7) -> #REF!
A314: =I314 -> Barix Capçalera | B314: =#REF! -> #REF! | C314: =#REF! -> #REF! | D314: =#REF! -> #REF! | E314: =#REF! -> #REF! | F314: =#REF! -> #REF! | G314: =#REF! -> #REF! | H314: =#REF! -> #REF! | I314: Barix Capçalera | J314: =RIGHT(B314,LEN(B314)-7) -> #REF!
A315: =I315 -> #REF! | B315: =#REF! -> #REF! | C315: =#REF! -> #REF! | D315: =#REF! -> #REF! | E315: =#REF! -> #REF! | F315: =#REF! -> #REF! | G315: =#REF! -> #REF! | H315: =#REF! -> #REF! | I315: =#REF! -> #REF! | J315: =RIGHT(B315,LEN(B315)-7) -> #REF!
A316: =I316 -> #REF! | B316: =#REF! -> #REF! | C316: =#REF! -> #REF! | D316: =#REF! -> #REF! | E316: =#REF! -> #REF! | F316: =#REF! -> #REF! | G316: =#REF! -> #REF! | H316: =#REF! -> #REF! | I316: =#REF! -> #REF! | J316: =RIGHT(B316,LEN(B316)-7) -> #REF!
A317: =I317 -> #REF! | B317: =#REF! -> #REF! | C317: =#REF! -> #REF! | D317: =#REF! -> #REF! | E317: =#REF! -> #REF! | F317: =#REF! -> #REF! | G317: =#REF! -> #REF! | H317: =#REF! -> #REF! | I317: =#REF! -> #REF! | J317: =RIGHT(B317,LEN(B317)-7) -> #REF!
A318: =I318 -> #REF! | B318: =#REF! -> #REF! | C318: =#REF! -> #REF! | D318: =#REF! -> #REF! | E318: =#REF! -> #REF! | F318: =#REF! -> #REF! | G318: =#REF! -> #REF! | H318: =#REF! -> #REF! | I318: =#REF! -> #REF! | J318: =RIGHT(B318,LEN(B318)-7) -> #REF!
A319: =I319 -> #REF! | B319: =#REF! -> #REF! | C319: =#REF! -> #REF! | D319: =#REF! -> #REF! | E319: =#REF! -> #REF! | F319: =#REF! -> #REF! | G319: =#REF! -> #REF! | H319: =#REF! -> #REF! | I319: =#REF! -> #REF! | J319: =RIGHT(B319,LEN(B319)-7) -> #REF!
A320: =I320 -> #REF! | B320: =#REF! -> #REF! | C320: =#REF! -> #REF! | D320: =#REF! -> #REF! | E320: =#REF! -> #REF! | F320: =#REF! -> #REF! | G320: =#REF! -> #REF! | H320: =#REF! -> #REF! | I320: =#REF! -> #REF! | J320: =RIGHT(B320,LEN(B320)-7) -> #REF!
A321: =I321 -> #REF! | B321: =#REF! -> #REF! | C321: =#REF! -> #REF! | D321: =#REF! -> #REF! | E321: =#REF! -> #REF! | F321: =#REF! -> #REF! | G321: =#REF! -> #REF! | H321: =#REF! -> #REF! | I321: =#REF! -> #REF! | J321: =RIGHT(B321,LEN(B321)-7) -> #REF!
A322: =I322 -> #REF! | B322: =#REF! -> #REF! | C322: =#REF! -> #REF! | D322: =#REF! -> #REF! | E322: =#REF! -> #REF! | F322: =#REF! -> #REF! | G322: =#REF! -> #REF! | H322: =#REF! -> #REF! | I322: =#REF! -> #REF! | J322: =RIGHT(B322,LEN(B322)-7) -> #REF!
A323: =I323 -> #REF! | B323: =#REF! -> #REF! | C323: =#REF! -> #REF! | D323: =#REF! -> #REF! | E323: =#REF! -> #REF! | F323: =#REF! -> #REF! | G323: =#REF! -> #REF! | H323: =#REF! -> #REF! | I323: =#REF! -> #REF! | J323: =RIGHT(B323,LEN(B323)-7) -> #REF!
A324: =I324 -> #REF! | B324: =#REF! -> #REF! | C324: =#REF! -> #REF! | D324: =#REF! -> #REF! | E324: =#REF! -> #REF! | F324: =#REF! -> #REF! | G324: =#REF! -> #REF! | H324: =#REF! -> #REF! | I324: =#REF! -> #REF! | J324: =RIGHT(B324,LEN(B324)-7) -> #REF!
A325: =I325 -> #REF! | B325: =#REF! -> #REF! | C325: =#REF! -> #REF! | D325: =#REF! -> #REF! | E325: =#REF! -> #REF! | F325: =#REF! -> #REF! | G325: =#REF! -> #REF! | H325: =#REF! -> #REF! | I325: =#REF! -> #REF! | J325: =RIGHT(B325,LEN(B325)-7) -> #REF!
A326: =I326 -> #REF! | B326: =#REF! -> #REF! | C326: =#REF! -> #REF! | D326: =#REF! -> #REF! | E326: =#REF! -> #REF! | F326: =#REF! -> #REF! | G326: =#REF! -> #REF! | H326: =#REF! -> #REF! | I326: =#REF! -> #REF! | J326: =RIGHT(B326,LEN(B326)-7) -> #REF!
... A422: =I422 -> #REF! | B422: =#REF! -> #REF! | C422: =#REF! -> #REF! | D422: =#REF! -> #REF! | E422: =#REF! -> #REF! | F422: =#REF! -> #REF! | G422: =#REF! -> #REF! | H422: =#REF! -> #REF! | I422: =#REF! -> #REF! | J422: =RIGHT(B422,LEN(B422)-7) -> #REF!

Sheet Dades 2
A1: CANAL DADES-2 | I1: =Xarxa!I1 -> C-31 (D)
A3: Network | C3: 10 | D3: 137 | E3: 239 | F3: 192
A4: Netmask | C4: 255 | D4: 255 | E4: 255 | F4: 224
A5: Wildcard | C5: 0 | D5: 0 | E5: 0 | F5: =256-F4-1 -> 31
A6: HostMin | C6: =C3 -> 10 | D6: =D3 -> 137 | E6: =E3 -> 239 | F6: =F3+1 -> 193
A7: HostMax | C7: =C3 -> 10 | D7: =D3 -> 137 | E7: =E3 -> 239 | F7: =F3+F5-2 -> 221
A8: Broadcast | C8: =C3 -> 10 | D8: =D3 -> 137 | E8: =E3 -> 239 | F8: =F3+F5-1 -> 222
A9: Hosts | C9: =F5-2 -> 29
A10: VLAN | C10: 32
A12: IP | C12: MASK | F12: GATEWAY | G12: MASK | H12: MAC | I12: DESCRIPTION
A13: =CONCATENATE($C$3,".",$D$3,".",$E$3) -> 10.137.239 | B13: =F6 -> 193 | C13: =CONCATENATE($C$4,".",$D$4,".",$E$4,".",$F$4) -> 255.255.255.224 | F13: =CONCATENATE($C$3,".",$D$3,".",$E$3,".",$F$3+1) -> 10.137.239.193 | H13: - | I13: Gateway | J13: =CONCATENATE(A13,".",B13) -> 10.137.239.193 | K13: =C13 -> 255.255.255.224 | L13: =F13 -> 10.137.239.193 | M13: =H13 -> - | N13: =$C$10 -> 32
A14: =CONCATENATE($C$3,".",$D$3,".",$E$3) -> 10.137.239 | B14: =B13+1 -> 194 | C14: =CONCATENATE($C$4,".",$D$4,".",$E$4,".",$F$4) -> 255.255.255.224 | F14: =CONCATENATE($C$3,".",$D$3,".",$E$3,".",$F$3+1) -> 10.137.239.193 | H14: - | J14: =CONCATENATE(A14,".",B14) -> 10.137.239.194 | K14: =C14 -> 255.255.255.224 | L14: =F14 -> 10.137.239.193 | M14: =H14 -> - | N14: =$C$10 -> 32
A15: =CONCATENATE($C$3,".",$D$3,".",$E$3) -> 10.137.239 | B15: =B14+1 -> 195 | C15: =CONCATENATE($C$4,".",$D$4,".",$E$4,".",$F$4) -> 255.255.255.224 | F15: =CONCATENATE($C$3,".",$D$3,".",$E$3,".",$F$3+1) -> 10.137.239.193 | H15: - | J15: =CONCATENATE(A15,".",B15) -> 10.137.239.195 | K15: =C15 -> 255.255.255.224 | L15: =F15 -> 10.137.239.193 | M15: =H15 -> - | N15: =$C$10 -> 32
A16: =CONCATENATE($C$3,".",$D$3,".",$E$3) -> 10.137.239 | B16: =B15+1 -> 196 | C16: =CONCATENATE($C$4,".",$D$4,".",$E$4,".",$F$4) -> 255.255.255.224 | F16: =CONCATENATE($C$3,".",$D$3,".",$E$3,".",$F$3+1) -> 10.137.239.193 | H16: - | J16: =CONCATENATE(A16,".",B16) -> 10.137.239.196 | K16: =C16 -> 255.255.255.224 | L16: =F16 -> 10.137.239.193 | M16: =H16 -> - | N16: =$C$10 -> 32
A17: =CONCATENATE($C$3,".",$D$3,".",$E$3) -> 10.137.239 | B17: =B16+1 -> 197 | C17: =CONCATENATE($C$4,".",$D$4,".",$E$4,".",$F$4) -> 255.255.255.224 | F17: =CONCATENATE($C$3,".",$D$3,".",$E$3,".",$F$3+1) -> 10.137.239.193 | H17: - | J17: =CONCATENATE(A17,".",B17) -> 10.137.239.197 | K17: =C17 -> 255.255.255.224 | L17: =F17 -> 10.137.239.193 | M17: =H17 -> - | N17: =$C$10 -> 32
A18: =CONCATENATE($C$3,".",$D$3,".",$E$3) -> 10.137.239 | B18: =B17+1 -> 198 | C18: =CONCATENATE($C$4,".",$D$4,".",$E$4,".",$F$4) -> 255.255.255.224 | F18: =CONCATENATE($C$3,".",$D$3,".",$E$3,".",$F$3+1) -> 10.137.239.193 | H18: - | J18: =CONCATENATE(A18,".",B18) -> 10.137.239.198 | K18: =C18 -> 255.255.255.224 | L18: =F18 -> 10.137.239.193 | M18: =H18 -> - | N18: =$C$10 -> 32
A19: =CONCATENATE($C$3,".",$D$3,".",$E$3) -> 10.137.239 | B19: =B18+1 -> 199 | C19: =CONCATENATE($C$4,".",$D$4,".",$E$4,".",$F$4) -> 255.255.255.224 | F19: =CONCATENATE($C$3,".",$D$3,".",$E$3,".",$F$3+1) -> 10.137.239.193 | H19: - | J19: =CONCATENATE(A19,".",B19) -> 10.137.239.199 | K19: =C19 -> 255.255.255.224 | L19: =F19 -> 10.137.239.193 | M19: =H19 -> - | N19: =$C$10 -> 32
A20: =CONCATENATE($C$3,".",$D$3,".",$E$3) -> 10.137.239 | B20: =B19+1 -> 200 | C20: =CONCATENATE($C$4,".",$D$4,".",$E$4,".",$F$4) -> 255.255.255.224 | F20: =CONCATENATE($C$3,".",$D$3,".",$E$3,".",$F$3+1) -> 10.137.239.193 | H20: - | J20: =CONCATENATE(A20,".",B20) -> 10.137.239.200 | K20: =C20 -> 255.255.255.224 | L20: =F20 -> 10.137.239.193 | M20: =H20 -> - | N20: =$C$10 -> 32
A21: =CONCATENATE($C$3,".",$D$3,".",$E$3) -> 10.137.239 | B21: =B20+1 -> 201 | C21: =CONCATENATE($C$4,".",$D$4,".",$E$4,".",$F$4) -> 255.255.255.224 | F21: =CONCATENATE($C$3,".",$D$3,".",$E$3,".",$F$3+1) -> 10.137.239.193 | H21: - | J21: =CONCATENATE(A21,".",B21) -> 10.137.239.201 | K21: =C21 -> 255.255.255.224 | L21: =F21 -> 10.137.239.193 | M21: =H21 -> - | N21: =$C$10 -> 32
A22: =CONCATENATE($C$3,".",$D$3,".",$E$3) -> 10.137.239 | B22: =B21+1 -> 202 | C22: =CONCATENATE($C$4,".",$D$4,".",$E$4,".",$F$4) -> 255.255.255.224 | F22: =CONCATENATE($C$3,".",$D$3,".",$E$3,".",$F$3+1) -> 10.137.239.193 | H22: - | J22: =CONCATENATE(A22,".",B22) -> 10.137.239.202 | K22: =C22 -> 255.255.255.224 | L22: =F22 -> 10.137.239.193 | M22: =H22 -> - | N22: =$C$10 -> 32
A23: =CONCATENATE($C$3,".",$D$3,".",$E$3) -> 10.137.239 | B23: =B22+1 -> 203 | C23: =CONCATENATE($C$4,".",$D$4,".",$E$4,".",$F$4) -> 255.255.255.224 | F23: =CONCATENATE($C$3,".",$D$3,".",$E$3,".",$F$3+1) -> 10.137.239.193 | H23: - | J23: =CONCATENATE(A23,".",B23) -> 10.137.239.203 | K23: =C23 -> 255.255.255.224 | L23: =F23 -> 10.137.239.193 | M23: =H23 -> - | N23: =$C$10 -> 32
A24: =CONCATENATE($C$3,".",$D$3,".",$E$3) -> 10.137.239 | B24: =B23+1 -> 204 | C24: =CONCATENATE($C$4,".",$D$4,".",$E$4,".",$F$4) -> 255.255.255.224 | F24: =CONCATENATE($C$3,".",$D$3,".",$E$3,".",$F$3+1) -> 10.137.239.193 | H24: 00-50-04-0A-0C-BE | I24: Eru 31 secundaria | J24: =CONCATENATE(A24,".",B24) -> 10.137.239.204 | K24: =C24 -> 255.255.255.224 | L24: =F24 -> 10.137.239.193 | M24: =H24 -> 00-50-04-0A-0C-BE | N24: =$C$10 -> 32
A25: =CONCATENATE($C$3,".",$D$3,".",$E$3) -> 10.137.239 | B25: =B24+1 -> 205 | C25: =CONCATENATE($C$4,".",$D$4,".",$E$4,".",$F$4) -> 255.255.255.224 | F25: =CONCATENATE($C$3,".",$D$3,".",$E$3,".",$F$3+1) -> 10.137.239.193 | H25: 00-04-76-E9-4C-72 | I25: Eru 32 secundaria | J25: =CONCATENATE(A25,".",B25) -> 10.137.239.205 | K25: =C25 -> 255.255.255.224 | L25: =F25 -> 10.137.239.193 | M25: =H25 -> 00-04-76-E9-4C-72 | N25: =$C$10 -> 32
A26: =CONCATENATE($C$3,".",$D$3,".",$E$3) -> 10.137.239 | B26: =B25+1 -> 206 | C26: =CONCATENATE($C$4,".",$D$4,".",$E$4,".",$F$4) -> 255.255.255.224 | F26: =CONCATENATE($C$3,".",$D$3,".",$E$3,".",$F$3+1) -> 10.137.239.193 | H26: 00-0A-5E-03-ED-E2 | I26: Eru 33 secundaria | J26: =CONCATENATE(A26,".",B26) -> 10.137.239.206 | K26: =C26 -> 255.255.255.224 | L26: =F26 -> 10.137.239.193 | M26: =H26 -> 00-0A-5E-03-ED-E2 | N26: =$C$10 -> 32
A27: =CONCATENATE($C$3,".",$D$3,".",$E$3) -> 10.137.239 | B27: =B26+1 -> 207 | C27: =CONCATENATE($C$4,".",$D$4,".",$E$4,".",$F$4) -> 255.255.255.224 | F27: =CONCATENATE($C$3,".",$D$3,".",$E$3,".",$F$3+1) -> 10.137.239.193 | H27: 00-04-76-E3-4C-10 | I27: Eru 34 secundaria | J27: =CONCATENATE(A27,".",B27) -> 10.137.239.207 | K27: =C27 -> 255.255.255.224 | L27: =F27 -> 10.137.239.193 | M27: =H27 -> 00-04-76-E3-4C-10 | N27: =$C$10 -> 32
A28: =CONCATENATE($C$3,".",$D$3,".",$E$3) -> 10.137.239 | B28: =B27+1 -> 208 | C28: =CONCATENATE($C$4,".",$D$4,".",$E$4,".",$F$4) -> 255.255.255.224 | F28: =CONCATENATE($C$3,".",$D$3,".",$E$3,".",$F$3+1) -> 10.137.239.193 | H28: 00-04-76-E9-4E-83 | I28: Eru 35 secundaria | J28: =CONCATENATE(A28,".",B28) -> 10.137.239.208 | K28: =C28 -> 255.255.255.224 | L28: =F28 -> 10.137.239.193 | M28: =H28 -> 00-04-76-E9-4E-83 | N28: =$C$10 -> 32
A29: =CONCATENATE($C$3,".",$D$3,".",$E$3) -> 10.137.239 | B29: =B28+1 -> 209 | C29: =CONCATENATE($C$4,".",$D$4,".",$E$4,".",$F$4) -> 255.255.255.224 | F29: =CONCATENATE($C$3,".",$D$3,".",$E$3,".",$F$3+1) -> 10.137.239.193 | H29: 00-04-76-E9-4A-B2 | I29: Eru 36 secundaria | J29: =CONCATENATE(A29,".",B29) -> 10.137.239.209 | K29: =C29 -> 255.255.255.224 | L29: =F29 -> 10.137.239.193 | M29: =H29 -> 00-04-76-E9-4A-B2 | N29: =$C$10 -> 32
A30: =CONCATENATE($C$3,".",$D$3,".",$E$3) -> 10.137.239 | B30: =B29+1 -> 210 | C30: =CONCATENATE($C$4,".",$D$4,".",$E$4,".",$F$4) -> 255.255.255.224 | F30: =CONCATENATE($C$3,".",$D$3,".",$E$3,".",$F$3+1) -> 10.137.239.193 | H30: 00-11-6B-3C-F1-8A | I30: Eru 37 secundaria | J30: =CONCATENATE(A30,".",B30) -> 10.137.239.210 | K30: =C30 -> 255.255.255.224 | L30: =F30 -> 10.137.239.193 | M30: =H30 -> 00-11-6B-3C-F1-8A | N30: =$C$10 -> 32
A31: =CONCATENATE($C$3,".",$D$3,".",$E$3) -> 10.137.239 | B31: =B30+1 -> 211 | C31: =CONCATENATE($C$4,".",$D$4,".",$E$4,".",$F$4) -> 255.255.255.224 | F31: =CONCATENATE($C$3,".",$D$3,".",$E$3,".",$F$3+1) -> 10.137.239.193 | H31: 00-04-76-E3-4E-8C | I31: Eru 38 secundaria | J31: =CONCATENATE(A31,".",B31) -> 10.137.239.211 | K31: =C31 -> 255.255.255.224 | L31: =F31 -> 10.137.239.193 | M31: =H31 -> 00-04-76-E3-4E-8C | N31: =$C$10 -> 32
A32: =CONCATENATE($C$3,".",$D$3,".",$E$3) -> 10.137.239 | B32: =B31+1 -> 212 | C32: =CONCATENATE($C$4,".",$D$4,".",$E$4,".",$F$4) -> 255.255.255.224 | F32: =CONCATENATE($C$3,".",$D$3,".",$E$3,".",$F$3+1) -> 10.137.239.193 | H32: 00-04-76-E9-4C-32 | I32: Eru 39 secundaria | J32: =CONCATENATE(A32,".",B32) -> 10.137.239.212 | K32: =C32 -> 255.255.255.224 | L32: =F32 -> 10.137.239.193 | M32: =H32 -> 00-04-76-E9-4C-32 | N32: =$C$10 -> 32
A33: =CONCATENATE($C$3,".",$D$3,".",$E$3) -> 10.137.239 | B33: =B32+1 -> 213 | C33: =CONCATENATE($C$4,".",$D$4,".",$E$4,".",$F$4) -> 255.255.255.224 | F33: =CONCATENATE($C$3,".",$D$3,".",$E$3,".",$F$3+1) -> 10.137.239.193 | H33: 00-04-76-E9-46-D9 | I33: Eru 40 secundaria | J33: =CONCATENATE(A33,".",B33) -> 10.137.239.213 | K33: =C33 -> 255.255.255.224 | L33: =F33 -> 10.137.239.193 | M33: =H33 -> 00-04-76-E9-46-D9 | N33: =$C$10 -> 32
A34: =CONCATENATE($C$3,".",$D$3,".",$E$3) -> 10.137.239 | B34: =B33+1 -> 214 | C34: =CONCATENATE($C$4,".",$D$4,".",$E$4,".",$F$4) -> 255.255.255.224 | F34: =CONCATENATE($C$3,".",$D$3,".",$E$3,".",$F$3+1) -> 10.137.239.193 | H34: 00-04-76-E9-4C-3F | I34: Eru 41 secundaria | J34: =CONCATENATE(A34,".",B34) -> 10.137.239.214 | K34: =C34 -> 255.255.255.224 | L34: =F34 -> 10.137.239.193 | M34: =H34 -> 00-04-76-E9-4C-3F | N34: =$C$10 -> 32
A35: =CONCATENATE($C$3,".",$D$3,".",$E$3) -> 10.137.239 | B35: =B34+1 -> 215 | C35: =CONCATENATE($C$4,".",$D$4,".",$E$4,".",$F$4) -> 255.255.255.224 | F35: =CONCATENATE($C$3,".",$D$3,".",$E$3,".",$F$3+1) -> 10.137.239.193 | H35: 00-04-76-E9-43-31 | I35: Eru 42 secundaria | J35: =CONCATENATE(A35,".",B35) -> 10.137.239.215 | K35: =C35 -> 255.255.255.224 | L35: =F35 -> 10.137.239.193 | M35: =H35 -> 00-04-76-E9-43-31 | N35: =$C$10 -> 32
... A37: =CONCATENATE($C$3,".",$D$3,".",$E$3) -> 10.137.239 | B37: =B36+1 -> 217 | C37: =CONCATENATE($C$4,".",$D$4,".",$E$4,".",$F$4) -> 255.255.255.224 | F37: =CONCATENATE($C$3,".",$D$3,".",$E$3,".",$F$3+1) -> 10.137.239.193 | H37: 00-04-76-E9-47-F7 | I37: Eru 44 secundaria | J37: =CONCATENATE(A37,".",B37) -> 10.137.239.217 | K37: =C37 -> 255.255.255.224 | L37: =F37 -> 10.137.239.193 | M37: =H37 -> 00-04-76-E9-47-F7 | N37: =$C$10 -> 32
A38: =CONCATENATE($C$3,".",$D$3,".",$E$3) -> 10.137.239 | B38: =B37+1 -> 218 | C38: =CONCATENATE($C$4,".",$D$4,".",$E$4,".",$F$4) -> 255.255.255.224 | F38: =CONCATENATE($C$3,".",$D$3,".",$E$3,".",$F$3+1) -> 10.137.239.193 | H38: - | J38: =CONCATENATE(A38,".",B38) -> 10.137.239.218 | K38: =C38 -> 255.255.255.224 | L38: =F38 -> 10.137.239.193 | M38: =H38 -> - | N38: =$C$10 -> 32
A39: =CONCATENATE($C$3,".",$D$3,".",$E$3) -> 10.137.239 | B39: =B38+1 -> 219 | C39: =CONCATENATE($C$4,".",$D$4,".",$E$4,".",$F$4) -> 255.255.255.224 | F39: =CONCATENATE($C$3,".",$D$3,".",$E$3,".",$F$3+1) -> 10.137.239.193 | H39: - | J39: =CONCATENATE(A39,".",B39) -> 10.137.239.219 | K39: =C39 -> 255.255.255.224 | L39: =F39 -> 10.137.239.193 | M39: =H39 -> - | N39: =$C$10 -> 32
A40: =CONCATENATE($C$3,".",$D$3,".",$E$3) -> 10.137.239 | B40: =B39+1 -> 220 | C40: =CONCATENATE($C$4,".",$D$4,".",$E$4,".",$F$4) -> 255.255.255.224 | F40: =CONCATENATE($C$3,".",$D$3,".",$E$3,".",$F$3+1) -> 10.137.239.193 | H40: 00-00-26-00-00-69 | I40: Codec Sos 1 | J40: =CONCATENATE(A40,".",B40) -> 10.137.239.220 | K40: =C40 -> 255.255.255.224 | L40: =F40 -> 10.137.239.193 | M40: =H40 -> 00-00-26-00-00-69 | N40: =$C$10 -> 32
A41: =CONCATENATE($C$3,".",$D$3,".",$E$3) -> 10.137.239 | B41: =B40+1 -> 221 | C41: =CONCATENATE($C$4,".",$D$4,".",$E$4,".",$F$4) -> 255.255.255.224 | F41: =CONCATENATE($C$3,".",$D$3,".",$E$3,".",$F$3+1) -> 10.137.239.193 | H41: 00:00:26:00:00-70 | I41: Codec Sos 2 | J41: =CONCATENATE(A41,".",B41) -> 10.137.239.221 | K41: =C41 -> 255.255.255.224 | L41: =F41 -> 10.137.239.193 | M41: =H41 -> 00:00:26:00:00-70 | N41: =$C$10 -> 32

Sheet CCTV
A1: CCTV | I1: =Xarxa!I1 -> C-31 (D)
A3: Network | C3: 10 | D3: 137 | E3: 239 | F3: 224
A4: Netmask | C4: 255 | D4: 255 | E4: 255 | F4: 224
A5: Wildcard | C5: 0 | D5: 0 | E5: 0 | F5: =256-F4-1 -> 31
A6: HostMin | C6: =C3 -> 10 | D6: =D3 -> 137 | E6: =E3 -> 239 | F6: =F3+1 -> 225
A7: HostMax | C7: =C3 -> 10 | D7: =D3 -> 137 | E7: =E3 -> 239 | F7: =F3+F5-2 -> 253
A8: Broadcast | C8: =C3 -> 10 | D8: =D3 -> 137 | E8: =E3 -> 239 | F8: =F3+F5-1 -> 254
A9: Hosts | C9: =F5-2 -> 29
A10: VLAN | C10: 42
A12: IP | C12: MASK | F12: GATEWAY | G12: MASK | H12: MAC | I12: DESCRIPTION
A13: =CONCATENATE($C$3,".",$D$3,".",$E$3) -> 10.137.239 | B13: =F6 -> 225 | C13: =CONCATENATE($C$4,".",$D$4,".",$E$4,".",$F$4) -> 255.255.255.224 | F13: =CONCATENATE($C$3,".",$D$3,".",$E$3,".",$F$3+1) -> 10.137.239.225 | H13: - | I13: Gateway | J13: =CONCATENATE(A13,".",B13) -> 10.137.239.225 | K13: =C13 -> 255.255.255.224 | L13: =F13 -> 10.137.239.225 | M13: =H13 -> - | N13: =$C$10 -> 42
A14: =CONCATENATE($C$3,".",$D$3,".",$E$3) -> 10.137.239 | B14: =B13+1 -> 226 | C14: =CONCATENATE($C$4,".",$D$4,".",$E$4,".",$F$4) -> 255.255.255.224 | F14: =CONCATENATE($C$3,".",$D$3,".",$E$3,".",$F$3+1) -> 10.137.239.225 | H14: - | J14: =CONCATENATE(A14,".",B14) -> 10.137.239.226 | K14: =C14 -> 255.255.255.224 | L14: =F14 -> 10.137.239.225 | M14: =H14 -> - | N14: =$C$10 -> 42
A15: =CONCATENATE($C$3,".",$D$3,".",$E$3) -> 10.137.239 | B15: =B14+1 -> 227 | C15: =CONCATENATE($C$4,".",$D$4,".",$E$4,".",$F$4) -> 255.255.255.224 | F15: =CONCATENATE($C$3,".",$D$3,".",$E$3,".",$F$3+1) -> 10.137.239.225 | H15: - | I15: Cámara 3017 | J15: =CONCATENATE(A15,".",B15) -> 10.137.239.227 | K15: =C15 -> 255.255.255.224 | L15: =F15 -> 10.137.239.225 | M15: =H15 -> - | N15: =$C$10 -> 42
A16: =CONCATENATE($C$3,".",$D$3,".",$E$3) -> 10.137.239 | B16: =B15+1 -> 228 | C16: =CONCATENATE($C$4,".",$D$4,".",$E$4,".",$F$4) -> 255.255.255.224 | F16: =CONCATENATE($C$3,".",$D$3,".",$E$3,".",$F$3+1) -> 10.137.239.225 | H16: - | I16: Cámara 3018 | J16: =CONCATENATE(A16,".",B16) -> 10.137.239.228 | K16: =C16 -> 255.255.255.224 | L16: =F16 -> 10.137.239.225 | M16: =H16 -> - | N16: =$C$10 -> 42
A17: =CONCATENATE($C$3,".",$D$3,".",$E$3) -> 10.137.239 | B17: =B16+1 -> 229 | C17: =CONCATENATE($C$4,".",$D$4,".",$E$4,".",$F$4) -> 255.255.255.224 | F17: =CONCATENATE($C$3,".",$D$3,".",$E$3,".",$F$3+1) -> 10.137.239.225 | H17: - | I17: Cámara 3019 | J17: =CONCATENATE(A17,".",B17) -> 10.137.239.229 | K17: =C17 -> 255.255.255.224 | L17: =F17 -> 10.137.239.225 | M17: =H17 -> - | N17: =$C$10 -> 42
A18: =CONCATENATE($C$3,".",$D$3,".",$E$3) -> 10.137.239 | B18: =B17+1 -> 230 | C18: =CONCATENATE($C$4,".",$D$4,".",$E$4,".",$F$4) -> 255.255.255.224 | F18: =CONCATENATE($C$3,".",$D$3,".",$E$3,".",$F$3+1) -> 10.137.239.225 | H18: - | I18: Cámara 3020 | J18: =CONCATENATE(A18,".",B18) -> 10.137.239.230 | K18: =C18 -> 255.255.255.224 | L18: =F18 -> 10.137.239.225 | M18: =H18 -> - | N18: =$C$10 -> 42
A19: =CONCATENATE($C$3,".",$D$3,".",$E$3) -> 10.137.239 | B19: =B18+1 -> 231 | C19: =CONCATENATE($C$4,".",$D$4,".",$E$4,".",$F$4) -> 255.255.255.224 | F19: =CONCATENATE($C$3,".",$D$3,".",$E$3,".",$F$3+1) -> 10.137.239.225 | H19: - | I19: Cámara 3021 | J19: =CONCATENATE(A19,".",B19) -> 10.137.239.231 | K19: =C19 -> 255.255.255.224 | L19: =F19 -> 10.137.239.225 | M19: =H19 -> - | N19: =$C$10 -> 42
A20: =CONCATENATE($C$3,".",$D$3,".",$E$3) -> 10.137.239 | B20: =B19+1 -> 232 | C20: =CONCATENATE($C$4,".",$D$4,".",$E$4,".",$F$4) -> 255.255.255.224 | F20: =CONCATENATE($C$3,".",$D$3,".",$E$3,".",$F$3+1) -> 10.137.239.225 | H20: - | I20: Cámara 3022 | J20: =CONCATENATE(A20,".",B20) -> 10.137.239.232 | K20: =C20 -> 255.255.255.224 | L20: =F20 -> 10.137.239.225 | M20: =H20 -> - | N20: =$C$10 -> 42
A21: =CONCATENATE($C$3,".",$D$3,".",$E$3) -> 10.137.239 | B21: =B20+1 -> 233 | C21: =CONCATENATE($C$4,".",$D$4,".",$E$4,".",$F$4) -> 255.255.255.224 | F21: =CONCATENATE($C$3,".",$D$3,".",$E$3,".",$F$3+1) -> 10.137.239.225 | H21: - | I21: Cámara 3023 | J21: =CONCATENATE(A21,".",B21) -> 10.137.239.233 | K21: =C21 -> 255.255.255.224 | L21: =F21 -> 10.137.239.225 | M21: =H21 -> - | N21: =$C$10 -> 42
A22: =CONCATENATE($C$3,".",$D$3,".",$E$3) -> 10.137.239 | B22: =B21+1 -> 234 | C22: =CONCATENATE($C$4,".",$D$4,".",$E$4,".",$F$4) -> 255.255.255.224 | F22: =CONCATENATE($C$3,".",$D$3,".",$E$3,".",$F$3+1) -> 10.137.239.225 | H22: - | J22: =CONCATENATE(A22,".",B22) -> 10.137.239.234 | K22: =C22 -> 255.255.255.224 | L22: =F22 -> 10.137.239.225 | M22: =H22 -> - | N22: =$C$10 -> 42
A23: =CONCATENATE($C$3,".",$D$3,".",$E$3) -> 10.137.239 | B23: =B22+1 -> 235 | C23: =CONCATENATE($C$4,".",$D$4,".",$E$4,".",$F$4) -> 255.255.255.224 | F23: =CONCATENATE($C$3,".",$D$3,".",$E$3,".",$F$3+1) -> 10.137.239.225 | H23: - | J23: =CONCATENATE(A23,".",B23) -> 10.137.239.235 | K23: =C23 -> 255.255.255.224 | L23: =F23 -> 10.137.239.225 | M23: =H23 -> - | N23: =$C$10 -> 42
A24: =CONCATENATE($C$3,".",$D$3,".",$E$3) -> 10.137.239 | B24: =B23+1 -> 236 | C24: =CONCATENATE($C$4,".",$D$4,".",$E$4,".",$F$4) -> 255.255.255.224 | F24: =CONCATENATE($C$3,".",$D$3,".",$E$3,".",$F$3+1) -> 10.137.239.225 | H24: - | J24: =CONCATENATE(A24,".",B24) -> 10.137.239.236 | K24: =C24 -> 255.255.255.224 | L24: =F24 -> 10.137.239.225 | M24: =H24 -> - | N24: =$C$10 -> 42
A25: =CONCATENATE($C$3,".",$D$3,".",$E$3) -> 10.137.239 | B25: =B24+1 -> 237 | C25: =CONCATENATE($C$4,".",$D$4,".",$E$4,".",$F$4) -> 255.255.255.224 | F25: =CONCATENATE($C$3,".",$D$3,".",$E$3,".",$F$3+1) -> 10.137.239.225 | H25: - | J25: =CONCATENATE(A25,".",B25) -> 10.137.239.237 | K25: =C25 -> 255.255.255.224 | L25: =F25 -> 10.137.239.225 | M25: =H25 -> - | N25: =$C$10 -> 42
A26: =CONCATENATE($C$3,".",$D$3,".",$E$3) -> 10.137.239 | B26: =B25+1 -> 238 | C26: =CONCATENATE($C$4,".",$D$4,".",$E$4,".",$F$4) -> 255.255.255.224 | F26: =CONCATENATE($C$3,".",$D$3,".",$E$3,".",$F$3+1) -> 10.137.239.225 | H26: - | J26: =CONCATENATE(A26,".",B26) -> 10.137.239.238 | K26: =C26 -> 255.255.255.224 | L26: =F26 -> 10.137.239.225 | M26: =H26 -> - | N26: =$C$10 -> 42
A27: =CONCATENATE($C$3,".",$D$3,".",$E$3) -> 10.137.239 | B27: =B26+1 -> 239 | C27: =CONCATENATE($C$4,".",$D$4,".",$E$4,".",$F$4) -> 255.255.255.224 | F27: =CONCATENATE($C$3,".",$D$3,".",$E$3,".",$F$3+1) -> 10.137.239.225 | H27: - | J27: =CONCATENATE(A27,".",B27) -> 10.137.239.239 | K27: =C27 -> 255.255.255.224 | L27: =F27 -> 10.137.239.225 | M27: =H27 -> - | N27: =$C$10 -> 42
A28: =CONCATENATE($C$3,".",$D$3,".",$E$3) -> 10.137.239 | B28: =B27+1 -> 240 | C28: =CONCATENATE($C$4,".",$D$4,".",$E$4,".",$F$4) -> 255.255.255.224 | F28: =CONCATENATE($C$3,".",$D$3,".",$E$3,".",$F$3+1) -> 10.137.239.225 | H28: - | J28: =CONCATENATE(A28,".",B28) -> 10.137.239.240 | K28: =C28 -> 255.255.255.224 | L28: =F28 -> 10.137.239.225 | M28: =H28 -> - | N28: =$C$10 -> 42
A29: =CONCATENATE($C$3,".",$D$3,".",$E$3) -> 10.137.239 | B29: =B28+1 -> 241 | C29: =CONCATENATE($C$4,".",$D$4,".",$E$4,".",$F$4) -> 255.255.255.224 | F29: =CONCATENATE($C$3,".",$D$3,".",$E$3,".",$F$3+1) -> 10.137.239.225 | H29: - | J29: =CONCATENATE(A29,".",B29) -> 10.137.239.241 | K29: =C29 -> 255.255.255.224 | L29: =F29 -> 10.137.239.225 | M29: =H29 -> - | N29: =$C$10 -> 42
A30: =CONCATENATE($C$3,".",$D$3,".",$E$3) -> 10.137.239 | B30: =B29+1 -> 242 | C30: =CONCATENATE($C$4,".",$D$4,".",$E$4,".",$F$4) -> 255.255.255.224 | F30: =CONCATENATE($C$3,".",$D$3,".",$E$3,".",$F$3+1) -> 10.137.239.225 | H30: - | J30: =CONCATENATE(A30,".",B30) -> 10.137.239.242 | K30: =C30 -> 255.255.255.224 | L30: =F30 -> 10.137.239.225 | M30: =H30 -> - | N30: =$C$10 -> 42
A31: =CONCATENATE($C$3,".",$D$3,".",$E$3) -> 10.137.239 | B31: =B30+1 -> 243 | C31: =CONCATENATE($C$4,".",$D$4,".",$E$4,".",$F$4) -> 255.255.255.224 | F31: =CONCATENATE($C$3,".",$D$3,".",$E$3,".",$F$3+1) -> 10.137.239.225 | H31: - | J31: =CONCATENATE(A31,".",B31) -> 10.137.239.243 | K31: =C31 -> 255.255.255.224 | L31: =F31 -> 10.137.239.225 | M31: =H31 -> - | N31: =$C$10 -> 42
A32: =CONCATENATE($C$3,".",$D$3,".",$E$3) -> 10.137.239 | B32: =B31+1 -> 244 | C32: =CONCATENATE($C$4,".",$D$4,".",$E$4,".",$F$4) -> 255.255.255.224 | F32: =CONCATENATE($C$3,".",$D$3,".",$E$3,".",$F$3+1) -> 10.137.239.225 | H32: - | J32: =CONCATENATE(A32,".",B32) -> 10.137.239.244 | K32: =C32 -> 255.255.255.224 | L32: =F32 -> 10.137.239.225 | M32: =H32 -> - | N32: =$C$10 -> 42
A33: =CONCATENATE($C$3,".",$D$3,".",$E$3) -> 10.137.239 | B33: =B32+1 -> 245 | C33: =CONCATENATE($C$4,".",$D$4,".",$E$4,".",$F$4) -> 255.255.255.224 | F33: =CONCATENATE($C$3,".",$D$3,".",$E$3,".",$F$3+1) -> 10.137.239.225 | H33: - | J33: =CONCATENATE(A33,".",B33) -> 10.137.239.245 | K33: =C33 -> 255.255.255.224 | L33: =F33 -> 10.137.239.225 | M33: =H33 -> - | N33: =$C$10 -> 42
... A41: =CONCATENATE($C$3,".",$D$3,".",$E$3) -> 10.137.239 | B41: =B40+1 -> 253 | C41: =CONCATENATE($C$4,".",$D$4,".",$E$4,".",$F$4) -> 255.255.255.224 | F41: =CONCATENATE($C$3,".",$D$3,".",$E$3,".",$F$3+1) -> 10.137.239.225 | H41: - | J41: =CONCATENATE(A41,".",B41) -> 10.137.239.253 | K41: =C41 -> 255.255.255.224 | L41: =F41 -> 10.137.239.225 | M41: =H41 -> - | N41: =$C$10 -> 42

Sheet CONNEXIONS
A1: CONNEXIONS | K1: =Xarxa!I1 -> C-31 (D)
A3: =INDIRECT(M3) -> Node Xarxa 32 | E3: MODULE | F3: PORT | G3: CONNECTED DEVICE | H3: IP | I3: MASK | J3: GATEWAY | K3: MAC | L3: VLAN | M3: =CONCATENATE("Xarxa!I","16") -> Xarxa!I16
A4: RS-40 | E4: 1 | F4: 1 | G4: ? | H4: =IF(ISERROR(VLOOKUP($G4,Xarxa!$I$12:$P$100,2,FALSE))=FALSE, VLOOKUP($G4,Xarxa!$I$12:$P$100,2,FALSE),IF(ISERROR(VLOOKUP($G4,'Dades 1'!$I$12:$P$115,2,FALSE))=FALSE, VLOOKUP($G4,'Dades 1'!$I$12:$P$115,2,FALSE),IF(ISERROR(VLOOKUP($G4,'Dades 2'!$I$12:$P$107,2,FALSE))=FALSE, VLOOKUP($G4,'Dades 2'!$I$12:$P$107,2,FALSE),IF(ISERROR(VLOOKUP($G4,CCTV!$I$12:$P$97,2,FALSE))=FALSE, VLOOKUP($G4,CCTV!$I$12:$P$97,2,FALSE),"?")))) -> ? | I4: =IF(ISERROR(VLOOKUP($G4,Xarxa!$I$12:$P$100,3,FALSE))=FALSE, VLOOKUP($G4,Xarxa!$I$12:$P$100,3,FALSE),IF(ISERROR(VLOOKUP($G4,'Dades 1'!$I$12:$P$115,3,FALSE))=FALSE, VLOOKUP($G4,'Dades 1'!$I$12:$P$115,3,FALSE),IF(ISERROR(VLOOKUP($G4,'Dades 2'!$I$12:$P$107,3,FALSE))=FALSE, VLOOKUP($G4,'Dades 2'!$I$12:$P$107,3,FALSE),IF(ISERROR(VLOOKUP($G4,CCTV!$I$12:$P$97,3,FALSE))=FALSE, VLOOKUP($G4,CCTV!$I$12:$P$97,3,FALSE),"?")))) -> ? | J4: =IF(ISERROR(VLOOKUP($G4,Xarxa!$I$12:$P$100,4,FALSE))=FALSE, VLOOKUP($G4,Xarxa!$I$12:$P$100,4,FALSE),IF(ISERROR(VLOOKUP($G4,'Dades 1'!$I$12:$P$115,4,FALSE))=FALSE, VLOOKUP($G4,'Dades 1'!$I$12:$P$115,4,FALSE),IF(ISERROR(VLOOKUP($G4,'Dades 2'!$I$12:$P$107,4,FALSE))=FALSE, VLOOKUP($G4,'Dades 2'!$I$12:$P$107,4,FALSE),IF(ISERROR(VLOOKUP($G4,CCTV!$I$12:$P$97,4,FALSE))=FALSE, VLOOKUP($G4,CCTV!$I$12:$P$97,4,FALSE),"?")))) -> ? | K4: =IF(ISERROR(VLOOKUP($G4,Xarxa!$I$12:$P$100,5,FALSE))=FALSE, VLOOKUP($G4,Xarxa!$I$12:$P$100,5,FALSE),IF(ISERROR(VLOOKUP($G4,'Dades 1'!$I$12:$P$115,5,FALSE))=FALSE, VLOOKUP($G4,'Dades 1'!$I$12:$P$115,5,FALSE),IF(ISERROR(VLOOKUP($G4,'Dades 2'!$I$12:$P$107,5,FALSE))=FALSE, VLOOKUP($G4,'Dades 2'!$I$12:$P$107,5,FALSE),IF(ISERROR(VLOOKUP($G4,CCTV!$I$12:$P$97,5,FALSE))=FALSE, VLOOKUP($G4,CCTV!$I$12:$P$97,5,FALSE),"?")))) -> ? | L4: =IF(ISERROR(VLOOKUP($G4,Xarxa!$I$12:$P$100,6,FALSE))=FALSE, VLOOKUP($G4,Xarxa!$I$12:$P$100,6,FALSE),IF(ISERROR(VLOOKUP($G4,'Dades 1'!$I$12:$P$115,6,FALSE))=FALSE, VLOOKUP($G4,'Dades 1'!$I$12:$P$115,6,FALSE),IF(ISERROR(VLOOKUP($G4,'Dades 2'!$I$12:$P$107,6,FALSE))=FALSE, VLOOKUP($G4,'Dades 2'!$I$12:$P$107,6,FALSE),IF(ISERROR(VLOOKUP($G4,CCTV!$I$12:$P$97,6,FALSE))=FALSE, VLOOKUP($G4,CCTV!$I$12:$P$97,6,FALSE),"?")))) -> ?
E5: 1 | F5: 2 | G5: ? | H5: =IF(ISERROR(VLOOKUP($G5,Xarxa!$I$12:$P$100,2,FALSE))=FALSE, VLOOKUP($G5,Xarxa!$I$12:$P$100,2,FALSE),IF(ISERROR(VLOOKUP($G5,'Dades 1'!$I$12:$P$115,2,FALSE))=FALSE, VLOOKUP($G5,'Dades 1'!$I$12:$P$115,2,FALSE),IF(ISERROR(VLOOKUP($G5,'Dades 2'!$I$12:$P$107,2,FALSE))=FALSE, VLOOKUP($G5,'Dades 2'!$I$12:$P$107,2,FALSE),IF(ISERROR(VLOOKUP($G5,CCTV!$I$12:$P$97,2,FALSE))=FALSE, VLOOKUP($G5,CCTV!$I$12:$P$97,2,FALSE),"?")))) -> ? | I5: =IF(ISERROR(VLOOKUP($G5,Xarxa!$I$12:$P$100,3,FALSE))=FALSE, VLOOKUP($G5,Xarxa!$I$12:$P$100,3,FALSE),IF(ISERROR(VLOOKUP($G5,'Dades 1'!$I$12:$P$115,3,FALSE))=FALSE, VLOOKUP($G5,'Dades 1'!$I$12:$P$115,3,FALSE),IF(ISERROR(VLOOKUP($G5,'Dades 2'!$I$12:$P$107,3,FALSE))=FALSE, VLOOKUP($G5,'Dades 2'!$I$12:$P$107,3,FALSE),IF(ISERROR(VLOOKUP($G5,CCTV!$I$12:$P$97,3,FALSE))=FALSE, VLOOKUP($G5,CCTV!$I$12:$P$97,3,FALSE),"?")))) -> ? | J5: =IF(ISERROR(VLOOKUP($G5,Xarxa!$I$12:$P$100,4,FALSE))=FALSE, VLOOKUP($G5,Xarxa!$I$12:$P$100,4,FALSE),IF(ISERROR(VLOOKUP($G5,'Dades 1'!$I$12:$P$115,4,FALSE))=FALSE, VLOOKUP($G5,'Dades 1'!$I$12:$P$115,4,FALSE),IF(ISERROR(VLOOKUP($G5,'Dades 2'!$I$12:$P$107,4,FALSE))=FALSE, VLOOKUP($G5,'Dades 2'!$I$12:$P$107,4,FALSE),IF(ISERROR(VLOOKUP($G5,CCTV!$I$12:$P$97,4,FALSE))=FALSE, VLOOKUP($G5,CCTV!$I$12:$P$97,4,FALSE),"?")))) -> ? | K5: =IF(ISERROR(VLOOKUP($G5,Xarxa!$I$12:$P$100,5,FALSE))=FALSE, VLOOKUP($G5,Xarxa!$I$12:$P$100,5,FALSE),IF(ISERROR(VLOOKUP($G5,'Dades 1'!$I$12:$P$115,5,FALSE))=FALSE, VLOOKUP($G5,'Dades 1'!$I$12:$P$115,5,FALSE),IF(ISERROR(VLOOKUP($G5,'Dades 2'!$I$12:$P$107,5,FALSE))=FALSE, VLOOKUP($G5,'Dades 2'!$I$12:$P$107,5,FALSE),IF(ISERROR(VLOOKUP($G5,CCTV!$I$12:$P$97,5,FALSE))=FALSE, VLOOKUP($G5,CCTV!$I$12:$P$97,5,FALSE),"?")))) -> ? | L5: =IF(ISERROR(VLOOKUP($G5,Xarxa!$I$12:$P$100,6,FALSE))=FALSE, VLOOKUP($G5,Xarxa!$I$12:$P$100,6,FALSE),IF(ISERROR(VLOOKUP($G5,'Dades 1'!$I$12:$P$115,6,FALSE))=FALSE, VLOOKUP($G5,'Dades 1'!$I$12:$P$115,6,FALSE),IF(ISERROR(VLOOKUP($G5,'Dades 2'!$I$12:$P$107,6,FALSE))=FALSE, VLOOKUP($G5,'Dades 2'!$I$12:$P$107,6,FALSE),IF(ISERROR(VLOOKUP($G5,CCTV!$I$12:$P$97,6,FALSE))=FALSE, VLOOKUP($G5,CCTV!$I$12:$P$97,6,FALSE),"?")))) -> ?
E6: 1 | F6: 3 | G6: ? | H6: =IF(ISERROR(VLOOKUP($G6,Xarxa!$I$12:$P$100,2,FALSE))=FALSE, VLOOKUP($G6,Xarxa!$I$12:$P$100,2,FALSE),IF(ISERROR(VLOOKUP($G6,'Dades 1'!$I$12:$P$115,2,FALSE))=FALSE, VLOOKUP($G6,'Dades 1'!$I$12:$P$115,2,FALSE),IF(ISERROR(VLOOKUP($G6,'Dades 2'!$I$12:$P$107,2,FALSE))=FALSE, VLOOKUP($G6,'Dades 2'!$I$12:$P$107,2,FALSE),IF(ISERROR(VLOOKUP($G6,CCTV!$I$12:$P$97,2,FALSE))=FALSE, VLOOKUP($G6,CCTV!$I$12:$P$97,2,FALSE),"?")))) -> ? | I6: =IF(ISERROR(VLOOKUP($G6,Xarxa!$I$12:$P$100,3,FALSE))=FALSE, VLOOKUP($G6,Xarxa!$I$12:$P$100,3,FALSE),IF(ISERROR(VLOOKUP($G6,'Dades 1'!$I$12:$P$115,3,FALSE))=FALSE, VLOOKUP($G6,'Dades 1'!$I$12:$P$115,3,FALSE),IF(ISERROR(VLOOKUP($G6,'Dades 2'!$I$12:$P$107,3,FALSE))=FALSE, VLOOKUP($G6,'Dades 2'!$I$12:$P$107,3,FALSE),IF(ISERROR(VLOOKUP($G6,CCTV!$I$12:$P$97,3,FALSE))=FALSE, VLOOKUP($G6,CCTV!$I$12:$P$97,3,FALSE),"?")))) -> ? | J6: =IF(ISERROR(VLOOKUP($G6,Xarxa!$I$12:$P$100,4,FALSE))=FALSE, VLOOKUP($G6,Xarxa!$I$12:$P$100,4,FALSE),IF(ISERROR(VLOOKUP($G6,'Dades 1'!$I$12:$P$115,4,FALSE))=FALSE, VLOOKUP($G6,'Dades 1'!$I$12:$P$115,4,FALSE),IF(ISERROR(VLOOKUP($G6,'Dades 2'!$I$12:$P$107,4,FALSE))=FALSE, VLOOKUP($G6,'Dades 2'!$I$12:$P$107,4,FALSE),IF(ISERROR(VLOOKUP($G6,CCTV!$I$12:$P$97,4,FALSE))=FALSE, VLOOKUP($G6,CCTV!$I$12:$P$97,4,FALSE),"?")))) -> ? | K6: =IF(ISERROR(VLOOKUP($G6,Xarxa!$I$12:$P$100,5,FALSE))=FALSE, VLOOKUP($G6,Xarxa!$I$12:$P$100,5,FALSE),IF(ISERROR(VLOOKUP($G6,'Dades 1'!$I$12:$P$115,5,FALSE))=FALSE, VLOOKUP($G6,'Dades 1'!$I$12:$P$115,5,FALSE),IF(ISERROR(VLOOKUP($G6,'Dades 2'!$I$12:$P$107,5,FALSE))=FALSE, VLOOKUP($G6,'Dades 2'!$I$12:$P$107,5,FALSE),IF(ISERROR(VLOOKUP($G6,CCTV!$I$12:$P$97,5,FALSE))=FALSE, VLOOKUP($G6,CCTV!$I$12:$P$97,5,FALSE),"?")))) -> ? | L6: =IF(ISERROR(VLOOKUP($G6,Xarxa!$I$12:$P$100,6,FALSE))=FALSE, VLOOKUP($G6,Xarxa!$I$12:$P$100,6,FALSE),IF(ISERROR(VLOOKUP($G6,'Dades 1'!$I$12:$P$115,6,FALSE))=FALSE, VLOOKUP($G6,'Dades 1'!$I$12:$P$115,6,FALSE),IF(ISERROR(VLOOKUP($G6,'Dades 2'!$I$12:$P$107,6,FALSE))=FALSE, VLOOKUP($G6,'Dades 2'!$I$12:$P$107,6,FALSE),IF(ISERROR(VLOOKUP($G6,CCTV!$I$12:$P$97,6,FALSE))=FALSE, VLOOKUP($G6,CCTV!$I$12:$P$97,6,FALSE),"?")))) -> ?
E7: 1 | F7: 4 | G7: ? | H7: =IF(ISERROR(VLOOKUP($G7,Xarxa!$I$12:$P$100,2,FALSE))=FALSE, VLOOKUP($G7,Xarxa!$I$12:$P$100,2,FALSE),IF(ISERROR(VLOOKUP($G7,'Dades 1'!$I$12:$P$115,2,FALSE))=FALSE, VLOOKUP($G7,'Dades 1'!$I$12:$P$115,2,FALSE),IF(ISERROR(VLOOKUP($G7,'Dades 2'!$I$12:$P$107,2,FALSE))=FALSE, VLOOKUP($G7,'Dades 2'!$I$12:$P$107,2,FALSE),IF(ISERROR(VLOOKUP($G7,CCTV!$I$12:$P$97,2,FALSE))=FALSE, VLOOKUP($G7,CCTV!$I$12:$P$97,2,FALSE),"?")))) -> ? | I7: =IF(ISERROR(VLOOKUP($G7,Xarxa!$I$12:$P$100,3,FALSE))=FALSE, VLOOKUP($G7,Xarxa!$I$12:$P$100,3,FALSE),IF(ISERROR(VLOOKUP($G7,'Dades 1'!$I$12:$P$115,3,FALSE))=FALSE, VLOOKUP($G7,'Dades 1'!$I$12:$P$115,3,FALSE),IF(ISERROR(VLOOKUP($G7,'Dades 2'!$I$12:$P$107,3,FALSE))=FALSE, VLOOKUP($G7,'Dades 2'!$I$12:$P$107,3,FALSE),IF(ISERROR(VLOOKUP($G7,CCTV!$I$12:$P$97,3,FALSE))=FALSE, VLOOKUP($G7,CCTV!$I$12:$P$97,3,FALSE),"?")))) -> ? | J7: =IF(ISERROR(VLOOKUP($G7,Xarxa!$I$12:$P$100,4,FALSE))=FALSE, VLOOKUP($G7,Xarxa!$I$12:$P$100,4,FALSE),IF(ISERROR(VLOOKUP($G7,'Dades 1'!$I$12:$P$115,4,FALSE))=FALSE, VLOOKUP($G7,'Dades 1'!$I$12:$P$115,4,FALSE),IF(ISERROR(VLOOKUP($G7,'Dades 2'!$I$12:$P$107,4,FALSE))=FALSE, VLOOKUP($G7,'Dades 2'!$I$12:$P$107,4,FALSE),IF(ISERROR(VLOOKUP($G7,CCTV!$I$12:$P$97,4,FALSE))=FALSE, VLOOKUP($G7,CCTV!$I$12:$P$97,4,FALSE),"?")))) -> ? | K7: =IF(ISERROR(VLOOKUP($G7,Xarxa!$I$12:$P$100,5,FALSE))=FALSE, VLOOKUP($G7,Xarxa!$I$12:$P$100,5,FALSE),IF(ISERROR(VLOOKUP($G7,'Dades 1'!$I$12:$P$115,5,FALSE))=FALSE, VLOOKUP($G7,'Dades 1'!$I$12:$P$115,5,FALSE),IF(ISERROR(VLOOKUP($G7,'Dades 2'!$I$12:$P$107,5,FALSE))=FALSE, VLOOKUP($G7,'Dades 2'!$I$12:$P$107,5,FALSE),IF(ISERROR(VLOOKUP($G7,CCTV!$I$12:$P$97,5,FALSE))=FALSE, VLOOKUP($G7,CCTV!$I$12:$P$97,5,FALSE),"?")))) -> ? | L7: =IF(ISERROR(VLOOKUP($G7,Xarxa!$I$12:$P$100,6,FALSE))=FALSE, VLOOKUP($G7,Xarxa!$I$12:$P$100,6,FALSE),IF(ISERROR(VLOOKUP($G7,'Dades 1'!$I$12:$P$115,6,FALSE))=FALSE, VLOOKUP($G7,'Dades 1'!$I$12:$P$115,6,FALSE),IF(ISERROR(VLOOKUP($G7,'Dades 2'!$I$12:$P$107,6,FALSE))=FALSE, VLOOKUP($G7,'Dades 2'!$I$12:$P$107,6,FALSE),IF(ISERROR(VLOOKUP($G7,CCTV!$I$12:$P$97,6,FALSE))=FALSE, VLOOKUP($G7,CCTV!$I$12:$P$97,6,FALSE),"?")))) -> ?
E8: 1 | F8: 5 | G8: Eru 32 principal | H8: =IF(ISERROR(VLOOKUP($G8,Xarxa!$I$12:$P$100,2,FALSE))=FALSE, VLOOKUP($G8,Xarxa!$I$12:$P$100,2,FALSE),IF(ISERROR(VLOOKUP($G8,'Dades 1'!$I$12:$P$115,2,FALSE))=FALSE, VLOOKUP($G8,'Dades 1'!$I$12:$P$115,2,FALSE),IF(ISERROR(VLOOKUP($G8,'Dades 2'!$I$12:$P$107,2,FALSE))=FALSE, VLOOKUP($G8,'Dades 2'!$I$12:$P$107,2,FALSE),IF(ISERROR(VLOOKUP($G8,CCTV!$I$12:$P$97,2,FALSE))=FALSE, VLOOKUP($G8,CCTV!$I$12:$P$97,2,FALSE),"?")))) -> 10.137.238.205 | I8: =IF(ISERROR(VLOOKUP($G8,Xarxa!$I$12:$P$100,3,FALSE))=FALSE, VLOOKUP($G8,Xarxa!$I$12:$P$100,3,FALSE),IF(ISERROR(VLOOKUP($G8,'Dades 1'!$I$12:$P$115,3,FALSE))=FALSE, VLOOKUP($G8,'Dades 1'!$I$12:$P$115,3,FALSE),IF(ISERROR(VLOOKUP($G8,'Dades 2'!$I$12:$P$107,3,FALSE))=FALSE, VLOOKUP($G8,'Dades 2'!$I$12:$P$107,3,FALSE),IF(ISERROR(VLOOKUP($G8,CCTV!$I$12:$P$97,3,FALSE))=FALSE, VLOOKUP($G8,CCTV!$I$12:$P$97,3,FALSE),"?")))) -> 255.255.255.224 | J8: =IF(ISERROR(VLOOKUP($G8,Xarxa!$I$12:$P$100,4,FALSE))=FALSE, VLOOKUP($G8,Xarxa!$I$12:$P$100,4,FALSE),IF(ISERROR(VLOOKUP($G8,'Dades 1'!$I$12:$P$115,4,FALSE))=FALSE, VLOOKUP($G8,'Dades 1'!$I$12:$P$115,4,FALSE),IF(ISERROR(VLOOKUP($G8,'Dades 2'!$I$12:$P$107,4,FALSE))=FALSE, VLOOKUP($G8,'Dades 2'!$I$12:$P$107,4,FALSE),IF(ISERROR(VLOOKUP($G8,CCTV!$I$12:$P$97,4,FALSE))=FALSE, VLOOKUP($G8,CCTV!$I$12:$P$97,4,FALSE),"?")))) -> 10.137.238.193 | K8: =IF(ISERROR(VLOOKUP($G8,Xarxa!$I$12:$P$100,5,FALSE))=FALSE, VLOOKUP($G8,Xarxa!$I$12:$P$100,5,FALSE),IF(ISERROR(VLOOKUP($G8,'Dades 1'!$I$12:$P$115,5,FALSE))=FALSE, VLOOKUP($G8,'Dades 1'!$I$12:$P$115,5,FALSE),IF(ISERROR(VLOOKUP($G8,'Dades 2'!$I$12:$P$107,5,FALSE))=FALSE, VLOOKUP($G8,'Dades 2'!$I$12:$P$107,5,FALSE),IF(ISERROR(VLOOKUP($G8,CCTV!$I$12:$P$97,5,FALSE))=FALSE, VLOOKUP($G8,CCTV!$I$12:$P$97,5,FALSE),"?")))) -> 00-04-76-E9-42-D1 | L8: =IF(ISERROR(VLOOKUP($G8,Xarxa!$I$12:$P$100,6,FALSE))=FALSE, VLOOKUP($G8,Xarxa!$I$12:$P$100,6,FALSE),IF(ISERROR(VLOOKUP($G8,'Dades 1'!$I$12:$P$115,6,FALSE))=FALSE, VLOOKUP($G8,'Dades 1'!$I$12:$P$115,6,FALSE),IF(ISERROR(VLOOKUP($G8,'Dades 2'!$I$12:$P$107,6,FALSE))=FALSE, VLOOKUP($G8,'Dades 2'!$I$12:$P$107,6,FALSE),IF(ISERROR(VLOOKUP($G8,CCTV!$I$12:$P$97,6,FALSE))=FALSE, VLOOKUP($G8,CCTV!$I$12:$P$97,6,FALSE),"?")))) -> 22
E9: 1 | F9: 6 | G9: Eru 32 secundaria | H9: =IF(ISERROR(VLOOKUP($G9,Xarxa!$I$12:$P$100,2,FALSE))=FALSE, VLOOKUP($G9,Xarxa!$I$12:$P$100,2,FALSE),IF(ISERROR(VLOOKUP($G9,'Dades 1'!$I$12:$P$115,2,FALSE))=FALSE, VLOOKUP($G9,'Dades 1'!$I$12:$P$115,2,FALSE),IF(ISERROR(VLOOKUP($G9,'Dades 2'!$I$12:$P$107,2,FALSE))=FALSE, VLOOKUP($G9,'Dades 2'!$I$12:$P$107,2,FALSE),IF(ISERROR(VLOOKUP($G9,CCTV!$I$12:$P$97,2,FALSE))=FALSE, VLOOKUP($G9,CCTV!$I$12:$P$97,2,FALSE),"?")))) -> 10.137.239.205 | I9: =IF(ISERROR(VLOOKUP($G9,Xarxa!$I$12:$P$100,3,FALSE))=FALSE, VLOOKUP($G9,Xarxa!$I$12:$P$100,3,FALSE),IF(ISERROR(VLOOKUP($G9,'Dades 1'!$I$12:$P$115,3,FALSE))=FALSE, VLOOKUP($G9,'Dades 1'!$I$12:$P$115,3,FALSE),IF(ISERROR(VLOOKUP($G9,'Dades 2'!$I$12:$P$107,3,FALSE))=FALSE, VLOOKUP($G9,'Dades 2'!$I$12:$P$107,3,FALSE),IF(ISERROR(VLOOKUP($G9,CCTV!$I$12:$P$97,3,FALSE))=FALSE, VLOOKUP($G9,CCTV!$I$12:$P$97,3,FALSE),"?")))) -> 255.255.255.224 | J9: =IF(ISERROR(VLOOKUP($G9,Xarxa!$I$12:$P$100,4,FALSE))=FALSE, VLOOKUP($G9,Xarxa!$I$12:$P$100,4,FALSE),IF(ISERROR(VLOOKUP($G9,'Dades 1'!$I$12:$P$115,4,FALSE))=FALSE, VLOOKUP($G9,'Dades 1'!$I$12:$P$115,4,FALSE),IF(ISERROR(VLOOKUP($G9,'Dades 2'!$I$12:$P$107,4,FALSE))=FALSE, VLOOKUP($G9,'Dades 2'!$I$12:$P$107,4,FALSE),IF(ISERROR(VLOOKUP($G9,CCTV!$I$12:$P$97,4,FALSE))=FALSE, VLOOKUP($G9,CCTV!$I$12:$P$97,4,FALSE),"?")))) -> 10.137.239.193 | K9: =IF(ISERROR(VLOOKUP($G9,Xarxa!$I$12:$P$100,5,FALSE))=FALSE, VLOOKUP($G9,Xarxa!$I$12:$P$100,5,FALSE),IF(ISERROR(VLOOKUP($G9,'Dades 1'!$I$12:$P$115,5,FALSE))=FALSE, VLOOKUP($G9,'Dades 1'!$I$12:$P$115,5,FALSE),IF(ISERROR(VLOOKUP($G9,'Dades 2'!$I$12:$P$107,5,FALSE))=FALSE, VLOOKUP($G9,'Dades 2'!$I$12:$P$107,5,FALSE),IF(ISERROR(VLOOKUP($G9,CCTV!$I$12:$P$97,5,FALSE))=FALSE, VLOOKUP($G9,CCTV!$I$12:$P$97,5,FALSE),"?")))) -> 00-04-76-E9-4C-72 | L9: =IF(ISERROR(VLOOKUP($G9,Xarxa!$I$12:$P$100,6,FALSE))=FALSE, VLOOKUP($G9,Xarxa!$I$12:$P$100,6,FALSE),IF(ISERROR(VLOOKUP($G9,'Dades 1'!$I$12:$P$115,6,FALSE))=FALSE, VLOOKUP($G9,'Dades 1'!$I$12:$P$115,6,FALSE),IF(ISERROR(VLOOKUP($G9,'Dades 2'!$I$12:$P$107,6,FALSE))=FALSE, VLOOKUP($G9,'Dades 2'!$I$12:$P$107,6,FALSE),IF(ISERROR(VLOOKUP($G9,CCTV!$I$12:$P$97,6,FALSE))=FALSE, VLOOKUP($G9,CCTV!$I$12:$P$97,6,FALSE),"?")))) -> 32
E10: 1 | F10: 7 | G10: ? | H10: =IF(ISERROR(VLOOKUP($G10,Xarxa!$I$12:$P$100,2,FALSE))=FALSE, VLOOKUP($G10,Xarxa!$I$12:$P$100,2,FALSE),IF(ISERROR(VLOOKUP($G10,'Dades 1'!$I$12:$P$115,2,FALSE))=FALSE, VLOOKUP($G10,'Dades 1'!$I$12:$P$115,2,FALSE),IF(ISERROR(VLOOKUP($G10,'Dades 2'!$I$12:$P$107,2,FALSE))=FALSE, VLOOKUP($G10,'Dades 2'!$I$12:$P$107,2,FALSE),IF(ISERROR(VLOOKUP($G10,CCTV!$I$12:$P$97,2,FALSE))=FALSE, VLOOKUP($G10,CCTV!$I$12:$P$97,2,FALSE),"?")))) -> ? | I10: =IF(ISERROR(VLOOKUP($G10,Xarxa!$I$12:$P$100,3,FALSE))=FALSE, VLOOKUP($G10,Xarxa!$I$12:$P$100,3,FALSE),IF(ISERROR(VLOOKUP($G10,'Dades 1'!$I$12:$P$115,3,FALSE))=FALSE, VLOOKUP($G10,'Dades 1'!$I$12:$P$115,3,FALSE),IF(ISERROR(VLOOKUP($G10,'Dades 2'!$I$12:$P$107,3,FALSE))=FALSE, VLOOKUP($G10,'Dades 2'!$I$12:$P$107,3,FALSE),IF(ISERROR(VLOOKUP($G10,CCTV!$I$12:$P$97,3,FALSE))=FALSE, VLOOKUP($G10,CCTV!$I$12:$P$97,3,FALSE),"?")))) -> ? | J10: =IF(ISERROR(VLOOKUP($G10,Xarxa!$I$12:$P$100,4,FALSE))=FALSE, VLOOKUP($G10,Xarxa!$I$12:$P$100,4,FALSE),IF(ISERROR(VLOOKUP($G10,'Dades 1'!$I$12:$P$115,4,FALSE))=FALSE, VLOOKUP($G10,'Dades 1'!$I$12:$P$115,4,FALSE),IF(ISERROR(VLOOKUP($G10,'Dades 2'!$I$12:$P$107,4,FALSE))=FALSE, VLOOKUP($G10,'Dades 2'!$I$12:$P$107,4,FALSE),IF(ISERROR(VLOOKUP($G10,CCTV!$I$12:$P$97,4,FALSE))=FALSE, VLOOKUP($G10,CCTV!$I$12:$P$97,4,FALSE),"?")))) -> ? | K10: =IF(ISERROR(VLOOKUP($G10,Xarxa!$I$12:$P$100,5,FALSE))=FALSE, VLOOKUP($G10,Xarxa!$I$12:$P$100,5,FALSE),IF(ISERROR(VLOOKUP($G10,'Dades 1'!$I$12:$P$115,5,FALSE))=FALSE, VLOOKUP($G10,'Dades 1'!$I$12:$P$115,5,FALSE),IF(ISERROR(VLOOKUP($G10,'Dades 2'!$I$12:$P$107,5,FALSE))=FALSE, VLOOKUP($G10,'Dades 2'!$I$12:$P$107,5,FALSE),IF(ISERROR(VLOOKUP($G10,CCTV!$I$12:$P$97,5,FALSE))=FALSE, VLOOKUP($G10,CCTV!$I$12:$P$97,5,FALSE),"?")))) -> ? | L10: =IF(ISERROR(VLOOKUP($G10,Xarxa!$I$12:$P$100,6,FALSE))=FALSE, VLOOKUP($G10,Xarxa!$I$12:$P$100,6,FALSE),IF(ISERROR(VLOOKUP($G10,'Dades 1'!$I$12:$P$115,6,FALSE))=FALSE, VLOOKUP($G10,'Dades 1'!$I$12:$P$115,6,FALSE),IF(ISERROR(VLOOKUP($G10,'Dades 2'!$I$12:$P$107,6,FALSE))=FALSE, VLOOKUP($G10,'Dades 2'!$I$12:$P$107,6,FALSE),IF(ISERROR(VLOOKUP($G10,CCTV!$I$12:$P$97,6,FALSE))=FALSE, VLOOKUP($G10,CCTV!$I$12:$P$97,6,FALSE),"?")))) -> ?
E11: 1 | F11: 8 | G11: ? | H11: =IF(ISERROR(VLOOKUP($G11,Xarxa!$I$12:$P$100,2,FALSE))=FALSE, VLOOKUP($G11,Xarxa!$I$12:$P$100,2,FALSE),IF(ISERROR(VLOOKUP($G11,'Dades 1'!$I$12:$P$115,2,FALSE))=FALSE, VLOOKUP($G11,'Dades 1'!$I$12:$P$115,2,FALSE),IF(ISERROR(VLOOKUP($G11,'Dades 2'!$I$12:$P$107,2,FALSE))=FALSE, VLOOKUP($G11,'Dades 2'!$I$12:$P$107,2,FALSE),IF(ISERROR(VLOOKUP($G11,CCTV!$I$12:$P$97,2,FALSE))=FALSE, VLOOKUP($G11,CCTV!$I$12:$P$97,2,FALSE),"?")))) -> ? | I11: =IF(ISERROR(VLOOKUP($G11,Xarxa!$I$12:$P$100,3,FALSE))=FALSE, VLOOKUP($G11,Xarxa!$I$12:$P$100,3,FALSE),IF(ISERROR(VLOOKUP($G11,'Dades 1'!$I$12:$P$115,3,FALSE))=FALSE, VLOOKUP($G11,'Dades 1'!$I$12:$P$115,3,FALSE),IF(ISERROR(VLOOKUP($G11,'Dades 2'!$I$12:$P$107,3,FALSE))=FALSE, VLOOKUP($G11,'Dades 2'!$I$12:$P$107,3,FALSE),IF(ISERROR(VLOOKUP($G11,CCTV!$I$12:$P$97,3,FALSE))=FALSE, VLOOKUP($G11,CCTV!$I$12:$P$97,3,FALSE),"?")))) -> ? | J11: =IF(ISERROR(VLOOKUP($G11,Xarxa!$I$12:$P$100,4,FALSE))=FALSE, VLOOKUP($G11,Xarxa!$I$12:$P$100,4,FALSE),IF(ISERROR(VLOOKUP($G11,'Dades 1'!$I$12:$P$115,4,FALSE))=FALSE, VLOOKUP($G11,'Dades 1'!$I$12:$P$115,4,FALSE),IF(ISERROR(VLOOKUP($G11,'Dades 2'!$I$12:$P$107,4,FALSE))=FALSE, VLOOKUP($G11,'Dades 2'!$I$12:$P$107,4,FALSE),IF(ISERROR(VLOOKUP($G11,CCTV!$I$12:$P$97,4,FALSE))=FALSE, VLOOKUP($G11,CCTV!$I$12:$P$97,4,FALSE),"?")))) -> ? | K11: =IF(ISERROR(VLOOKUP($G11,Xarxa!$I$12:$P$100,5,FALSE))=FALSE, VLOOKUP($G11,Xarxa!$I$12:$P$100,5,FALSE),IF(ISERROR(VLOOKUP($G11,'Dades 1'!$I$12:$P$115,5,FALSE))=FALSE, VLOOKUP($G11,'Dades 1'!$I$12:$P$115,5,FALSE),IF(ISERROR(VLOOKUP($G11,'Dades 2'!$I$12:$P$107,5,FALSE))=FALSE, VLOOKUP($G11,'Dades 2'!$I$12:$P$107,5,FALSE),IF(ISERROR(VLOOKUP($G11,CCTV!$I$12:$P$97,5,FALSE))=FALSE, VLOOKUP($G11,CCTV!$I$12:$P$97,5,FALSE),"?")))) -> ? | L11: =IF(ISERROR(VLOOKUP($G11,Xarxa!$I$12:$P$100,6,FALSE))=FALSE, VLOOKUP($G11,Xarxa!$I$12:$P$100,6,FALSE),IF(ISERROR(VLOOKUP($G11,'Dades 1'!$I$12:$P$115,6,FALSE))=FALSE, VLOOKUP($G11,'Dades 1'!$I$12:$P$115,6,FALSE),IF(ISERROR(VLOOKUP($G11,'Dades 2'!$I$12:$P$107,6,FALSE))=FALSE, VLOOKUP($G11,'Dades 2'!$I$12:$P$107,6,FALSE),IF(ISERROR(VLOOKUP($G11,CCTV!$I$12:$P$97,6,FALSE))=FALSE, VLOOKUP($G11,CCTV!$I$12:$P$97,6,FALSE),"?")))) -> ?
E12: 1 | F12: 9 | G12: ? | H12: =IF(ISERROR(VLOOKUP($G12,Xarxa!$I$12:$P$100,2,FALSE))=FALSE, VLOOKUP($G12,Xarxa!$I$12:$P$100,2,FALSE),IF(ISERROR(VLOOKUP($G12,'Dades 1'!$I$12:$P$115,2,FALSE))=FALSE, VLOOKUP($G12,'Dades 1'!$I$12:$P$115,2,FALSE),IF(ISERROR(VLOOKUP($G12,'Dades 2'!$I$12:$P$107,2,FALSE))=FALSE, VLOOKUP($G12,'Dades 2'!$I$12:$P$107,2,FALSE),IF(ISERROR(VLOOKUP($G12,CCTV!$I$12:$P$97,2,FALSE))=FALSE, VLOOKUP($G12,CCTV!$I$12:$P$97,2,FALSE),"?")))) -> ? | I12: =IF(ISERROR(VLOOKUP($G12,Xarxa!$I$12:$P$100,3,FALSE))=FALSE, VLOOKUP($G12,Xarxa!$I$12:$P$100,3,FALSE),IF(ISERROR(VLOOKUP($G12,'Dades 1'!$I$12:$P$115,3,FALSE))=FALSE, VLOOKUP($G12,'Dades 1'!$I$12:$P$115,3,FALSE),IF(ISERROR(VLOOKUP($G12,'Dades 2'!$I$12:$P$107,3,FALSE))=FALSE, VLOOKUP($G12,'Dades 2'!$I$12:$P$107,3,FALSE),IF(ISERROR(VLOOKUP($G12,CCTV!$I$12:$P$97,3,FALSE))=FALSE, VLOOKUP($G12,CCTV!$I$12:$P$97,3,FALSE),"?")))) -> ? | J12: =IF(ISERROR(VLOOKUP($G12,Xarxa!$I$12:$P$100,4,FALSE))=FALSE, VLOOKUP($G12,Xarxa!$I$12:$P$100,4,FALSE),IF(ISERROR(VLOOKUP($G12,'Dades 1'!$I$12:$P$115,4,FALSE))=FALSE, VLOOKUP($G12,'Dades 1'!$I$12:$P$115,4,FALSE),IF(ISERROR(VLOOKUP($G12,'Dades 2'!$I$12:$P$107,4,FALSE))=FALSE, VLOOKUP($G12,'Dades 2'!$I$12:$P$107,4,FALSE),IF(ISERROR(VLOOKUP($G12,CCTV!$I$12:$P$97,4,FALSE))=FALSE, VLOOKUP($G12,CCTV!$I$12:$P$97,4,FALSE),"?")))) -> ? | K12: =IF(ISERROR(VLOOKUP($G12,Xarxa!$I$12:$P$100,5,FALSE))=FALSE, VLOOKUP($G12,Xarxa!$I$12:$P$100,5,FALSE),IF(ISERROR(VLOOKUP($G12,'Dades 1'!$I$12:$P$115,5,FALSE))=FALSE, VLOOKUP($G12,'Dades 1'!$I$12:$P$115,5,FALSE),IF(ISERROR(VLOOKUP($G12,'Dades 2'!$I$12:$P$107,5,FALSE))=FALSE, VLOOKUP($G12,'Dades 2'!$I$12:$P$107,5,FALSE),IF(ISERROR(VLOOKUP($G12,CCTV!$I$12:$P$97,5,FALSE))=FALSE, VLOOKUP($G12,CCTV!$I$12:$P$97,5,FALSE),"?")))) -> ? | L12: =IF(ISERROR(VLOOKUP($G12,Xarxa!$I$12:$P$100,6,FALSE))=FALSE, VLOOKUP($G12,Xarxa!$I$12:$P$100,6,FALSE),IF(ISERROR(VLOOKUP($G12,'Dades 1'!$I$12:$P$115,6,FALSE))=FALSE, VLOOKUP($G12,'Dades 1'!$I$12:$P$115,6,FALSE),IF(ISERROR(VLOOKUP($G12,'Dades 2'!$I$12:$P$107,6,FALSE))=FALSE, VLOOKUP($G12,'Dades 2'!$I$12:$P$107,6,FALSE),IF(ISERROR(VLOOKUP($G12,CCTV!$I$12:$P$97,6,FALSE))=FALSE, VLOOKUP($G12,CCTV!$I$12:$P$97,6,FALSE),"?")))) -> ?
A14: =INDIRECT(M14) -> Node Xarxa 33 | E14: MODULE | F14: PORT | G14: CONNECTED DEVICE | H14: IP | I14: MASK | J14: GATEWAY | K14: MAC | L14: VLAN | M14: =CONCATENATE("Xarxa!I",RIGHT(M3,2)+1) -> Xarxa!I17
A15: RS-40 | E15: 1 | F15: 1 | G15: ? | H15: =IF(ISERROR(VLOOKUP($G15,Xarxa!$I$12:$P$100,2,FALSE))=FALSE, VLOOKUP($G15,Xarxa!$I$12:$P$100,2,FALSE),IF(ISERROR(VLOOKUP($G15,'Dades 1'!$I$12:$P$115,2,FALSE))=FALSE, VLOOKUP($G15,'Dades 1'!$I$12:$P$115,2,FALSE),IF(ISERROR(VLOOKUP($G15,'Dades 2'!$I$12:$P$107,2,FALSE))=FALSE, VLOOKUP($G15,'Dades 2'!$I$12:$P$107,2,FALSE),IF(ISERROR(VLOOKUP($G15,CCTV!$I$12:$P$97,2,FALSE))=FALSE, VLOOKUP($G15,CCTV!$I$12:$P$97,2,FALSE),"?")))) -> ? | I15: =IF(ISERROR(VLOOKUP($G15,Xarxa!$I$12:$P$100,3,FALSE))=FALSE, VLOOKUP($G15,Xarxa!$I$12:$P$100,3,FALSE),IF(ISERROR(VLOOKUP($G15,'Dades 1'!$I$12:$P$115,3,FALSE))=FALSE, VLOOKUP($G15,'Dades 1'!$I$12:$P$115,3,FALSE),IF(ISERROR(VLOOKUP($G15,'Dades 2'!$I$12:$P$107,3,FALSE))=FALSE, VLOOKUP($G15,'Dades 2'!$I$12:$P$107,3,FALSE),IF(ISERROR(VLOOKUP($G15,CCTV!$I$12:$P$97,3,FALSE))=FALSE, VLOOKUP($G15,CCTV!$I$12:$P$97,3,FALSE),"?")))) -> ? | J15: =IF(ISERROR(VLOOKUP($G15,Xarxa!$I$12:$P$100,4,FALSE))=FALSE, VLOOKUP($G15,Xarxa!$I$12:$P$100,4,FALSE),IF(ISERROR(VLOOKUP($G15,'Dades 1'!$I$12:$P$115,4,FALSE))=FALSE, VLOOKUP($G15,'Dades 1'!$I$12:$P$115,4,FALSE),IF(ISERROR(VLOOKUP($G15,'Dades 2'!$I$12:$P$107,4,FALSE))=FALSE, VLOOKUP($G15,'Dades 2'!$I$12:$P$107,4,FALSE),IF(ISERROR(VLOOKUP($G15,CCTV!$I$12:$P$97,4,FALSE))=FALSE, VLOOKUP($G15,CCTV!$I$12:$P$97,4,FALSE),"?")))) -> ? | K15: =IF(ISERROR(VLOOKUP($G15,Xarxa!$I$12:$P$100,5,FALSE))=FALSE, VLOOKUP($G15,Xarxa!$I$12:$P$100,5,FALSE),IF(ISERROR(VLOOKUP($G15,'Dades 1'!$I$12:$P$115,5,FALSE))=FALSE, VLOOKUP($G15,'Dades 1'!$I$12:$P$115,5,FALSE),IF(ISERROR(VLOOKUP($G15,'Dades 2'!$I$12:$P$107,5,FALSE))=FALSE, VLOOKUP($G15,'Dades 2'!$I$12:$P$107,5,FALSE),IF(ISERROR(VLOOKUP($G15,CCTV!$I$12:$P$97,5,FALSE))=FALSE, VLOOKUP($G15,CCTV!$I$12:$P$97,5,FALSE),"?")))) -> ? | L15: =IF(ISERROR(VLOOKUP($G15,Xarxa!$I$12:$P$100,6,FALSE))=FALSE, VLOOKUP($G15,Xarxa!$I$12:$P$100,6,FALSE),IF(ISERROR(VLOOKUP($G15,'Dades 1'!$I$12:$P$115,6,FALSE))=FALSE, VLOOKUP($G15,'Dades 1'!$I$12:$P$115,6,FALSE),IF(ISERROR(VLOOKUP($G15,'Dades 2'!$I$12:$P$107,6,FALSE))=FALSE, VLOOKUP($G15,'Dades 2'!$I$12:$P$107,6,FALSE),IF(ISERROR(VLOOKUP($G15,CCTV!$I$12:$P$97,6,FALSE))=FALSE, VLOOKUP($G15,CCTV!$I$12:$P$97,6,FALSE),"?")))) -> ?
E16: 1 | F16: 2 | G16: ? | H16: =IF(ISERROR(VLOOKUP($G16,Xarxa!$I$12:$P$100,2,FALSE))=FALSE, VLOOKUP($G16,Xarxa!$I$12:$P$100,2,FALSE),IF(ISERROR(VLOOKUP($G16,'Dades 1'!$I$12:$P$115,2,FALSE))=FALSE, VLOOKUP($G16,'Dades 1'!$I$12:$P$115,2,FALSE),IF(ISERROR(VLOOKUP($G16,'Dades 2'!$I$12:$P$107,2,FALSE))=FALSE, VLOOKUP($G16,'Dades 2'!$I$12:$P$107,2,FALSE),IF(ISERROR(VLOOKUP($G16,CCTV!$I$12:$P$97,2,FALSE))=FALSE, VLOOKUP($G16,CCTV!$I$12:$P$97,2,FALSE),"?")))) -> ? | I16: =IF(ISERROR(VLOOKUP($G16,Xarxa!$I$12:$P$100,3,FALSE))=FALSE, VLOOKUP($G16,Xarxa!$I$12:$P$100,3,FALSE),IF(ISERROR(VLOOKUP($G16,'Dades 1'!$I$12:$P$115,3,FALSE))=FALSE, VLOOKUP($G16,'Dades 1'!$I$12:$P$115,3,FALSE),IF(ISERROR(VLOOKUP($G16,'Dades 2'!$I$12:$P$107,3,FALSE))=FALSE, VLOOKUP($G16,'Dades 2'!$I$12:$P$107,3,FALSE),IF(ISERROR(VLOOKUP($G16,CCTV!$I$12:$P$97,3,FALSE))=FALSE, VLOOKUP($G16,CCTV!$I$12:$P$97,3,FALSE),"?")))) -> ? | J16: =IF(ISERROR(VLOOKUP($G16,Xarxa!$I$12:$P$100,4,FALSE))=FALSE, VLOOKUP($G16,Xarxa!$I$12:$P$100,4,FALSE),IF(ISERROR(VLOOKUP($G16,'Dades 1'!$I$12:$P$115,4,FALSE))=FALSE, VLOOKUP($G16,'Dades 1'!$I$12:$P$115,4,FALSE),IF(ISERROR(VLOOKUP($G16,'Dades 2'!$I$12:$P$107,4,FALSE))=FALSE, VLOOKUP($G16,'Dades 2'!$I$12:$P$107,4,FALSE),IF(ISERROR(VLOOKUP($G16,CCTV!$I$12:$P$97,4,FALSE))=FALSE, VLOOKUP($G16,CCTV!$I$12:$P$97,4,FALSE),"?")))) -> ? | K16: =IF(ISERROR(VLOOKUP($G16,Xarxa!$I$12:$P$100,5,FALSE))=FALSE, VLOOKUP($G16,Xarxa!$I$12:$P$100,5,FALSE),IF(ISERROR(VLOOKUP($G16,'Dades 1'!$I$12:$P$115,5,FALSE))=FALSE, VLOOKUP($G16,'Dades 1'!$I$12:$P$115,5,FALSE),IF(ISERROR(VLOOKUP($G16,'Dades 2'!$I$12:$P$107,5,FALSE))=FALSE, VLOOKUP($G16,'Dades 2'!$I$12:$P$107,5,FALSE),IF(ISERROR(VLOOKUP($G16,CCTV!$I$12:$P$97,5,FALSE))=FALSE, VLOOKUP($G16,CCTV!$I$12:$P$97,5,FALSE),"?")))) -> ? | L16: =IF(ISERROR(VLOOKUP($G16,Xarxa!$I$12:$P$100,6,FALSE))=FALSE, VLOOKUP($G16,Xarxa!$I$12:$P$100,6,FALSE),IF(ISERROR(VLOOKUP($G16,'Dades 1'!$I$12:$P$115,6,FALSE))=FALSE, VLOOKUP($G16,'Dades 1'!$I$12:$P$115,6,FALSE),IF(ISERROR(VLOOKUP($G16,'Dades 2'!$I$12:$P$107,6,FALSE))=FALSE, VLOOKUP($G16,'Dades 2'!$I$12:$P$107,6,FALSE),IF(ISERROR(VLOOKUP($G16,CCTV!$I$12:$P$97,6,FALSE))=FALSE, VLOOKUP($G16,CCTV!$I$12:$P$97,6,FALSE),"?")))) -> ?
E17: 1 | F17: 3 | G17: ? | H17: =IF(ISERROR(VLOOKUP($G17,Xarxa!$I$12:$P$100,2,FALSE))=FALSE, VLOOKUP($G17,Xarxa!$I$12:$P$100,2,FALSE),IF(ISERROR(VLOOKUP($G17,'Dades 1'!$I$12:$P$115,2,FALSE))=FALSE, VLOOKUP($G17,'Dades 1'!$I$12:$P$115,2,FALSE),IF(ISERROR(VLOOKUP($G17,'Dades 2'!$I$12:$P$107,2,FALSE))=FALSE, VLOOKUP($G17,'Dades 2'!$I$12:$P$107,2,FALSE),IF(ISERROR(VLOOKUP($G17,CCTV!$I$12:$P$97,2,FALSE))=FALSE, VLOOKUP($G17,CCTV!$I$12:$P$97,2,FALSE),"?")))) -> ? | I17: =IF(ISERROR(VLOOKUP($G17,Xarxa!$I$12:$P$100,3,FALSE))=FALSE, VLOOKUP($G17,Xarxa!$I$12:$P$100,3,FALSE),IF(ISERROR(VLOOKUP($G17,'Dades 1'!$I$12:$P$115,3,FALSE))=FALSE, VLOOKUP($G17,'Dades 1'!$I$12:$P$115,3,FALSE),IF(ISERROR(VLOOKUP($G17,'Dades 2'!$I$12:$P$107,3,FALSE))=FALSE, VLOOKUP($G17,'Dades 2'!$I$12:$P$107,3,FALSE),IF(ISERROR(VLOOKUP($G17,CCTV!$I$12:$P$97,3,FALSE))=FALSE, VLOOKUP($G17,CCTV!$I$12:$P$97,3,FALSE),"?")))) -> ? | J17: =IF(ISERROR(VLOOKUP($G17,Xarxa!$I$12:$P$100,4,FALSE))=FALSE, VLOOKUP($G17,Xarxa!$I$12:$P$100,4,FALSE),IF(ISERROR(VLOOKUP($G17,'Dades 1'!$I$12:$P$115,4,FALSE))=FALSE, VLOOKUP($G17,'Dades 1'!$I$12:$P$115,4,FALSE),IF(ISERROR(VLOOKUP($G17,'Dades 2'!$I$12:$P$107,4,FALSE))=FALSE, VLOOKUP($G17,'Dades 2'!$I$12:$P$107,4,FALSE),IF(ISERROR(VLOOKUP($G17,CCTV!$I$12:$P$97,4,FALSE))=FALSE, VLOOKUP($G17,CCTV!$I$12:$P$97,4,FALSE),"?")))) -> ? | K17: =IF(ISERROR(VLOOKUP($G17,Xarxa!$I$12:$P$100,5,FALSE))=FALSE, VLOOKUP($G17,Xarxa!$I$12:$P$100,5,FALSE),IF(ISERROR(VLOOKUP($G17,'Dades 1'!$I$12:$P$115,5,FALSE))=FALSE, VLOOKUP($G17,'Dades 1'!$I$12:$P$115,5,FALSE),IF(ISERROR(VLOOKUP($G17,'Dades 2'!$I$12:$P$107,5,FALSE))=FALSE, VLOOKUP($G17,'Dades 2'!$I$12:$P$107,5,FALSE),IF(ISERROR(VLOOKUP($G17,CCTV!$I$12:$P$97,5,FALSE))=FALSE, VLOOKUP($G17,CCTV!$I$12:$P$97,5,FALSE),"?")))) -> ? | L17: =IF(ISERROR(VLOOKUP($G17,Xarxa!$I$12:$P$100,6,FALSE))=FALSE, VLOOKUP($G17,Xarxa!$I$12:$P$100,6,FALSE),IF(ISERROR(VLOOKUP($G17,'Dades 1'!$I$12:$P$115,6,FALSE))=FALSE, VLOOKUP($G17,'Dades 1'!$I$12:$P$115,6,FALSE),IF(ISERROR(VLOOKUP($G17,'Dades 2'!$I$12:$P$107,6,FALSE))=FALSE, VLOOKUP($G17,'Dades 2'!$I$12:$P$107,6,FALSE),IF(ISERROR(VLOOKUP($G17,CCTV!$I$12:$P$97,6,FALSE))=FALSE, VLOOKUP($G17,CCTV!$I$12:$P$97,6,FALSE),"?")))) -> ?
E18: 1 | F18: 4 | G18: ? | H18: =IF(ISERROR(VLOOKUP($G18,Xarxa!$I$12:$P$100,2,FALSE))=FALSE, VLOOKUP($G18,Xarxa!$I$12:$P$100,2,FALSE),IF(ISERROR(VLOOKUP($G18,'Dades 1'!$I$12:$P$115,2,FALSE))=FALSE, VLOOKUP($G18,'Dades 1'!$I$12:$P$115,2,FALSE),IF(ISERROR(VLOOKUP($G18,'Dades 2'!$I$12:$P$107,2,FALSE))=FALSE, VLOOKUP($G18,'Dades 2'!$I$12:$P$107,2,FALSE),IF(ISERROR(VLOOKUP($G18,CCTV!$I$12:$P$97,2,FALSE))=FALSE, VLOOKUP($G18,CCTV!$I$12:$P$97,2,FALSE),"?")))) -> ? | I18: =IF(ISERROR(VLOOKUP($G18,Xarxa!$I$12:$P$100,3,FALSE))=FALSE, VLOOKUP($G18,Xarxa!$I$12:$P$100,3,FALSE),IF(ISERROR(VLOOKUP($G18,'Dades 1'!$I$12:$P$115,3,FALSE))=FALSE, VLOOKUP($G18,'Dades 1'!$I$12:$P$115,3,FALSE),IF(ISERROR(VLOOKUP($G18,'Dades 2'!$I$12:$P$107,3,FALSE))=FALSE, VLOOKUP($G18,'Dades 2'!$I$12:$P$107,3,FALSE),IF(ISERROR(VLOOKUP($G18,CCTV!$I$12:$P$97,3,FALSE))=FALSE, VLOOKUP($G18,CCTV!$I$12:$P$97,3,FALSE),"?")))) -> ? | J18: =IF(ISERROR(VLOOKUP($G18,Xarxa!$I$12:$P$100,4,FALSE))=FALSE, VLOOKUP($G18,Xarxa!$I$12:$P$100,4,FALSE),IF(ISERROR(VLOOKUP($G18,'Dades 1'!$I$12:$P$115,4,FALSE))=FALSE, VLOOKUP($G18,'Dades 1'!$I$12:$P$115,4,FALSE),IF(ISERROR(VLOOKUP($G18,'Dades 2'!$I$12:$P$107,4,FALSE))=FALSE, VLOOKUP($G18,'Dades 2'!$I$12:$P$107,4,FALSE),IF(ISERROR(VLOOKUP($G18,CCTV!$I$12:$P$97,4,FALSE))=FALSE, VLOOKUP($G18,CCTV!$I$12:$P$97,4,FALSE),"?")))) -> ? | K18: =IF(ISERROR(VLOOKUP($G18,Xarxa!$I$12:$P$100,5,FALSE))=FALSE, VLOOKUP($G18,Xarxa!$I$12:$P$100,5,FALSE),IF(ISERROR(VLOOKUP($G18,'Dades 1'!$I$12:$P$115,5,FALSE))=FALSE, VLOOKUP($G18,'Dades 1'!$I$12:$P$115,5,FALSE),IF(ISERROR(VLOOKUP($G18,'Dades 2'!$I$12:$P$107,5,FALSE))=FALSE, VLOOKUP($G18,'Dades 2'!$I$12:$P$107,5,FALSE),IF(ISERROR(VLOOKUP($G18,CCTV!$I$12:$P$97,5,FALSE))=FALSE, VLOOKUP($G18,CCTV!$I$12:$P$97,5,FALSE),"?")))) -> ? | L18: =IF(ISERROR(VLOOKUP($G18,Xarxa!$I$12:$P$100,6,FALSE))=FALSE, VLOOKUP($G18,Xarxa!$I$12:$P$100,6,FALSE),IF(ISERROR(VLOOKUP($G18,'Dades 1'!$I$12:$P$115,6,FALSE))=FALSE, VLOOKUP($G18,'Dades 1'!$I$12:$P$115,6,FALSE),IF(ISERROR(VLOOKUP($G18,'Dades 2'!$I$12:$P$107,6,FALSE))=FALSE, VLOOKUP($G18,'Dades 2'!$I$12:$P$107,6,FALSE),IF(ISERROR(VLOOKUP($G18,CCTV!$I$12:$P$97,6,FALSE))=FALSE, VLOOKUP($G18,CCTV!$I$12:$P$97,6,FALSE),"?")))) -> ?
E19: 1 | F19: 5 | G19: Eru 33 principal | H19: =IF(ISERROR(VLOOKUP($G19,Xarxa!$I$12:$P$100,2,FALSE))=FALSE, VLOOKUP($G19,Xarxa!$I$12:$P$100,2,FALSE),IF(ISERROR(VLOOKUP($G19,'Dades 1'!$I$12:$P$115,2,FALSE))=FALSE, VLOOKUP($G19,'Dades 1'!$I$12:$P$115,2,FALSE),IF(ISERROR(VLOOKUP($G19,'Dades 2'!$I$12:$P$107,2,FALSE))=FALSE, VLOOKUP($G19,'Dades 2'!$I$12:$P$107,2,FALSE),IF(ISERROR(VLOOKUP($G19,CCTV!$I$12:$P$97,2,FALSE))=FALSE, VLOOKUP($G19,CCTV!$I$12:$P$97,2,FALSE),"?")))) -> 10.137.238.206 | I19: =IF(ISERROR(VLOOKUP($G19,Xarxa!$I$12:$P$100,3,FALSE))=FALSE, VLOOKUP($G19,Xarxa!$I$12:$P$100,3,FALSE),IF(ISERROR(VLOOKUP($G19,'Dades 1'!$I$12:$P$115,3,FALSE))=FALSE, VLOOKUP($G19,'Dades 1'!$I$12:$P$115,3,FALSE),IF(ISERROR(VLOOKUP($G19,'Dades 2'!$I$12:$P$107,3,FALSE))=FALSE, VLOOKUP($G19,'Dades 2'!$I$12:$P$107,3,FALSE),IF(ISERROR(VLOOKUP($G19,CCTV!$I$12:$P$97,3,FALSE))=FALSE, VLOOKUP($G19,CCTV!$I$12:$P$97,3,FALSE),"?")))) -> 255.255.255.224 | J19: =IF(ISERROR(VLOOKUP($G19,Xarxa!$I$12:$P$100,4,FALSE))=FALSE, VLOOKUP($G19,Xarxa!$I$12:$P$100,4,FALSE),IF(ISERROR(VLOOKUP($G19,'Dades 1'!$I$12:$P$115,4,FALSE))=FALSE, VLOOKUP($G19,'Dades 1'!$I$12:$P$115,4,FALSE),IF(ISERROR(VLOOKUP($G19,'Dades 2'!$I$12:$P$107,4,FALSE))=FALSE, VLOOKUP($G19,'Dades 2'!$I$12:$P$107,4,FALSE),IF(ISERROR(VLOOKUP($G19,CCTV!$I$12:$P$97,4,FALSE))=FALSE, VLOOKUP($G19,CCTV!$I$12:$P$97,4,FALSE),"?")))) -> 10.137.238.193 | K19: =IF(ISERROR(VLOOKUP($G19,Xarxa!$I$12:$P$100,5,FALSE))=FALSE, VLOOKUP($G19,Xarxa!$I$12:$P$100,5,FALSE),IF(ISERROR(VLOOKUP($G19,'Dades 1'!$I$12:$P$115,5,FALSE))=FALSE, VLOOKUP($G19,'Dades 1'!$I$12:$P$115,5,FALSE),IF(ISERROR(VLOOKUP($G19,'Dades 2'!$I$12:$P$107,5,FALSE))=FALSE, VLOOKUP($G19,'Dades 2'!$I$12:$P$107,5,FALSE),IF(ISERROR(VLOOKUP($G19,CCTV!$I$12:$P$97,5,FALSE))=FALSE, VLOOKUP($G19,CCTV!$I$12:$P$97,5,FALSE),"?")))) -> 00-04-76-E9-4A-B3 | L19: =IF(ISERROR(VLOOKUP($G19,Xarxa!$I$12:$P$100,6,FALSE))=FALSE, VLOOKUP($G19,Xarxa!$I$12:$P$100,6,FALSE),IF(ISERROR(VLOOKUP($G19,'Dades 1'!$I$12:$P$115,6,FALSE))=FALSE, VLOOKUP($G19,'Dades 1'!$I$12:$P$115,6,FALSE),IF(ISERROR(VLOOKUP($G19,'Dades 2'!$I$12:$P$107,6,FALSE))=FALSE, VLOOKUP($G19,'Dades 2'!$I$12:$P$107,6,FALSE),IF(ISERROR(VLOOKUP($G19,CCTV!$I$12:$P$97,6,FALSE))=FALSE, VLOOKUP($G19,CCTV!$I$12:$P$97,6,FALSE),"?")))) -> 22
E20: 1 | F20: 6 | G20: Eru 33 secundaria | H20: =IF(ISERROR(VLOOKUP($G20,Xarxa!$I$12:$P$100,2,FALSE))=FALSE, VLOOKUP($G20,Xarxa!$I$12:$P$100,2,FALSE),IF(ISERROR(VLOOKUP($G20,'Dades 1'!$I$12:$P$115,2,FALSE))=FALSE, VLOOKUP($G20,'Dades 1'!$I$12:$P$115,2,FALSE),IF(ISERROR(VLOOKUP($G20,'Dades 2'!$I$12:$P$107,2,FALSE))=FALSE, VLOOKUP($G20,'Dades 2'!$I$12:$P$107,2,FALSE),IF(ISERROR(VLOOKUP($G20,CCTV!$I$12:$P$97,2,FALSE))=FALSE, VLOOKUP($G20,CCTV!$I$12:$P$97,2,FALSE),"?")))) -> 10.137.239.206 | I20: =IF(ISERROR(VLOOKUP($G20,Xarxa!$I$12:$P$100,3,FALSE))=FALSE, VLOOKUP($G20,Xarxa!$I$12:$P$100,3,FALSE),IF(ISERROR(VLOOKUP($G20,'Dades 1'!$I$12:$P$115,3,FALSE))=FALSE, VLOOKUP($G20,'Dades 1'!$I$12:$P$115,3,FALSE),IF(ISERROR(VLOOKUP($G20,'Dades 2'!$I$12:$P$107,3,FALSE))=FALSE, VLOOKUP($G20,'Dades 2'!$I$12:$P$107,3,FALSE),IF(ISERROR(VLOOKUP($G20,CCTV!$I$12:$P$97,3,FALSE))=FALSE, VLOOKUP($G20,CCTV!$I$12:$P$97,3,FALSE),"?")))) -> 255.255.255.224 | J20: =IF(ISERROR(VLOOKUP($G20,Xarxa!$I$12:$P$100,4,FALSE))=FALSE, VLOOKUP($G20,Xarxa!$I$12:$P$100,4,FALSE),IF(ISERROR(VLOOKUP($G20,'Dades 1'!$I$12:$P$115,4,FALSE))=FALSE, VLOOKUP($G20,'Dades 1'!$I$12:$P$115,4,FALSE),IF(ISERROR(VLOOKUP($G20,'Dades 2'!$I$12:$P$107,4,FALSE))=FALSE, VLOOKUP($G20,'Dades 2'!$I$12:$P$107,4,FALSE),IF(ISERROR(VLOOKUP($G20,CCTV!$I$12:$P$97,4,FALSE))=FALSE, VLOOKUP($G20,CCTV!$I$12:$P$97,4,FALSE),"?")))) -> 10.137.239.193 | K20: =IF(ISERROR(VLOOKUP($G20,Xarxa!$I$12:$P$100,5,FALSE))=FALSE, VLOOKUP($G20,Xarxa!$I$12:$P$100,5,FALSE),IF(ISERROR(VLOOKUP($G20,'Dades 1'!$I$12:$P$115,5,FALSE))=FALSE, VLOOKUP($G20,'Dades 1'!$I$12:$P$115,5,FALSE),IF(ISERROR(VLOOKUP($G20,'Dades 2'!$I$12:$P$107,5,FALSE))=FALSE, VLOOKUP($G20,'Dades 2'!$I$12:$P$107,5,FALSE),IF(ISERROR(VLOOKUP($G20,CCTV!$I$12:$P$97,5,FALSE))=FALSE, VLOOKUP($G20,CCTV!$I$12:$P$97,5,FALSE),"?")))) -> 00-0A-5E-03-ED-E2 | L20: =IF(ISERROR(VLOOKUP($G20,Xarxa!$I$12:$P$100,6,FALSE))=FALSE, VLOOKUP($G20,Xarxa!$I$12:$P$100,6,FALSE),IF(ISERROR(VLOOKUP($G20,'Dades 1'!$I$12:$P$115,6,FALSE))=FALSE, VLOOKUP($G20,'Dades 1'!$I$12:$P$115,6,FALSE),IF(ISERROR(VLOOKUP($G20,'Dades 2'!$I$12:$P$107,6,FALSE))=FALSE, VLOOKUP($G20,'Dades 2'!$I$12:$P$107,6,FALSE),IF(ISERROR(VLOOKUP($G20,CCTV!$I$12:$P$97,6,FALSE))=FALSE, VLOOKUP($G20,CCTV!$I$12:$P$97,6,FALSE),"?")))) -> 32
E21: 1 | F21: 7 | G21: ? | H21: =IF(ISERROR(VLOOKUP($G21,Xarxa!$I$12:$P$100,2,FALSE))=FALSE, VLOOKUP($G21,Xarxa!$I$12:$P$100,2,FALSE),IF(ISERROR(VLOOKUP($G21,'Dades 1'!$I$12:$P$115,2,FALSE))=FALSE, VLOOKUP($G21,'Dades 1'!$I$12:$P$115,2,FALSE),IF(ISERROR(VLOOKUP($G21,'Dades 2'!$I$12:$P$107,2,FALSE))=FALSE, VLOOKUP($G21,'Dades 2'!$I$12:$P$107,2,FALSE),IF(ISERROR(VLOOKUP($G21,CCTV!$I$12:$P$97,2,FALSE))=FALSE, VLOOKUP($G21,CCTV!$I$12:$P$97,2,FALSE),"?")))) -> ? | I21: =IF(ISERROR(VLOOKUP($G21,Xarxa!$I$12:$P$100,3,FALSE))=FALSE, VLOOKUP($G21,Xarxa!$I$12:$P$100,3,FALSE),IF(ISERROR(VLOOKUP($G21,'Dades 1'!$I$12:$P$115,3,FALSE))=FALSE, VLOOKUP($G21,'Dades 1'!$I$12:$P$115,3,FALSE),IF(ISERROR(VLOOKUP($G21,'Dades 2'!$I$12:$P$107,3,FALSE))=FALSE, VLOOKUP($G21,'Dades 2'!$I$12:$P$107,3,FALSE),IF(ISERROR(VLOOKUP($G21,CCTV!$I$12:$P$97,3,FALSE))=FALSE, VLOOKUP($G21,CCTV!$I$12:$P$97,3,FALSE),"?")))) -> ? | J21: =IF(ISERROR(VLOOKUP($G21,Xarxa!$I$12:$P$100,4,FALSE))=FALSE, VLOOKUP($G21,Xarxa!$I$12:$P$100,4,FALSE),IF(ISERROR(VLOOKUP($G21,'Dades 1'!$I$12:$P$115,4,FALSE))=FALSE, VLOOKUP($G21,'Dades 1'!$I$12:$P$115,4,FALSE),IF(ISERROR(VLOOKUP($G21,'Dades 2'!$I$12:$P$107,4,FALSE))=FALSE, VLOOKUP($G21,'Dades 2'!$I$12:$P$107,4,FALSE),IF(ISERROR(VLOOKUP($G21,CCTV!$I$12:$P$97,4,FALSE))=FALSE, VLOOKUP($G21,CCTV!$I$12:$P$97,4,FALSE),"?")))) -> ? | K21: =IF(ISERROR(VLOOKUP($G21,Xarxa!$I$12:$P$100,5,FALSE))=FALSE, VLOOKUP($G21,Xarxa!$I$12:$P$100,5,FALSE),IF(ISERROR(VLOOKUP($G21,'Dades 1'!$I$12:$P$115,5,FALSE))=FALSE, VLOOKUP($G21,'Dades 1'!$I$12:$P$115,5,FALSE),IF(ISERROR(VLOOKUP($G21,'Dades 2'!$I$12:$P$107,5,FALSE))=FALSE, VLOOKUP($G21,'Dades 2'!$I$12:$P$107,5,FALSE),IF(ISERROR(VLOOKUP($G21,CCTV!$I$12:$P$97,5,FALSE))=FALSE, VLOOKUP($G21,CCTV!$I$12:$P$97,5,FALSE),"?")))) -> ? | L21: =IF(ISERROR(VLOOKUP($G21,Xarxa!$I$12:$P$100,6,FALSE))=FALSE, VLOOKUP($G21,Xarxa!$I$12:$P$100,6,FALSE),IF(ISERROR(VLOOKUP($G21,'Dades 1'!$I$12:$P$115,6,FALSE))=FALSE, VLOOKUP($G21,'Dades 1'!$I$12:$P$115,6,FALSE),IF(ISERROR(VLOOKUP($G21,'Dades 2'!$I$12:$P$107,6,FALSE))=FALSE, VLOOKUP($G21,'Dades 2'!$I$12:$P$107,6,FALSE),IF(ISERROR(VLOOKUP($G21,CCTV!$I$12:$P$97,6,FALSE))=FALSE, VLOOKUP($G21,CCTV!$I$12:$P$97,6,FALSE),"?")))) -> ?
E22: 1 | F22: 8 | G22: ? | H22: =IF(ISERROR(VLOOKUP($G22,Xarxa!$I$12:$P$100,2,FALSE))=FALSE, VLOOKUP($G22,Xarxa!$I$12:$P$100,2,FALSE),IF(ISERROR(VLOOKUP($G22,'Dades 1'!$I$12:$P$115,2,FALSE))=FALSE, VLOOKUP($G22,'Dades 1'!$I$12:$P$115,2,FALSE),IF(ISERROR(VLOOKUP($G22,'Dades 2'!$I$12:$P$107,2,FALSE))=FALSE, VLOOKUP($G22,'Dades 2'!$I$12:$P$107,2,FALSE),IF(ISERROR(VLOOKUP($G22,CCTV!$I$12:$P$97,2,FALSE))=FALSE, VLOOKUP($G22,CCTV!$I$12:$P$97,2,FALSE),"?")))) -> ? | I22: =IF(ISERROR(VLOOKUP($G22,Xarxa!$I$12:$P$100,3,FALSE))=FALSE, VLOOKUP($G22,Xarxa!$I$12:$P$100,3,FALSE),IF(ISERROR(VLOOKUP($G22,'Dades 1'!$I$12:$P$115,3,FALSE))=FALSE, VLOOKUP($G22,'Dades 1'!$I$12:$P$115,3,FALSE),IF(ISERROR(VLOOKUP($G22,'Dades 2'!$I$12:$P$107,3,FALSE))=FALSE, VLOOKUP($G22,'Dades 2'!$I$12:$P$107,3,FALSE),IF(ISERROR(VLOOKUP($G22,CCTV!$I$12:$P$97,3,FALSE))=FALSE, VLOOKUP($G22,CCTV!$I$12:$P$97,3,FALSE),"?")))) -> ? | J22: =IF(ISERROR(VLOOKUP($G22,Xarxa!$I$12:$P$100,4,FALSE))=FALSE, VLOOKUP($G22,Xarxa!$I$12:$P$100,4,FALSE),IF(ISERROR(VLOOKUP($G22,'Dades 1'!$I$12:$P$115,4,FALSE))=FALSE, VLOOKUP($G22,'Dades 1'!$I$12:$P$115,4,FALSE),IF(ISERROR(VLOOKUP($G22,'Dades 2'!$I$12:$P$107,4,FALSE))=FALSE, VLOOKUP($G22,'Dades 2'!$I$12:$P$107,4,FALSE),IF(ISERROR(VLOOKUP($G22,CCTV!$I$12:$P$97,4,FALSE))=FALSE, VLOOKUP($G22,CCTV!$I$12:$P$97,4,FALSE),"?")))) -> ? | K22: =IF(ISERROR(VLOOKUP($G22,Xarxa!$I$12:$P$100,5,FALSE))=FALSE, VLOOKUP($G22,Xarxa!$I$12:$P$100,5,FALSE),IF(ISERROR(VLOOKUP($G22,'Dades 1'!$I$12:$P$115,5,FALSE))=FALSE, VLOOKUP($G22,'Dades 1'!$I$12:$P$115,5,FALSE),IF(ISERROR(VLOOKUP($G22,'Dades 2'!$I$12:$P$107,5,FALSE))=FALSE, VLOOKUP($G22,'Dades 2'!$I$12:$P$107,5,FALSE),IF(ISERROR(VLOOKUP($G22,CCTV!$I$12:$P$97,5,FALSE))=FALSE, VLOOKUP($G22,CCTV!$I$12:$P$97,5,FALSE),"?")))) -> ? | L22: =IF(ISERROR(VLOOKUP($G22,Xarxa!$I$12:$P$100,6,FALSE))=FALSE, VLOOKUP($G22,Xarxa!$I$12:$P$100,6,FALSE),IF(ISERROR(VLOOKUP($G22,'Dades 1'!$I$12:$P$115,6,FALSE))=FALSE, VLOOKUP($G22,'Dades 1'!$I$12:$P$115,6,FALSE),IF(ISERROR(VLOOKUP($G22,'Dades 2'!$I$12:$P$107,6,FALSE))=FALSE, VLOOKUP($G22,'Dades 2'!$I$12:$P$107,6,FALSE),IF(ISERROR(VLOOKUP($G22,CCTV!$I$12:$P$97,6,FALSE))=FALSE, VLOOKUP($G22,CCTV!$I$12:$P$97,6,FALSE),"?")))) -> ?
E23: 1 | F23: 9 | G23: ? | H23: =IF(ISERROR(VLOOKUP($G23,Xarxa!$I$12:$P$100,2,FALSE))=FALSE, VLOOKUP($G23,Xarxa!$I$12:$P$100,2,FALSE),IF(ISERROR(VLOOKUP($G23,'Dades 1'!$I$12:$P$115,2,FALSE))=FALSE, VLOOKUP($G23,'Dades 1'!$I$12:$P$115,2,FALSE),IF(ISERROR(VLOOKUP($G23,'Dades 2'!$I$12:$P$107,2,FALSE))=FALSE, VLOOKUP($G23,'Dades 2'!$I$12:$P$107,2,FALSE),IF(ISERROR(VLOOKUP($G23,CCTV!$I$12:$P$97,2,FALSE))=FALSE, VLOOKUP($G23,CCTV!$I$12:$P$97,2,FALSE),"?")))) -> ? | I23: =IF(ISERROR(VLOOKUP($G23,Xarxa!$I$12:$P$100,3,FALSE))=FALSE, VLOOKUP($G23,Xarxa!$I$12:$P$100,3,FALSE),IF(ISERROR(VLOOKUP($G23,'Dades 1'!$I$12:$P$115,3,FALSE))=FALSE, VLOOKUP($G23,'Dades 1'!$I$12:$P$115,3,FALSE),IF(ISERROR(VLOOKUP($G23,'Dades 2'!$I$12:$P$107,3,FALSE))=FALSE, VLOOKUP($G23,'Dades 2'!$I$12:$P$107,3,FALSE),IF(ISERROR(VLOOKUP($G23,CCTV!$I$12:$P$97,3,FALSE))=FALSE, VLOOKUP($G23,CCTV!$I$12:$P$97,3,FALSE),"?")))) -> ? | J23: =IF(ISERROR(VLOOKUP($G23,Xarxa!$I$12:$P$100,4,FALSE))=FALSE, VLOOKUP($G23,Xarxa!$I$12:$P$100,4,FALSE),IF(ISERROR(VLOOKUP($G23,'Dades 1'!$I$12:$P$115,4,FALSE))=FALSE, VLOOKUP($G23,'Dades 1'!$I$12:$P$115,4,FALSE),IF(ISERROR(VLOOKUP($G23,'Dades 2'!$I$12:$P$107,4,FALSE))=FALSE, VLOOKUP($G23,'Dades 2'!$I$12:$P$107,4,FALSE),IF(ISERROR(VLOOKUP($G23,CCTV!$I$12:$P$97,4,FALSE))=FALSE, VLOOKUP($G23,CCTV!$I$12:$P$97,4,FALSE),"?")))) -> ? | K23: =IF(ISERROR(VLOOKUP($G23,Xarxa!$I$12:$P$100,5,FALSE))=FALSE, VLOOKUP($G23,Xarxa!$I$12:$P$100,5,FALSE),IF(ISERROR(VLOOKUP($G23,'Dades 1'!$I$12:$P$115,5,FALSE))=FALSE, VLOOKUP($G23,'Dades 1'!$I$12:$P$115,5,FALSE),IF(ISERROR(VLOOKUP($G23,'Dades 2'!$I$12:$P$107,5,FALSE))=FALSE, VLOOKUP($G23,'Dades 2'!$I$12:$P$107,5,FALSE),IF(ISERROR(VLOOKUP($G23,CCTV!$I$12:$P$97,5,FALSE))=FALSE, VLOOKUP($G23,CCTV!$I$12:$P$97,5,FALSE),"?")))) -> ? | L23: =IF(ISERROR(VLOOKUP($G23,Xarxa!$I$12:$P$100,6,FALSE))=FALSE, VLOOKUP($G23,Xarxa!$I$12:$P$100,6,FALSE),IF(ISERROR(VLOOKUP($G23,'Dades 1'!$I$12:$P$115,6,FALSE))=FALSE, VLOOKUP($G23,'Dades 1'!$I$12:$P$115,6,FALSE),IF(ISERROR(VLOOKUP($G23,'Dades 2'!$I$12:$P$107,6,FALSE))=FALSE, VLOOKUP($G23,'Dades 2'!$I$12:$P$107,6,FALSE),IF(ISERROR(VLOOKUP($G23,CCTV!$I$12:$P$97,6,FALSE))=FALSE, VLOOKUP($G23,CCTV!$I$12:$P$97,6,FALSE),"?")))) -> ?
A25: =INDIRECT(M25) -> Node Xarxa 34 | E25: MODULE | F25: PORT | G25: CONNECTED DEVICE | H25: IP | I25: MASK | J25: GATEWAY | K25: MAC | L25: VLAN | M25: =CONCATENATE("Xarxa!I",RIGHT(M14,2)+1) -> Xarxa!I18
E26: 1 | F26: 1 | G26: ? | H26: =IF(ISERROR(VLOOKUP($G26,Xarxa!$I$12:$P$100,2,FALSE))=FALSE, VLOOKUP($G26,Xarxa!$I$12:$P$100,2,FALSE),IF(ISERROR(VLOOKUP($G26,'Dades 1'!$I$12:$P$115,2,FALSE))=FALSE, VLOOKUP($G26,'Dades 1'!$I$12:$P$115,2,FALSE),IF(ISERROR(VLOOKUP($G26,'Dades 2'!$I$12:$P$107,2,FALSE))=FALSE, VLOOKUP($G26,'Dades 2'!$I$12:$P$107,2,FALSE),IF(ISERROR(VLOOKUP($G26,CCTV!$I$12:$P$97,2,FALSE))=FALSE, VLOOKUP($G26,CCTV!$I$12:$P$97,2,FALSE),"?")))) -> ? | I26: =IF(ISERROR(VLOOKUP($G26,Xarxa!$I$12:$P$100,3,FALSE))=FALSE, VLOOKUP($G26,Xarxa!$I$12:$P$100,3,FALSE),IF(ISERROR(VLOOKUP($G26,'Dades 1'!$I$12:$P$115,3,FALSE))=FALSE, VLOOKUP($G26,'Dades 1'!$I$12:$P$115,3,FALSE),IF(ISERROR(VLOOKUP($G26,'Dades 2'!$I$12:$P$107,3,FALSE))=FALSE, VLOOKUP($G26,'Dades 2'!$I$12:$P$107,3,FALSE),IF(ISERROR(VLOOKUP($G26,CCTV!$I$12:$P$97,3,FALSE))=FALSE, VLOOKUP($G26,CCTV!$I$12:$P$97,3,FALSE),"?")))) -> ? | J26: =IF(ISERROR(VLOOKUP($G26,Xarxa!$I$12:$P$100,4,FALSE))=FALSE, VLOOKUP($G26,Xarxa!$I$12:$P$100,4,FALSE),IF(ISERROR(VLOOKUP($G26,'Dades 1'!$I$12:$P$115,4,FALSE))=FALSE, VLOOKUP($G26,'Dades 1'!$I$12:$P$115,4,FALSE),IF(ISERROR(VLOOKUP($G26,'Dades 2'!$I$12:$P$107,4,FALSE))=FALSE, VLOOKUP($G26,'Dades 2'!$I$12:$P$107,4,FALSE),IF(ISERROR(VLOOKUP($G26,CCTV!$I$12:$P$97,4,FALSE))=FALSE, VLOOKUP($G26,CCTV!$I$12:$P$97,4,FALSE),"?")))) -> ? | K26: =IF(ISERROR(VLOOKUP($G26,Xarxa!$I$12:$P$100,5,FALSE))=FALSE, VLOOKUP($G26,Xarxa!$I$12:$P$100,5,FALSE),IF(ISERROR(VLOOKUP($G26,'Dades 1'!$I$12:$P$115,5,FALSE))=FALSE, VLOOKUP($G26,'Dades 1'!$I$12:$P$115,5,FALSE),IF(ISERROR(VLOOKUP($G26,'Dades 2'!$I$12:$P$107,5,FALSE))=FALSE, VLOOKUP($G26,'Dades 2'!$I$12:$P$107,5,FALSE),IF(ISERROR(VLOOKUP($G26,CCTV!$I$12:$P$97,5,FALSE))=FALSE, VLOOKUP($G26,CCTV!$I$12:$P$97,5,FALSE),"?")))) -> ? | L26: =IF(ISERROR(VLOOKUP($G26,Xarxa!$I$12:$P$100,6,FALSE))=FALSE, VLOOKUP($G26,Xarxa!$I$12:$P$100,6,FALSE),IF(ISERROR(VLOOKUP($G26,'Dades 1'!$I$12:$P$115,6,FALSE))=FALSE, VLOOKUP($G26,'Dades 1'!$I$12:$P$115,6,FALSE),IF(ISERROR(VLOOKUP($G26,'Dades 2'!$I$12:$P$107,6,FALSE))=FALSE, VLOOKUP($G26,'Dades 2'!$I$12:$P$107,6,FALSE),IF(ISERROR(VLOOKUP($G26,CCTV!$I$12:$P$97,6,FALSE))=FALSE, VLOOKUP($G26,CCTV!$I$12:$P$97,6,FALSE),"?")))) -> ?
E27: 1 | F27: 2 | G27: ? | H27: =IF(ISERROR(VLOOKUP($G27,Xarxa!$I$12:$P$100,2,FALSE))=FALSE, VLOOKUP($G27,Xarxa!$I$12:$P$100,2,FALSE),IF(ISERROR(VLOOKUP($G27,'Dades 1'!$I$12:$P$115,2,FALSE))=FALSE, VLOOKUP($G27,'Dades 1'!$I$12:$P$115,2,FALSE),IF(ISERROR(VLOOKUP($G27,'Dades 2'!$I$12:$P$107,2,FALSE))=FALSE, VLOOKUP($G27,'Dades 2'!$I$12:$P$107,2,FALSE),IF(ISERROR(VLOOKUP($G27,CCTV!$I$12:$P$97,2,FALSE))=FALSE, VLOOKUP($G27,CCTV!$I$12:$P$97,2,FALSE),"?")))) -> ? | I27: =IF(ISERROR(VLOOKUP($G27,Xarxa!$I$12:$P$100,3,FALSE))=FALSE, VLOOKUP($G27,Xarxa!$I$12:$P$100,3,FALSE),IF(ISERROR(VLOOKUP($G27,'Dades 1'!$I$12:$P$115,3,FALSE))=FALSE, VLOOKUP($G27,'Dades 1'!$I$12:$P$115,3,FALSE),IF(ISERROR(VLOOKUP($G27,'Dades 2'!$I$12:$P$107,3,FALSE))=FALSE, VLOOKUP($G27,'Dades 2'!$I$12:$P$107,3,FALSE),IF(ISERROR(VLOOKUP($G27,CCTV!$I$12:$P$97,3,FALSE))=FALSE, VLOOKUP($G27,CCTV!$I$12:$P$97,3,FALSE),"?")))) -> ? | J27: =IF(ISERROR(VLOOKUP($G27,Xarxa!$I$12:$P$100,4,FALSE))=FALSE, VLOOKUP($G27,Xarxa!$I$12:$P$100,4,FALSE),IF(ISERROR(VLOOKUP($G27,'Dades 1'!$I$12:$P$115,4,FALSE))=FALSE, VLOOKUP($G27,'Dades 1'!$I$12:$P$115,4,FALSE),IF(ISERROR(VLOOKUP($G27,'Dades 2'!$I$12:$P$107,4,FALSE))=FALSE, VLOOKUP($G27,'Dades 2'!$I$12:$P$107,4,FALSE),IF(ISERROR(VLOOKUP($G27,CCTV!$I$12:$P$97,4,FALSE))=FALSE, VLOOKUP($G27,CCTV!$I$12:$P$97,4,FALSE),"?")))) -> ? | K27: =IF(ISERROR(VLOOKUP($G27,Xarxa!$I$12:$P$100,5,FALSE))=FALSE, VLOOKUP($G27,Xarxa!$I$12:$P$100,5,FALSE),IF(ISERROR(VLOOKUP($G27,'Dades 1'!$I$12:$P$115,5,FALSE))=FALSE, VLOOKUP($G27,'Dades 1'!$I$12:$P$115,5,FALSE),IF(ISERROR(VLOOKUP($G27,'Dades 2'!$I$12:$P$107,5,FALSE))=FALSE, VLOOKUP($G27,'Dades 2'!$I$12:$P$107,5,FALSE),IF(ISERROR(VLOOKUP($G27,CCTV!$I$12:$P$97,5,FALSE))=FALSE, VLOOKUP($G27,CCTV!$I$12:$P$97,5,FALSE),"?")))) -> ? | L27: =IF(ISERROR(VLOOKUP($G27,Xarxa!$I$12:$P$100,6,FALSE))=FALSE, VLOOKUP($G27,Xarxa!$I$12:$P$100,6,FALSE),IF(ISERROR(VLOOKUP($G27,'Dades 1'!$I$12:$P$115,6,FALSE))=FALSE, VLOOKUP($G27,'Dades 1'!$I$12:$P$115,6,FALSE),IF(ISERROR(VLOOKUP($G27,'Dades 2'!$I$12:$P$107,6,FALSE))=FALSE, VLOOKUP($G27,'Dades 2'!$I$12:$P$107,6,FALSE),IF(ISERROR(VLOOKUP($G27,CCTV!$I$12:$P$97,6,FALSE))=FALSE, VLOOKUP($G27,CCTV!$I$12:$P$97,6,FALSE),"?")))) -> ?
E28: 1 | F28: 3 | G28: Eru 34 principal | H28: =IF(ISERROR(VLOOKUP($G28,Xarxa!$I$12:$P$100,2,FALSE))=FALSE, VLOOKUP($G28,Xarxa!$I$12:$P$100,2,FALSE),IF(ISERROR(VLOOKUP($G28,'Dades 1'!$I$12:$P$115,2,FALSE))=FALSE, VLOOKUP($G28,'Dades 1'!$I$12:$P$115,2,FALSE),IF(ISERROR(VLOOKUP($G28,'Dades 2'!$I$12:$P$107,2,FALSE))=FALSE, VLOOKUP($G28,'Dades 2'!$I$12:$P$107,2,FALSE),IF(ISERROR(VLOOKUP($G28,CCTV!$I$12:$P$97,2,FALSE))=FALSE, VLOOKUP($G28,CCTV!$I$12:$P$97,2,FALSE),"?")))) -> 10.137.238.207 | I28: =IF(ISERROR(VLOOKUP($G28,Xarxa!$I$12:$P$100,3,FALSE))=FALSE, VLOOKUP($G28,Xarxa!$I$12:$P$100,3,FALSE),IF(ISERROR(VLOOKUP($G28,'Dades 1'!$I$12:$P$115,3,FALSE))=FALSE, VLOOKUP($G28,'Dades 1'!$I$12:$P$115,3,FALSE),IF(ISERROR(VLOOKUP($G28,'Dades 2'!$I$12:$P$107,3,FALSE))=FALSE, VLOOKUP($G28,'Dades 2'!$I$12:$P$107,3,FALSE),IF(ISERROR(VLOOKUP($G28,CCTV!$I$12:$P$97,3,FALSE))=FALSE, VLOOKUP($G28,CCTV!$I$12:$P$97,3,FALSE),"?")))) -> 255.255.255.224 | J28: =IF(ISERROR(VLOOKUP($G28,Xarxa!$I$12:$P$100,4,FALSE))=FALSE, VLOOKUP($G28,Xarxa!$I$12:$P$100,4,FALSE),IF(ISERROR(VLOOKUP($G28,'Dades 1'!$I$12:$P$115,4,FALSE))=FALSE, VLOOKUP($G28,'Dades 1'!$I$12:$P$115,4,FALSE),IF(ISERROR(VLOOKUP($G28,'Dades 2'!$I$12:$P$107,4,FALSE))=FALSE, VLOOKUP($G28,'Dades 2'!$I$12:$P$107,4,FALSE),IF(ISERROR(VLOOKUP($G28,CCTV!$I$12:$P$97,4,FALSE))=FALSE, VLOOKUP($G28,CCTV!$I$12:$P$97,4,FALSE),"?")))) -> 10.137.238.193 | K28: =IF(ISERROR(VLOOKUP($G28,Xarxa!$I$12:$P$100,5,FALSE))=FALSE, VLOOKUP($G28,Xarxa!$I$12:$P$100,5,FALSE),IF(ISERROR(VLOOKUP($G28,'Dades 1'!$I$12:$P$115,5,FALSE))=FALSE, VLOOKUP($G28,'Dades 1'!$I$12:$P$115,5,FALSE),IF(ISERROR(VLOOKUP($G28,'Dades 2'!$I$12:$P$107,5,FALSE))=FALSE, VLOOKUP($G28,'Dades 2'!$I$12:$P$107,5,FALSE),IF(ISERROR(VLOOKUP($G28,CCTV!$I$12:$P$97,5,FALSE))=FALSE, VLOOKUP($G28,CCTV!$I$12:$P$97,5,FALSE),"?")))) -> 00-04-76-E9-4C-4A | L28: =IF(ISERROR(VLOOKUP($G28,Xarxa!$I$12:$P$100,6,FALSE))=FALSE, VLOOKUP($G28,Xarxa!$I$12:$P$100,6,FALSE),IF(ISERROR(VLOOKUP($G28,'Dades 1'!$I$12:$P$115,6,FALSE))=FALSE, VLOOKUP($G28,'Dades 1'!$I$12:$P$115,6,FALSE),IF(ISERROR(VLOOKUP($G28,'Dades 2'!$I$12:$P$107,6,FALSE))=FALSE, VLOOKUP($G28,'Dades 2'!$I$12:$P$107,6,FALSE),IF(ISERROR(VLOOKUP($G28,CCTV!$I$12:$P$97,6,FALSE))=FALSE, VLOOKUP($G28,CCTV!$I$12:$P$97,6,FALSE),"?")))) -> 22
E29: 1 | F29: 4 | G29: Eru 34 secundaria | H29: =IF(ISERROR(VLOOKUP($G29,Xarxa!$I$12:$P$100,2,FALSE))=FALSE, VLOOKUP($G29,Xarxa!$I$12:$P$100,2,FALSE),IF(ISERROR(VLOOKUP($G29,'Dades 1'!$I$12:$P$115,2,FALSE))=FALSE, VLOOKUP($G29,'Dades 1'!$I$12:$P$115,2,FALSE),IF(ISERROR(VLOOKUP($G29,'Dades 2'!$I$12:$P$107,2,FALSE))=FALSE, VLOOKUP($G29,'Dades 2'!$I$12:$P$107,2,FALSE),IF(ISERROR(VLOOKUP($G29,CCTV!$I$12:$P$97,2,FALSE))=FALSE, VLOOKUP($G29,CCTV!$I$12:$P$97,2,FALSE),"?")))) -> 10.137.239.207 | I29: =IF(ISERROR(VLOOKUP($G29,Xarxa!$I$12:$P$100,3,FALSE))=FALSE, VLOOKUP($G29,Xarxa!$I$12:$P$100,3,FALSE),IF(ISERROR(VLOOKUP($G29,'Dades 1'!$I$12:$P$115,3,FALSE))=FALSE, VLOOKUP($G29,'Dades 1'!$I$12:$P$115,3,FALSE),IF(ISERROR(VLOOKUP($G29,'Dades 2'!$I$12:$P$107,3,FALSE))=FALSE, VLOOKUP($G29,'Dades 2'!$I$12:$P$107,3,FALSE),IF(ISERROR(VLOOKUP($G29,CCTV!$I$12:$P$97,3,FALSE))=FALSE, VLOOKUP($G29,CCTV!$I$12:$P$97,3,FALSE),"?")))) -> 255.255.255.224 | J29: =IF(ISERROR(VLOOKUP($G29,Xarxa!$I$12:$P$100,4,FALSE))=FALSE, VLOOKUP($G29,Xarxa!$I$12:$P$100,4,FALSE),IF(ISERROR(VLOOKUP($G29,'Dades 1'!$I$12:$P$115,4,FALSE))=FALSE, VLOOKUP($G29,'Dades 1'!$I$12:$P$115,4,FALSE),IF(ISERROR(VLOOKUP($G29,'Dades 2'!$I$12:$P$107,4,FALSE))=FALSE, VLOOKUP($G29,'Dades 2'!$I$12:$P$107,4,FALSE),IF(ISERROR(VLOOKUP($G29,CCTV!$I$12:$P$97,4,FALSE))=FALSE, VLOOKUP($G29,CCTV!$I$12:$P$97,4,FALSE),"?")))) -> 10.137.239.193 | K29: =IF(ISERROR(VLOOKUP($G29,Xarxa!$I$12:$P$100,5,FALSE))=FALSE, VLOOKUP($G29,Xarxa!$I$12:$P$100,5,FALSE),IF(ISERROR(VLOOKUP($G29,'Dades 1'!$I$12:$P$115,5,FALSE))=FALSE, VLOOKUP($G29,'Dades 1'!$I$12:$P$115,5,FALSE),IF(ISERROR(VLOOKUP($G29,'Dades 2'!$I$12:$P$107,5,FALSE))=FALSE, VLOOKUP($G29,'Dades 2'!$I$12:$P$107,5,FALSE),IF(ISERROR(VLOOKUP($G29,CCTV!$I$12:$P$97,5,FALSE))=FALSE, VLOOKUP($G29,CCTV!$I$12:$P$97,5,FALSE),"?")))) -> 00-04-76-E3-4C-10 | L29: =IF(ISERROR(VLOOKUP($G29,Xarxa!$I$12:$P$100,6,FALSE))=FALSE, VLOOKUP($G29,Xarxa!$I$12:$P$100,6,FALSE),IF(ISERROR(VLOOKUP($G29,'Dades 1'!$I$12:$P$115,6,FALSE))=FALSE, VLOOKUP($G29,'Dades 1'!$I$12:$P$115,6,FALSE),IF(ISERROR(VLOOKUP($G29,'Dades 2'!$I$12:$P$107,6,FALSE))=FALSE, VLOOKUP($G29,'Dades 2'!$I$12:$P$107,6,FALSE),IF(ISERROR(VLOOKUP($G29,CCTV!$I$12:$P$97,6,FALSE))=FALSE, VLOOKUP($G29,CCTV!$I$12:$P$97,6,FALSE),"?")))) -> 32
E30: 1 | F30: 5 | G30: Cámara 3018 | H30: =IF(ISERROR(VLOOKUP($G30,Xarxa!$I$12:$P$100,2,FALSE))=FALSE, VLOOKUP($G30,Xarxa!$I$12:$P$100,2,FALSE),IF(ISERROR(VLOOKUP($G30,'Dades 1'!$I$12:$P$115,2,FALSE))=FALSE, VLOOKUP($G30,'Dades 1'!$I$12:$P$115,2,FALSE),IF(ISERROR(VLOOKUP($G30,'Dades 2'!$I$12:$P$107,2,FALSE))=FALSE, VLOOKUP($G30,'Dades 2'!$I$12:$P$107,2,FALSE),IF(ISERROR(VLOOKUP($G30,CCTV!$I$12:$P$97,2,FALSE))=FALSE, VLOOKUP($G30,CCTV!$I$12:$P$97,2,FALSE),"?")))) -> 10.137.239.228 | I30: =IF(ISERROR(VLOOKUP($G30,Xarxa!$I$12:$P$100,3,FALSE))=FALSE, VLOOKUP($G30,Xarxa!$I$12:$P$100,3,FALSE),IF(ISERROR(VLOOKUP($G30,'Dades 1'!$I$12:$P$115,3,FALSE))=FALSE, VLOOKUP($G30,'Dades 1'!$I$12:$P$115,3,FALSE),IF(ISERROR(VLOOKUP($G30,'Dades 2'!$I$12:$P$107,3,FALSE))=FALSE, VLOOKUP($G30,'Dades 2'!$I$12:$P$107,3,FALSE),IF(ISERROR(VLOOKUP($G30,CCTV!$I$12:$P$97,3,FALSE))=FALSE, VLOOKUP($G30,CCTV!$I$12:$P$97,3,FALSE),"?")))) -> 255.255.255.224 | J30: =IF(ISERROR(VLOOKUP($G30,Xarxa!$I$12:$P$100,4,FALSE))=FALSE, VLOOKUP($G30,Xarxa!$I$12:$P$100,4,FALSE),IF(ISERROR(VLOOKUP($G30,'Dades 1'!$I$12:$P$115,4,FALSE))=FALSE, VLOOKUP($G30,'Dades 1'!$I$12:$P$115,4,FALSE),IF(ISERROR(VLOOKUP($G30,'Dades 2'!$I$12:$P$107,4,FALSE))=FALSE, VLOOKUP($G30,'Dades 2'!$I$12:$P$107,4,FALSE),IF(ISERROR(VLOOKUP($G30,CCTV!$I$12:$P$97,4,FALSE))=FALSE, VLOOKUP($G30,CCTV!$I$12:$P$97,4,FALSE),"?")))) -> 10.137.239.225 | K30: =IF(ISERROR(VLOOKUP($G30,Xarxa!$I$12:$P$100,5,FALSE))=FALSE, VLOOKUP($G30,Xarxa!$I$12:$P$100,5,FALSE),IF(ISERROR(VLOOKUP($G30,'Dades 1'!$I$12:$P$115,5,FALSE))=FALSE, VLOOKUP($G30,'Dades 1'!$I$12:$P$115,5,FALSE),IF(ISERROR(VLOOKUP($G30,'Dades 2'!$I$12:$P$107,5,FALSE))=FALSE, VLOOKUP($G30,'Dades 2'!$I$12:$P$107,5,FALSE),IF(ISERROR(VLOOKUP($G30,CCTV!$I$12:$P$97,5,FALSE))=FALSE, VLOOKUP($G30,CCTV!$I$12:$P$97,5,FALSE),"?")))) -> - | L30: =IF(ISERROR(VLOOKUP($G30,Xarxa!$I$12:$P$100,6,FALSE))=FALSE, VLOOKUP($G30,Xarxa!$I$12:$P$100,6,FALSE),IF(ISERROR(VLOOKUP($G30,'Dades 1'!$I$12:$P$115,6,FALSE))=FALSE, VLOOKUP($G30,'Dades 1'!$I$12:$P$115,6,FALSE),IF(ISERROR(VLOOKUP($G30,'Dades 2'!$I$12:$P$107,6,FALSE))=FALSE, VLOOKUP($G30,'Dades 2'!$I$12:$P$107,6,FALSE),IF(ISERROR(VLOOKUP($G30,CCTV!$I$12:$P$97,6,FALSE))=FALSE, VLOOKUP($G30,CCTV!$I$12:$P$97,6,FALSE),"?")))) -> 42
E31: 1 | F31: 6 | G31: ? | H31: =IF(ISERROR(VLOOKUP($G31,Xarxa!$I$12:$P$100,2,FALSE))=FALSE, VLOOKUP($G31,Xarxa!$I$12:$P$100,2,FALSE),IF(ISERROR(VLOOKUP($G31,'Dades 1'!$I$12:$P$115,2,FALSE))=FALSE, VLOOKUP($G31,'Dades 1'!$I$12:$P$115,2,FALSE),IF(ISERROR(VLOOKUP($G31,'Dades 2'!$I$12:$P$107,2,FALSE))=FALSE, VLOOKUP($G31,'Dades 2'!$I$12:$P$107,2,FALSE),IF(ISERROR(VLOOKUP($G31,CCTV!$I$12:$P$97,2,FALSE))=FALSE, VLOOKUP($G31,CCTV!$I$12:$P$97,2,FALSE),"?")))) -> ? | I31: =IF(ISERROR(VLOOKUP($G31,Xarxa!$I$12:$P$100,3,FALSE))=FALSE, VLOOKUP($G31,Xarxa!$I$12:$P$100,3,FALSE),IF(ISERROR(VLOOKUP($G31,'Dades 1'!$I$12:$P$115,3,FALSE))=FALSE, VLOOKUP($G31,'Dades 1'!$I$12:$P$115,3,FALSE),IF(ISERROR(VLOOKUP($G31,'Dades 2'!$I$12:$P$107,3,FALSE))=FALSE, VLOOKUP($G31,'Dades 2'!$I$12:$P$107,3,FALSE),IF(ISERROR(VLOOKUP($G31,CCTV!$I$12:$P$97,3,FALSE))=FALSE, VLOOKUP($G31,CCTV!$I$12:$P$97,3,FALSE),"?")))) -> ? | J31: =IF(ISERROR(VLOOKUP($G31,Xarxa!$I$12:$P$100,4,FALSE))=FALSE, VLOOKUP($G31,Xarxa!$I$12:$P$100,4,FALSE),IF(ISERROR(VLOOKUP($G31,'Dades 1'!$I$12:$P$115,4,FALSE))=FALSE, VLOOKUP($G31,'Dades 1'!$I$12:$P$115,4,FALSE),IF(ISERROR(VLOOKUP($G31,'Dades 2'!$I$12:$P$107,4,FALSE))=FALSE, VLOOKUP($G31,'Dades 2'!$I$12:$P$107,4,FALSE),IF(ISERROR(VLOOKUP($G31,CCTV!$I$12:$P$97,4,FALSE))=FALSE, VLOOKUP($G31,CCTV!$I$12:$P$97,4,FALSE),"?")))) -> ? | K31: =IF(ISERROR(VLOOKUP($G31,Xarxa!$I$12:$P$100,5,FALSE))=FALSE, VLOOKUP($G31,Xarxa!$I$12:$P$100,5,FALSE),IF(ISERROR(VLOOKUP($G31,'Dades 1'!$I$12:$P$115,5,FALSE))=FALSE, VLOOKUP($G31,'Dades 1'!$I$12:$P$115,5,FALSE),IF(ISERROR(VLOOKUP($G31,'Dades 2'!$I$12:$P$107,5,FALSE))=FALSE, VLOOKUP($G31,'Dades 2'!$I$12:$P$107,5,FALSE),IF(ISERROR(VLOOKUP($G31,CCTV!$I$12:$P$97,5,FALSE))=FALSE, VLOOKUP($G31,CCTV!$I$12:$P$97,5,FALSE),"?")))) -> ? | L31: =IF(ISERROR(VLOOKUP($G31,Xarxa!$I$12:$P$100,6,FALSE))=FALSE, VLOOKUP($G31,Xarxa!$I$12:$P$100,6,FALSE),IF(ISERROR(VLOOKUP($G31,'Dades 1'!$I$12:$P$115,6,FALSE))=FALSE, VLOOKUP($G31,'Dades 1'!$I$12:$P$115,6,FALSE),IF(ISERROR(VLOOKUP($G31,'Dades 2'!$I$12:$P$107,6,FALSE))=FALSE, VLOOKUP($G31,'Dades 2'!$I$12:$P$107,6,FALSE),IF(ISERROR(VLOOKUP($G31,CCTV!$I$12:$P$97,6,FALSE))=FALSE, VLOOKUP($G31,CCTV!$I$12:$P$97,6,FALSE),"?")))) -> ?
E32: 1 | F32: 7 | G32: ? | H32: =IF(ISERROR(VLOOKUP($G32,Xarxa!$I$12:$P$100,2,FALSE))=FALSE, VLOOKUP($G32,Xarxa!$I$12:$P$100,2,FALSE),IF(ISERROR(VLOOKUP($G32,'Dades 1'!$I$12:$P$115,2,FALSE))=FALSE, VLOOKUP($G32,'Dades 1'!$I$12:$P$115,2,FALSE),IF(ISERROR(VLOOKUP($G32,'Dades 2'!$I$12:$P$107,2,FALSE))=FALSE, VLOOKUP($G32,'Dades 2'!$I$12:$P$107,2,FALSE),IF(ISERROR(VLOOKUP($G32,CCTV!$I$12:$P$97,2,FALSE))=FALSE, VLOOKUP($G32,CCTV!$I$12:$P$97,2,FALSE),"?")))) -> ? | I32: =IF(ISERROR(VLOOKUP($G32,Xarxa!$I$12:$P$100,3,FALSE))=FALSE, VLOOKUP($G32,Xarxa!$I$12:$P$100,3,FALSE),IF(ISERROR(VLOOKUP($G32,'Dades 1'!$I$12:$P$115,3,FALSE))=FALSE, VLOOKUP($G32,'Dades 1'!$I$12:$P$115,3,FALSE),IF(ISERROR(VLOOKUP($G32,'Dades 2'!$I$12:$P$107,3,FALSE))=FALSE, VLOOKUP($G32,'Dades 2'!$I$12:$P$107,3,FALSE),IF(ISERROR(VLOOKUP($G32,CCTV!$I$12:$P$97,3,FALSE))=FALSE, VLOOKUP($G32,CCTV!$I$12:$P$97,3,FALSE),"?")))) -> ? | J32: =IF(ISERROR(VLOOKUP($G32,Xarxa!$I$12:$P$100,4,FALSE))=FALSE, VLOOKUP($G32,Xarxa!$I$12:$P$100,4,FALSE),IF(ISERROR(VLOOKUP($G32,'Dades 1'!$I$12:$P$115,4,FALSE))=FALSE, VLOOKUP($G32,'Dades 1'!$I$12:$P$115,4,FALSE),IF(ISERROR(VLOOKUP($G32,'Dades 2'!$I$12:$P$107,4,FALSE))=FALSE, VLOOKUP($G32,'Dades 2'!$I$12:$P$107,4,FALSE),IF(ISERROR(VLOOKUP($G32,CCTV!$I$12:$P$97,4,FALSE))=FALSE, VLOOKUP($G32,CCTV!$I$12:$P$97,4,FALSE),"?")))) -> ? | K32: =IF(ISERROR(VLOOKUP($G32,Xarxa!$I$12:$P$100,5,FALSE))=FALSE, VLOOKUP($G32,Xarxa!$I$12:$P$100,5,FALSE),IF(ISERROR(VLOOKUP($G32,'Dades 1'!$I$12:$P$115,5,FALSE))=FALSE, VLOOKUP($G32,'Dades 1'!$I$12:$P$115,5,FALSE),IF(ISERROR(VLOOKUP($G32,'Dades 2'!$I$12:$P$107,5,FALSE))=FALSE, VLOOKUP($G32,'Dades 2'!$I$12:$P$107,5,FALSE),IF(ISERROR(VLOOKUP($G32,CCTV!$I$12:$P$97,5,FALSE))=FALSE, VLOOKUP($G32,CCTV!$I$12:$P$97,5,FALSE),"?")))) -> ? | L32: =IF(ISERROR(VLOOKUP($G32,Xarxa!$I$12:$P$100,6,FALSE))=FALSE, VLOOKUP($G32,Xarxa!$I$12:$P$100,6,FALSE),IF(ISERROR(VLOOKUP($G32,'Dades 1'!$I$12:$P$115,6,FALSE))=FALSE, VLOOKUP($G32,'Dades 1'!$I$12:$P$115,6,FALSE),IF(ISERROR(VLOOKUP($G32,'Dades 2'!$I$12:$P$107,6,FALSE))=FALSE, VLOOKUP($G32,'Dades 2'!$I$12:$P$107,6,FALSE),IF(ISERROR(VLOOKUP($G32,CCTV!$I$12:$P$97,6,FALSE))=FALSE, VLOOKUP($G32,CCTV!$I$12:$P$97,6,FALSE),"?")))) -> ?
E33: 1 | F33: 8 | G33: ? | H33: =IF(ISERROR(VLOOKUP($G33,Xarxa!$I$12:$P$100,2,FALSE))=FALSE, VLOOKUP($G33,Xarxa!$I$12:$P$100,2,FALSE),IF(ISERROR(VLOOKUP($G33,'Dades 1'!$I$12:$P$115,2,FALSE))=FALSE, VLOOKUP($G33,'Dades 1'!$I$12:$P$115,2,FALSE),IF(ISERROR(VLOOKUP($G33,'Dades 2'!$I$12:$P$107,2,FALSE))=FALSE, VLOOKUP($G33,'Dades 2'!$I$12:$P$107,2,FALSE),IF(ISERROR(VLOOKUP($G33,CCTV!$I$12:$P$97,2,FALSE))=FALSE, VLOOKUP($G33,CCTV!$I$12:$P$97,2,FALSE),"?")))) -> ? | I33: =IF(ISERROR(VLOOKUP($G33,Xarxa!$I$12:$P$100,3,FALSE))=FALSE, VLOOKUP($G33,Xarxa!$I$12:$P$100,3,FALSE),IF(ISERROR(VLOOKUP($G33,'Dades 1'!$I$12:$P$115,3,FALSE))=FALSE, VLOOKUP($G33,'Dades 1'!$I$12:$P$115,3,FALSE),IF(ISERROR(VLOOKUP($G33,'Dades 2'!$I$12:$P$107,3,FALSE))=FALSE, VLOOKUP($G33,'Dades 2'!$I$12:$P$107,3,FALSE),IF(ISERROR(VLOOKUP($G33,CCTV!$I$12:$P$97,3,FALSE))=FALSE, VLOOKUP($G33,CCTV!$I$12:$P$97,3,FALSE),"?")))) -> ? | J33: =IF(ISERROR(VLOOKUP($G33,Xarxa!$I$12:$P$100,4,FALSE))=FALSE, VLOOKUP($G33,Xarxa!$I$12:$P$100,4,FALSE),IF(ISERROR(VLOOKUP($G33,'Dades 1'!$I$12:$P$115,4,FALSE))=FALSE, VLOOKUP($G33,'Dades 1'!$I$12:$P$115,4,FALSE),IF(ISERROR(VLOOKUP($G33,'Dades 2'!$I$12:$P$107,4,FALSE))=FALSE, VLOOKUP($G33,'Dades 2'!$I$12:$P$107,4,FALSE),IF(ISERROR(VLOOKUP($G33,CCTV!$I$12:$P$97,4,FALSE))=FALSE, VLOOKUP($G33,CCTV!$I$12:$P$97,4,FALSE),"?")))) -> ? | K33: =IF(ISERROR(VLOOKUP($G33,Xarxa!$I$12:$P$100,5,FALSE))=FALSE, VLOOKUP($G33,Xarxa!$I$12:$P$100,5,FALSE),IF(ISERROR(VLOOKUP($G33,'Dades 1'!$I$12:$P$115,5,FALSE))=FALSE, VLOOKUP($G33,'Dades 1'!$I$12:$P$115,5,FALSE),IF(ISERROR(VLOOKUP($G33,'Dades 2'!$I$12:$P$107,5,FALSE))=FALSE, VLOOKUP($G33,'Dades 2'!$I$12:$P$107,5,FALSE),IF(ISERROR(VLOOKUP($G33,CCTV!$I$12:$P$97,5,FALSE))=FALSE, VLOOKUP($G33,CCTV!$I$12:$P$97,5,FALSE),"?")))) -> ? | L33: =IF(ISERROR(VLOOKUP($G33,Xarxa!$I$12:$P$100,6,FALSE))=FALSE, VLOOKUP($G33,Xarxa!$I$12:$P$100,6,FALSE),IF(ISERROR(VLOOKUP($G33,'Dades 1'!$I$12:$P$115,6,FALSE))=FALSE, VLOOKUP($G33,'Dades 1'!$I$12:$P$115,6,FALSE),IF(ISERROR(VLOOKUP($G33,'Dades 2'!$I$12:$P$107,6,FALSE))=FALSE, VLOOKUP($G33,'Dades 2'!$I$12:$P$107,6,FALSE),IF(ISERROR(VLOOKUP($G33,CCTV!$I$12:$P$97,6,FALSE))=FALSE, VLOOKUP($G33,CCTV!$I$12:$P$97,6,FALSE),"?")))) -> ?
E34: 1 | F34: 9 | G34: ? | H34: =IF(ISERROR(VLOOKUP($G34,Xarxa!$I$12:$P$100,2,FALSE))=FALSE, VLOOKUP($G34,Xarxa!$I$12:$P$100,2,FALSE),IF(ISERROR(VLOOKUP($G34,'Dades 1'!$I$12:$P$115,2,FALSE))=FALSE, VLOOKUP($G34,'Dades 1'!$I$12:$P$115,2,FALSE),IF(ISERROR(VLOOKUP($G34,'Dades 2'!$I$12:$P$107,2,FALSE))=FALSE, VLOOKUP($G34,'Dades 2'!$I$12:$P$107,2,FALSE),IF(ISERROR(VLOOKUP($G34,CCTV!$I$12:$P$97,2,FALSE))=FALSE, VLOOKUP($G34,CCTV!$I$12:$P$97,2,FALSE),"?")))) -> ? | I34: =IF(ISERROR(VLOOKUP($G34,Xarxa!$I$12:$P$100,3,FALSE))=FALSE, VLOOKUP($G34,Xarxa!$I$12:$P$100,3,FALSE),IF(ISERROR(VLOOKUP($G34,'Dades 1'!$I$12:$P$115,3,FALSE))=FALSE, VLOOKUP($G34,'Dades 1'!$I$12:$P$115,3,FALSE),IF(ISERROR(VLOOKUP($G34,'Dades 2'!$I$12:$P$107,3,FALSE))=FALSE, VLOOKUP($G34,'Dades 2'!$I$12:$P$107,3,FALSE),IF(ISERROR(VLOOKUP($G34,CCTV!$I$12:$P$97,3,FALSE))=FALSE, VLOOKUP($G34,CCTV!$I$12:$P$97,3,FALSE),"?")))) -> ? | J34: =IF(ISERROR(VLOOKUP($G34,Xarxa!$I$12:$P$100,4,FALSE))=FALSE, VLOOKUP($G34,Xarxa!$I$12:$P$100,4,FALSE),IF(ISERROR(VLOOKUP($G34,'Dades 1'!$I$12:$P$115,4,FALSE))=FALSE, VLOOKUP($G34,'Dades 1'!$I$12:$P$115,4,FALSE),IF(ISERROR(VLOOKUP($G34,'Dades 2'!$I$12:$P$107,4,FALSE))=FALSE, VLOOKUP($G34,'Dades 2'!$I$12:$P$107,4,FALSE),IF(ISERROR(VLOOKUP($G34,CCTV!$I$12:$P$97,4,FALSE))=FALSE, VLOOKUP($G34,CCTV!$I$12:$P$97,4,FALSE),"?")))) -> ? | K34: =IF(ISERROR(VLOOKUP($G34,Xarxa!$I$12:$P$100,5,FALSE))=FALSE, VLOOKUP($G34,Xarxa!$I$12:$P$100,5,FALSE),IF(ISERROR(VLOOKUP($G34,'Dades 1'!$I$12:$P$115,5,FALSE))=FALSE, VLOOKUP($G34,'Dades 1'!$I$12:$P$115,5,FALSE),IF(ISERROR(VLOOKUP($G34,'Dades 2'!$I$12:$P$107,5,FALSE))=FALSE, VLOOKUP($G34,'Dades 2'!$I$12:$P$107,5,FALSE),IF(ISERROR(VLOOKUP($G34,CCTV!$I$12:$P$97,5,FALSE))=FALSE, VLOOKUP($G34,CCTV!$I$12:$P$97,5,FALSE),"?")))) -> ? | L34: =IF(ISERROR(VLOOKUP($G34,Xarxa!$I$12:$P$100,6,FALSE))=FALSE, VLOOKUP($G34,Xarxa!$I$12:$P$100,6,FALSE),IF(ISERROR(VLOOKUP($G34,'Dades 1'!$I$12:$P$115,6,FALSE))=FALSE, VLOOKUP($G34,'Dades 1'!$I$12:$P$115,6,FALSE),IF(ISERROR(VLOOKUP($G34,'Dades 2'!$I$12:$P$107,6,FALSE))=FALSE, VLOOKUP($G34,'Dades 2'!$I$12:$P$107,6,FALSE),IF(ISERROR(VLOOKUP($G34,CCTV!$I$12:$P$97,6,FALSE))=FALSE, VLOOKUP($G34,CCTV!$I$12:$P$97,6,FALSE),"?")))) -> ?
E35: 1 | F35: 10 | G35: ? | H35: =IF(ISERROR(VLOOKUP($G35,Xarxa!$I$12:$P$100,2,FALSE))=FALSE, VLOOKUP($G35,Xarxa!$I$12:$P$100,2,FALSE),IF(ISERROR(VLOOKUP($G35,'Dades 1'!$I$12:$P$115,2,FALSE))=FALSE, VLOOKUP($G35,'Dades 1'!$I$12:$P$115,2,FALSE),IF(ISERROR(VLOOKUP($G35,'Dades 2'!$I$12:$P$107,2,FALSE))=FALSE, VLOOKUP($G35,'Dades 2'!$I$12:$P$107,2,FALSE),IF(ISERROR(VLOOKUP($G35,CCTV!$I$12:$P$97,2,FALSE))=FALSE, VLOOKUP($G35,CCTV!$I$12:$P$97,2,FALSE),"?")))) -> ? | I35: =IF(ISERROR(VLOOKUP($G35,Xarxa!$I$12:$P$100,3,FALSE))=FALSE, VLOOKUP($G35,Xarxa!$I$12:$P$100,3,FALSE),IF(ISERROR(VLOOKUP($G35,'Dades 1'!$I$12:$P$115,3,FALSE))=FALSE, VLOOKUP($G35,'Dades 1'!$I$12:$P$115,3,FALSE),IF(ISERROR(VLOOKUP($G35,'Dades 2'!$I$12:$P$107,3,FALSE))=FALSE, VLOOKUP($G35,'Dades 2'!$I$12:$P$107,3,FALSE),IF(ISERROR(VLOOKUP($G35,CCTV!$I$12:$P$97,3,FALSE))=FALSE, VLOOKUP($G35,CCTV!$I$12:$P$97,3,FALSE),"?")))) -> ? | J35: =IF(ISERROR(VLOOKUP($G35,Xarxa!$I$12:$P$100,4,FALSE))=FALSE, VLOOKUP($G35,Xarxa!$I$12:$P$100,4,FALSE),IF(ISERROR(VLOOKUP($G35,'Dades 1'!$I$12:$P$115,4,FALSE))=FALSE, VLOOKUP($G35,'Dades 1'!$I$12:$P$115,4,FALSE),IF(ISERROR(VLOOKUP($G35,'Dades 2'!$I$12:$P$107,4,FALSE))=FALSE, VLOOKUP($G35,'Dades 2'!$I$12:$P$107,4,FALSE),IF(ISERROR(VLOOKUP($G35,CCTV!$I$12:$P$97,4,FALSE))=FALSE, VLOOKUP($G35,CCTV!$I$12:$P$97,4,FALSE),"?")))) -> ? | K35: =IF(ISERROR(VLOOKUP($G35,Xarxa!$I$12:$P$100,5,FALSE))=FALSE, VLOOKUP($G35,Xarxa!$I$12:$P$100,5,FALSE),IF(ISERROR(VLOOKUP($G35,'Dades 1'!$I$12:$P$115,5,FALSE))=FALSE, VLOOKUP($G35,'Dades 1'!$I$12:$P$115,5,FALSE),IF(ISERROR(VLOOKUP($G35,'Dades 2'!$I$12:$P$107,5,FALSE))=FALSE, VLOOKUP($G35,'Dades 2'!$I$12:$P$107,5,FALSE),IF(ISERROR(VLOOKUP($G35,CCTV!$I$12:$P$97,5,FALSE))=FALSE, VLOOKUP($G35,CCTV!$I$12:$P$97,5,FALSE),"?")))) -> ? | L35: =IF(ISERROR(VLOOKUP($G35,Xarxa!$I$12:$P$100,6,FALSE))=FALSE, VLOOKUP($G35,Xarxa!$I$12:$P$100,6,FALSE),IF(ISERROR(VLOOKUP($G35,'Dades 1'!$I$12:$P$115,6,FALSE))=FALSE, VLOOKUP($G35,'Dades 1'!$I$12:$P$115,6,FALSE),IF(ISERROR(VLOOKUP($G35,'Dades 2'!$I$12:$P$107,6,FALSE))=FALSE, VLOOKUP($G35,'Dades 2'!$I$12:$P$107,6,FALSE),IF(ISERROR(VLOOKUP($G35,CCTV!$I$12:$P$97,6,FALSE))=FALSE, VLOOKUP($G35,CCTV!$I$12:$P$97,6,FALSE),"?")))) -> ?
A37: =INDIRECT(M37) -> Node Xarxa 35 | E37: MODULE | F37: PORT | G37: CONNECTED DEVICE | H37: IP | I37: MASK | J37: GATEWAY | K37: MAC | L37: VLAN | M37: =CONCATENATE("Xarxa!I",RIGHT(M25,2)+1) -> Xarxa!I19
E38: 1 | F38: 1 | G38: ? | H38: =IF(ISERROR(VLOOKUP($G38,Xarxa!$I$12:$P$100,2,FALSE))=FALSE, VLOOKUP($G38,Xarxa!$I$12:$P$100,2,FALSE),IF(ISERROR(VLOOKUP($G38,'Dades 1'!$I$12:$P$115,2,FALSE))=FALSE, VLOOKUP($G38,'Dades 1'!$I$12:$P$115,2,FALSE),IF(ISERROR(VLOOKUP($G38,'Dades 2'!$I$12:$P$107,2,FALSE))=FALSE, VLOOKUP($G38,'Dades 2'!$I$12:$P$107,2,FALSE),IF(ISERROR(VLOOKUP($G38,CCTV!$I$12:$P$97,2,FALSE))=FALSE, VLOOKUP($G38,CCTV!$I$12:$P$97,2,FALSE),"?")))) -> ? | I38: =IF(ISERROR(VLOOKUP($G38,Xarxa!$I$12:$P$100,3,FALSE))=FALSE, VLOOKUP($G38,Xarxa!$I$12:$P$100,3,FALSE),IF(ISERROR(VLOOKUP($G38,'Dades 1'!$I$12:$P$115,3,FALSE))=FALSE, VLOOKUP($G38,'Dades 1'!$I$12:$P$115,3,FALSE),IF(ISERROR(VLOOKUP($G38,'Dades 2'!$I$12:$P$107,3,FALSE))=FALSE, VLOOKUP($G38,'Dades 2'!$I$12:$P$107,3,FALSE),IF(ISERROR(VLOOKUP($G38,CCTV!$I$12:$P$97,3,FALSE))=FALSE, VLOOKUP($G38,CCTV!$I$12:$P$97,3,FALSE),"?")))) -> ? | J38: =IF(ISERROR(VLOOKUP($G38,Xarxa!$I$12:$P$100,4,FALSE))=FALSE, VLOOKUP($G38,Xarxa!$I$12:$P$100,4,FALSE),IF(ISERROR(VLOOKUP($G38,'Dades 1'!$I$12:$P$115,4,FALSE))=FALSE, VLOOKUP($G38,'Dades 1'!$I$12:$P$115,4,FALSE),IF(ISERROR(VLOOKUP($G38,'Dades 2'!$I$12:$P$107,4,FALSE))=FALSE, VLOOKUP($G38,'Dades 2'!$I$12:$P$107,4,FALSE),IF(ISERROR(VLOOKUP($G38,CCTV!$I$12:$P$97,4,FALSE))=FALSE, VLOOKUP($G38,CCTV!$I$12:$P$97,4,FALSE),"?")))) -> ? | K38: =IF(ISERROR(VLOOKUP($G38,Xarxa!$I$12:$P$100,5,FALSE))=FALSE, VLOOKUP($G38,Xarxa!$I$12:$P$100,5,FALSE),IF(ISERROR(VLOOKUP($G38,'Dades 1'!$I$12:$P$115,5,FALSE))=FALSE, VLOOKUP($G38,'Dades 1'!$I$12:$P$115,5,FALSE),IF(ISERROR(VLOOKUP($G38,'Dades 2'!$I$12:$P$107,5,FALSE))=FALSE, VLOOKUP($G38,'Dades 2'!$I$12:$P$107,5,FALSE),IF(ISERROR(VLOOKUP($G38,CCTV!$I$12:$P$97,5,FALSE))=FALSE, VLOOKUP($G38,CCTV!$I$12:$P$97,5,FALSE),"?")))) -> ? | L38: =IF(ISERROR(VLOOKUP($G38,Xarxa!$I$12:$P$100,6,FALSE))=FALSE, VLOOKUP($G38,Xarxa!$I$12:$P$100,6,FALSE),IF(ISERROR(VLOOKUP($G38,'Dades 1'!$I$12:$P$115,6,FALSE))=FALSE, VLOOKUP($G38,'Dades 1'!$I$12:$P$115,6,FALSE),IF(ISERROR(VLOOKUP($G38,'Dades 2'!$I$12:$P$107,6,FALSE))=FALSE, VLOOKUP($G38,'Dades 2'!$I$12:$P$107,6,FALSE),IF(ISERROR(VLOOKUP($G38,CCTV!$I$12:$P$97,6,FALSE))=FALSE, VLOOKUP($G38,CCTV!$I$12:$P$97,6,FALSE),"?")))) -> ?
E39: 1 | F39: 2 | G39: ? | H39: =IF(ISERROR(VLOOKUP($G39,Xarxa!$I$12:$P$100,2,FALSE))=FALSE, VLOOKUP($G39,Xarxa!$I$12:$P$100,2,FALSE),IF(ISERROR(VLOOKUP($G39,'Dades 1'!$I$12:$P$115,2,FALSE))=FALSE, VLOOKUP($G39,'Dades 1'!$I$12:$P$115,2,FALSE),IF(ISERROR(VLOOKUP($G39,'Dades 2'!$I$12:$P$107,2,FALSE))=FALSE, VLOOKUP($G39,'Dades 2'!$I$12:$P$107,2,FALSE),IF(ISERROR(VLOOKUP($G39,CCTV!$I$12:$P$97,2,FALSE))=FALSE, VLOOKUP($G39,CCTV!$I$12:$P$97,2,FALSE),"?")))) -> ? | I39: =IF(ISERROR(VLOOKUP($G39,Xarxa!$I$12:$P$100,3,FALSE))=FALSE, VLOOKUP($G39,Xarxa!$I$12:$P$100,3,FALSE),IF(ISERROR(VLOOKUP($G39,'Dades 1'!$I$12:$P$115,3,FALSE))=FALSE, VLOOKUP($G39,'Dades 1'!$I$12:$P$115,3,FALSE),IF(ISERROR(VLOOKUP($G39,'Dades 2'!$I$12:$P$107,3,FALSE))=FALSE, VLOOKUP($G39,'Dades 2'!$I$12:$P$107,3,FALSE),IF(ISERROR(VLOOKUP($G39,CCTV!$I$12:$P$97,3,FALSE))=FALSE, VLOOKUP($G39,CCTV!$I$12:$P$97,3,FALSE),"?")))) -> ? | J39: =IF(ISERROR(VLOOKUP($G39,Xarxa!$I$12:$P$100,4,FALSE))=FALSE, VLOOKUP($G39,Xarxa!$I$12:$P$100,4,FALSE),IF(ISERROR(VLOOKUP($G39,'Dades 1'!$I$12:$P$115,4,FALSE))=FALSE, VLOOKUP($G39,'Dades 1'!$I$12:$P$115,4,FALSE),IF(ISERROR(VLOOKUP($G39,'Dades 2'!$I$12:$P$107,4,FALSE))=FALSE, VLOOKUP($G39,'Dades 2'!$I$12:$P$107,4,FALSE),IF(ISERROR(VLOOKUP($G39,CCTV!$I$12:$P$97,4,FALSE))=FALSE, VLOOKUP($G39,CCTV!$I$12:$P$97,4,FALSE),"?")))) -> ? | K39: =IF(ISERROR(VLOOKUP($G39,Xarxa!$I$12:$P$100,5,FALSE))=FALSE, VLOOKUP($G39,Xarxa!$I$12:$P$100,5,FALSE),IF(ISERROR(VLOOKUP($G39,'Dades 1'!$I$12:$P$115,5,FALSE))=FALSE, VLOOKUP($G39,'Dades 1'!$I$12:$P$115,5,FALSE),IF(ISERROR(VLOOKUP($G39,'Dades 2'!$I$12:$P$107,5,FALSE))=FALSE, VLOOKUP($G39,'Dades 2'!$I$12:$P$107,5,FALSE),IF(ISERROR(VLOOKUP($G39,CCTV!$I$12:$P$97,5,FALSE))=FALSE, VLOOKUP($G39,CCTV!$I$12:$P$97,5,FALSE),"?")))) -> ? | L39: =IF(ISERROR(VLOOKUP($G39,Xarxa!$I$12:$P$100,6,FALSE))=FALSE, VLOOKUP($G39,Xarxa!$I$12:$P$100,6,FALSE),IF(ISERROR(VLOOKUP($G39,'Dades 1'!$I$12:$P$115,6,FALSE))=FALSE, VLOOKUP($G39,'Dades 1'!$I$12:$P$115,6,FALSE),IF(ISERROR(VLOOKUP($G39,'Dades 2'!$I$12:$P$107,6,FALSE))=FALSE, VLOOKUP($G39,'Dades 2'!$I$12:$P$107,6,FALSE),IF(ISERROR(VLOOKUP($G39,CCTV!$I$12:$P$97,6,FALSE))=FALSE, VLOOKUP($G39,CCTV!$I$12:$P$97,6,FALSE),"?")))) -> ?
E40: 1 | F40: 3 | G40: Eru 35 principal | H40: =IF(ISERROR(VLOOKUP($G40,Xarxa!$I$12:$P$100,2,FALSE))=FALSE, VLOOKUP($G40,Xarxa!$I$12:$P$100,2,FALSE),IF(ISERROR(VLOOKUP($G40,'Dades 1'!$I$12:$P$115,2,FALSE))=FALSE, VLOOKUP($G40,'Dades 1'!$I$12:$P$115,2,FALSE),IF(ISERROR(VLOOKUP($G40,'Dades 2'!$I$12:$P$107,2,FALSE))=FALSE, VLOOKUP($G40,'Dades 2'!$I$12:$P$107,2,FALSE),IF(ISERROR(VLOOKUP($G40,CCTV!$I$12:$P$97,2,FALSE))=FALSE, VLOOKUP($G40,CCTV!$I$12:$P$97,2,FALSE),"?")))) -> 10.137.238.208 | I40: =IF(ISERROR(VLOOKUP($G40,Xarxa!$I$12:$P$100,3,FALSE))=FALSE, VLOOKUP($G40,Xarxa!$I$12:$P$100,3,FALSE),IF(ISERROR(VLOOKUP($G40,'Dades 1'!$I$12:$P$115,3,FALSE))=FALSE, VLOOKUP($G40,'Dades 1'!$I$12:$P$115,3,FALSE),IF(ISERROR(VLOOKUP($G40,'Dades 2'!$I$12:$P$107,3,FALSE))=FALSE, VLOOKUP($G40,'Dades 2'!$I$12:$P$107,3,FALSE),IF(ISERROR(VLOOKUP($G40,CCTV!$I$12:$P$97,3,FALSE))=FALSE, VLOOKUP($G40,CCTV!$I$12:$P$97,3,FALSE),"?")))) -> 255.255.255.224 | J40: =IF(ISERROR(VLOOKUP($G40,Xarxa!$I$12:$P$100,4,FALSE))=FALSE, VLOOKUP($G40,Xarxa!$I$12:$P$100,4,FALSE),IF(ISERROR(VLOOKUP($G40,'Dades 1'!$I$12:$P$115,4,FALSE))=FALSE, VLOOKUP($G40,'Dades 1'!$I$12:$P$115,4,FALSE),IF(ISERROR(VLOOKUP($G40,'Dades 2'!$I$12:$P$107,4,FALSE))=FALSE, VLOOKUP($G40,'Dades 2'!$I$12:$P$107,4,FALSE),IF(ISERROR(VLOOKUP($G40,CCTV!$I$12:$P$97,4,FALSE))=FALSE, VLOOKUP($G40,CCTV!$I$12:$P$97,4,FALSE),"?")))) -> 10.137.238.193 | K40: =IF(ISERROR(VLOOKUP($G40,Xarxa!$I$12:$P$100,5,FALSE))=FALSE, VLOOKUP($G40,Xarxa!$I$12:$P$100,5,FALSE),IF(ISERROR(VLOOKUP($G40,'Dades 1'!$I$12:$P$115,5,FALSE))=FALSE, VLOOKUP($G40,'Dades 1'!$I$12:$P$115,5,FALSE),IF(ISERROR(VLOOKUP($G40,'Dades 2'!$I$12:$P$107,5,FALSE))=FALSE, VLOOKUP($G40,'Dades 2'!$I$12:$P$107,5,FALSE),IF(ISERROR(VLOOKUP($G40,CCTV!$I$12:$P$97,5,FALSE))=FALSE, VLOOKUP($G40,CCTV!$I$12:$P$97,5,FALSE),"?")))) -> 00-04-76-E9-4A-B0 | L40: =IF(ISERROR(VLOOKUP($G40,Xarxa!$I$12:$P$100,6,FALSE))=FALSE, VLOOKUP($G40,Xarxa!$I$12:$P$100,6,FALSE),IF(ISERROR(VLOOKUP($G40,'Dades 1'!$I$12:$P$115,6,FALSE))=FALSE, VLOOKUP($G40,'Dades 1'!$I$12:$P$115,6,FALSE),IF(ISERROR(VLOOKUP($G40,'Dades 2'!$I$12:$P$107,6,FALSE))=FALSE, VLOOKUP($G40,'Dades 2'!$I$12:$P$107,6,FALSE),IF(ISERROR(VLOOKUP($G40,CCTV!$I$12:$P$97,6,FALSE))=FALSE, VLOOKUP($G40,CCTV!$I$12:$P$97,6,FALSE),"?")))) -> 22
E41: 1 | F41: 4 | G41: Eru 35 secundaria | H41: =IF(ISERROR(VLOOKUP($G41,Xarxa!$I$12:$P$100,2,FALSE))=FALSE, VLOOKUP($G41,Xarxa!$I$12:$P$100,2,FALSE),IF(ISERROR(VLOOKUP($G41,'Dades 1'!$I$12:$P$115,2,FALSE))=FALSE, VLOOKUP($G41,'Dades 1'!$I$12:$P$115,2,FALSE),IF(ISERROR(VLOOKUP($G41,'Dades 2'!$I$12:$P$107,2,FALSE))=FALSE, VLOOKUP($G41,'Dades 2'!$I$12:$P$107,2,FALSE),IF(ISERROR(VLOOKUP($G41,CCTV!$I$12:$P$97,2,FALSE))=FALSE, VLOOKUP($G41,CCTV!$I$12:$P$97,2,FALSE),"?")))) -> 10.137.239.208 | I41: =IF(ISERROR(VLOOKUP($G41,Xarxa!$I$12:$P$100,3,FALSE))=FALSE, VLOOKUP($G41,Xarxa!$I$12:$P$100,3,FALSE),IF(ISERROR(VLOOKUP($G41,'Dades 1'!$I$12:$P$115,3,FALSE))=FALSE, VLOOKUP($G41,'Dades 1'!$I$12:$P$115,3,FALSE),IF(ISERROR(VLOOKUP($G41,'Dades 2'!$I$12:$P$107,3,FALSE))=FALSE, VLOOKUP($G41,'Dades 2'!$I$12:$P$107,3,FALSE),IF(ISERROR(VLOOKUP($G41,CCTV!$I$12:$P$97,3,FALSE))=FALSE, VLOOKUP($G41,CCTV!$I$12:$P$97,3,FALSE),"?")))) -> 255.255.255.224 | J41: =IF(ISERROR(VLOOKUP($G41,Xarxa!$I$12:$P$100,4,FALSE))=FALSE, VLOOKUP($G41,Xarxa!$I$12:$P$100,4,FALSE),IF(ISERROR(VLOOKUP($G41,'Dades 1'!$I$12:$P$115,4,FALSE))=FALSE, VLOOKUP($G41,'Dades 1'!$I$12:$P$115,4,FALSE),IF(ISERROR(VLOOKUP($G41,'Dades 2'!$I$12:$P$107,4,FALSE))=FALSE, VLOOKUP($G41,'Dades 2'!$I$12:$P$107,4,FALSE),IF(ISERROR(VLOOKUP($G41,CCTV!$I$12:$P$97,4,FALSE))=FALSE, VLOOKUP($G41,CCTV!$I$12:$P$97,4,FALSE),"?")))) -> 10.137.239.193 | K41: =IF(ISERROR(VLOOKUP($G41,Xarxa!$I$12:$P$100,5,FALSE))=FALSE, VLOOKUP($G41,Xarxa!$I$12:$P$100,5,FALSE),IF(ISERROR(VLOOKUP($G41,'Dades 1'!$I$12:$P$115,5,FALSE))=FALSE, VLOOKUP($G41,'Dades 1'!$I$12:$P$115,5,FALSE),IF(ISERROR(VLOOKUP($G41,'Dades 2'!$I$12:$P$107,5,FALSE))=FALSE, VLOOKUP($G41,'Dades 2'!$I$12:$P$107,5,FALSE),IF(ISERROR(VLOOKUP($G41,CCTV!$I$12:$P$97,5,FALSE))=FALSE, VLOOKUP($G41,CCTV!$I$12:$P$97,5,FALSE),"?")))) -> 00-04-76-E9-4E-83 | L41: =IF(ISERROR(VLOOKUP($G41,Xarxa!$I$12:$P$100,6,FALSE))=FALSE, VLOOKUP($G41,Xarxa!$I$12:$P$100,6,FALSE),IF(ISERROR(VLOOKUP($G41,'Dades 1'!$I$12:$P$115,6,FALSE))=FALSE, VLOOKUP($G41,'Dades 1'!$I$12:$P$115,6,FALSE),IF(ISERROR(VLOOKUP($G41,'Dades 2'!$I$12:$P$107,6,FALSE))=FALSE, VLOOKUP($G41,'Dades 2'!$I$12:$P$107,6,FALSE),IF(ISERROR(VLOOKUP($G41,CCTV!$I$12:$P$97,6,FALSE))=FALSE, VLOOKUP($G41,CCTV!$I$12:$P$97,6,FALSE),"?")))) -> 32
E42: 1 | F42: 5 | G42: ? | H42: =IF(ISERROR(VLOOKUP($G42,Xarxa!$I$12:$P$100,2,FALSE))=FALSE, VLOOKUP($G42,Xarxa!$I$12:$P$100,2,FALSE),IF(ISERROR(VLOOKUP($G42,'Dades 1'!$I$12:$P$115,2,FALSE))=FALSE, VLOOKUP($G42,'Dades 1'!$I$12:$P$115,2,FALSE),IF(ISERROR(VLOOKUP($G42,'Dades 2'!$I$12:$P$107,2,FALSE))=FALSE, VLOOKUP($G42,'Dades 2'!$I$12:$P$107,2,FALSE),IF(ISERROR(VLOOKUP($G42,CCTV!$I$12:$P$97,2,FALSE))=FALSE, VLOOKUP($G42,CCTV!$I$12:$P$97,2,FALSE),"?")))) -> ? | I42: =IF(ISERROR(VLOOKUP($G42,Xarxa!$I$12:$P$100,3,FALSE))=FALSE, VLOOKUP($G42,Xarxa!$I$12:$P$100,3,FALSE),IF(ISERROR(VLOOKUP($G42,'Dades 1'!$I$12:$P$115,3,FALSE))=FALSE, VLOOKUP($G42,'Dades 1'!$I$12:$P$115,3,FALSE),IF(ISERROR(VLOOKUP($G42,'Dades 2'!$I$12:$P$107,3,FALSE))=FALSE, VLOOKUP($G42,'Dades 2'!$I$12:$P$107,3,FALSE),IF(ISERROR(VLOOKUP($G42,CCTV!$I$12:$P$97,3,FALSE))=FALSE, VLOOKUP($G42,CCTV!$I$12:$P$97,3,FALSE),"?")))) -> ? | J42: =IF(ISERROR(VLOOKUP($G42,Xarxa!$I$12:$P$100,4,FALSE))=FALSE, VLOOKUP($G42,Xarxa!$I$12:$P$100,4,FALSE),IF(ISERROR(VLOOKUP($G42,'Dades 1'!$I$12:$P$115,4,FALSE))=FALSE, VLOOKUP($G42,'Dades 1'!$I$12:$P$115,4,FALSE),IF(ISERROR(VLOOKUP($G42,'Dades 2'!$I$12:$P$107,4,FALSE))=FALSE, VLOOKUP($G42,'Dades 2'!$I$12:$P$107,4,FALSE),IF(ISERROR(VLOOKUP($G42,CCTV!$I$12:$P$97,4,FALSE))=FALSE, VLOOKUP($G42,CCTV!$I$12:$P$97,4,FALSE),"?")))) -> ? | K42: =IF(ISERROR(VLOOKUP($G42,Xarxa!$I$12:$P$100,5,FALSE))=FALSE, VLOOKUP($G42,Xarxa!$I$12:$P$100,5,FALSE),IF(ISERROR(VLOOKUP($G42,'Dades 1'!$I$12:$P$115,5,FALSE))=FALSE, VLOOKUP($G42,'Dades 1'!$I$12:$P$115,5,FALSE),IF(ISERROR(VLOOKUP($G42,'Dades 2'!$I$12:$P$107,5,FALSE))=FALSE, VLOOKUP($G42,'Dades 2'!$I$12:$P$107,5,FALSE),IF(ISERROR(VLOOKUP($G42,CCTV!$I$12:$P$97,5,FALSE))=FALSE, VLOOKUP($G42,CCTV!$I$12:$P$97,5,FALSE),"?")))) -> ? | L42: =IF(ISERROR(VLOOKUP($G42,Xarxa!$I$12:$P$100,6,FALSE))=FALSE, VLOOKUP($G42,Xarxa!$I$12:$P$100,6,FALSE),IF(ISERROR(VLOOKUP($G42,'Dades 1'!$I$12:$P$115,6,FALSE))=FALSE, VLOOKUP($G42,'Dades 1'!$I$12:$P$115,6,FALSE),IF(ISERROR(VLOOKUP($G42,'Dades 2'!$I$12:$P$107,6,FALSE))=FALSE, VLOOKUP($G42,'Dades 2'!$I$12:$P$107,6,FALSE),IF(ISERROR(VLOOKUP($G42,CCTV!$I$12:$P$97,6,FALSE))=FALSE, VLOOKUP($G42,CCTV!$I$12:$P$97,6,FALSE),"?")))) -> ?
E43: 1 | F43: 6 | G43: ? | H43: =IF(ISERROR(VLOOKUP($G43,Xarxa!$I$12:$P$100,2,FALSE))=FALSE, VLOOKUP($G43,Xarxa!$I$12:$P$100,2,FALSE),IF(ISERROR(VLOOKUP($G43,'Dades 1'!$I$12:$P$115,2,FALSE))=FALSE, VLOOKUP($G43,'Dades 1'!$I$12:$P$115,2,FALSE),IF(ISERROR(VLOOKUP($G43,'Dades 2'!$I$12:$P$107,2,FALSE))=FALSE, VLOOKUP($G43,'Dades 2'!$I$12:$P$107,2,FALSE),IF(ISERROR(VLOOKUP($G43,CCTV!$I$12:$P$97,2,FALSE))=FALSE, VLOOKUP($G43,CCTV!$I$12:$P$97,2,FALSE),"?")))) -> ? | I43: =IF(ISERROR(VLOOKUP($G43,Xarxa!$I$12:$P$100,3,FALSE))=FALSE, VLOOKUP($G43,Xarxa!$I$12:$P$100,3,FALSE),IF(ISERROR(VLOOKUP($G43,'Dades 1'!$I$12:$P$115,3,FALSE))=FALSE, VLOOKUP($G43,'Dades 1'!$I$12:$P$115,3,FALSE),IF(ISERROR(VLOOKUP($G43,'Dades 2'!$I$12:$P$107,3,FALSE))=FALSE, VLOOKUP($G43,'Dades 2'!$I$12:$P$107,3,FALSE),IF(ISERROR(VLOOKUP($G43,CCTV!$I$12:$P$97,3,FALSE))=FALSE, VLOOKUP($G43,CCTV!$I$12:$P$97,3,FALSE),"?")))) -> ? | J43: =IF(ISERROR(VLOOKUP($G43,Xarxa!$I$12:$P$100,4,FALSE))=FALSE, VLOOKUP($G43,Xarxa!$I$12:$P$100,4,FALSE),IF(ISERROR(VLOOKUP($G43,'Dades 1'!$I$12:$P$115,4,FALSE))=FALSE, VLOOKUP($G43,'Dades 1'!$I$12:$P$115,4,FALSE),IF(ISERROR(VLOOKUP($G43,'Dades 2'!$I$12:$P$107,4,FALSE))=FALSE, VLOOKUP($G43,'Dades 2'!$I$12:$P$107,4,FALSE),IF(ISERROR(VLOOKUP($G43,CCTV!$I$12:$P$97,4,FALSE))=FALSE, VLOOKUP($G43,CCTV!$I$12:$P$97,4,FALSE),"?")))) -> ? | K43: =IF(ISERROR(VLOOKUP($G43,Xarxa!$I$12:$P$100,5,FALSE))=FALSE, VLOOKUP($G43,Xarxa!$I$12:$P$100,5,FALSE),IF(ISERROR(VLOOKUP($G43,'Dades 1'!$I$12:$P$115,5,FALSE))=FALSE, VLOOKUP($G43,'Dades 1'!$I$12:$P$115,5,FALSE),IF(ISERROR(VLOOKUP($G43,'Dades 2'!$I$12:$P$107,5,FALSE))=FALSE, VLOOKUP($G43,'Dades 2'!$I$12:$P$107,5,FALSE),IF(ISERROR(VLOOKUP($G43,CCTV!$I$12:$P$97,5,FALSE))=FALSE, VLOOKUP($G43,CCTV!$I$12:$P$97,5,FALSE),"?")))) -> ? | L43: =IF(ISERROR(VLOOKUP($G43,Xarxa!$I$12:$P$100,6,FALSE))=FALSE, VLOOKUP($G43,Xarxa!$I$12:$P$100,6,FALSE),IF(ISERROR(VLOOKUP($G43,'Dades 1'!$I$12:$P$115,6,FALSE))=FALSE, VLOOKUP($G43,'Dades 1'!$I$12:$P$115,6,FALSE),IF(ISERROR(VLOOKUP($G43,'Dades 2'!$I$12:$P$107,6,FALSE))=FALSE, VLOOKUP($G43,'Dades 2'!$I$12:$P$107,6,FALSE),IF(ISERROR(VLOOKUP($G43,CCTV!$I$12:$P$97,6,FALSE))=FALSE, VLOOKUP($G43,CCTV!$I$12:$P$97,6,FALSE),"?")))) -> ?
E44: 1 | F44: 7 | G44: ? | H44: =IF(ISERROR(VLOOKUP($G44,Xarxa!$I$12:$P$100,2,FALSE))=FALSE, VLOOKUP($G44,Xarxa!$I$12:$P$100,2,FALSE),IF(ISERROR(VLOOKUP($G44,'Dades 1'!$I$12:$P$115,2,FALSE))=FALSE, VLOOKUP($G44,'Dades 1'!$I$12:$P$115,2,FALSE),IF(ISERROR(VLOOKUP($G44,'Dades 2'!$I$12:$P$107,2,FALSE))=FALSE, VLOOKUP($G44,'Dades 2'!$I$12:$P$107,2,FALSE),IF(ISERROR(VLOOKUP($G44,CCTV!$I$12:$P$97,2,FALSE))=FALSE, VLOOKUP($G44,CCTV!$I$12:$P$97,2,FALSE),"?")))) -> ? | I44: =IF(ISERROR(VLOOKUP($G44,Xarxa!$I$12:$P$100,3,FALSE))=FALSE, VLOOKUP($G44,Xarxa!$I$12:$P$100,3,FALSE),IF(ISERROR(VLOOKUP($G44,'Dades 1'!$I$12:$P$115,3,FALSE))=FALSE, VLOOKUP($G44,'Dades 1'!$I$12:$P$115,3,FALSE),IF(ISERROR(VLOOKUP($G44,'Dades 2'!$I$12:$P$107,3,FALSE))=FALSE, VLOOKUP($G44,'Dades 2'!$I$12:$P$107,3,FALSE),IF(ISERROR(VLOOKUP($G44,CCTV!$I$12:$P$97,3,FALSE))=FALSE, VLOOKUP($G44,CCTV!$I$12:$P$97,3,FALSE),"?")))) -> ? | J44: =IF(ISERROR(VLOOKUP($G44,Xarxa!$I$12:$P$100,4,FALSE))=FALSE, VLOOKUP($G44,Xarxa!$I$12:$P$100,4,FALSE),IF(ISERROR(VLOOKUP($G44,'Dades 1'!$I$12:$P$115,4,FALSE))=FALSE, VLOOKUP($G44,'Dades 1'!$I$12:$P$115,4,FALSE),IF(ISERROR(VLOOKUP($G44,'Dades 2'!$I$12:$P$107,4,FALSE))=FALSE, VLOOKUP($G44,'Dades 2'!$I$12:$P$107,4,FALSE),IF(ISERROR(VLOOKUP($G44,CCTV!$I$12:$P$97,4,FALSE))=FALSE, VLOOKUP($G44,CCTV!$I$12:$P$97,4,FALSE),"?")))) -> ? | K44: =IF(ISERROR(VLOOKUP($G44,Xarxa!$I$12:$P$100,5,FALSE))=FALSE, VLOOKUP($G44,Xarxa!$I$12:$P$100,5,FALSE),IF(ISERROR(VLOOKUP($G44,'Dades 1'!$I$12:$P$115,5,FALSE))=FALSE, VLOOKUP($G44,'Dades 1'!$I$12:$P$115,5,FALSE),IF(ISERROR(VLOOKUP($G44,'Dades 2'!$I$12:$P$107,5,FALSE))=FALSE, VLOOKUP($G44,'Dades 2'!$I$12:$P$107,5,FALSE),IF(ISERROR(VLOOKUP($G44,CCTV!$I$12:$P$97,5,FALSE))=FALSE, VLOOKUP($G44,CCTV!$I$12:$P$97,5,FALSE),"?")))) -> ? | L44: =IF(ISERROR(VLOOKUP($G44,Xarxa!$I$12:$P$100,6,FALSE))=FALSE, VLOOKUP($G44,Xarxa!$I$12:$P$100,6,FALSE),IF(ISERROR(VLOOKUP($G44,'Dades 1'!$I$12:$P$115,6,FALSE))=FALSE, VLOOKUP($G44,'Dades 1'!$I$12:$P$115,6,FALSE),IF(ISERROR(VLOOKUP($G44,'Dades 2'!$I$12:$P$107,6,FALSE))=FALSE, VLOOKUP($G44,'Dades 2'!$I$12:$P$107,6,FALSE),IF(ISERROR(VLOOKUP($G44,CCTV!$I$12:$P$97,6,FALSE))=FALSE, VLOOKUP($G44,CCTV!$I$12:$P$97,6,FALSE),"?")))) -> ?
E45: 1 | F45: 8 | G45: ? | H45: =IF(ISERROR(VLOOKUP($G45,Xarxa!$I$12:$P$100,2,FALSE))=FALSE, VLOOKUP($G45,Xarxa!$I$12:$P$100,2,FALSE),IF(ISERROR(VLOOKUP($G45,'Dades 1'!$I$12:$P$115,2,FALSE))=FALSE, VLOOKUP($G45,'Dades 1'!$I$12:$P$115,2,FALSE),IF(ISERROR(VLOOKUP($G45,'Dades 2'!$I$12:$P$107,2,FALSE))=FALSE, VLOOKUP($G45,'Dades 2'!$I$12:$P$107,2,FALSE),IF(ISERROR(VLOOKUP($G45,CCTV!$I$12:$P$97,2,FALSE))=FALSE, VLOOKUP($G45,CCTV!$I$12:$P$97,2,FALSE),"?")))) -> ? | I45: =IF(ISERROR(VLOOKUP($G45,Xarxa!$I$12:$P$100,3,FALSE))=FALSE, VLOOKUP($G45,Xarxa!$I$12:$P$100,3,FALSE),IF(ISERROR(VLOOKUP($G45,'Dades 1'!$I$12:$P$115,3,FALSE))=FALSE, VLOOKUP($G45,'Dades 1'!$I$12:$P$115,3,FALSE),IF(ISERROR(VLOOKUP($G45,'Dades 2'!$I$12:$P$107,3,FALSE))=FALSE, VLOOKUP($G45,'Dades 2'!$I$12:$P$107,3,FALSE),IF(ISERROR(VLOOKUP($G45,CCTV!$I$12:$P$97,3,FALSE))=FALSE, VLOOKUP($G45,CCTV!$I$12:$P$97,3,FALSE),"?")))) -> ? | J45: =IF(ISERROR(VLOOKUP($G45,Xarxa!$I$12:$P$100,4,FALSE))=FALSE, VLOOKUP($G45,Xarxa!$I$12:$P$100,4,FALSE),IF(ISERROR(VLOOKUP($G45,'Dades 1'!$I$12:$P$115,4,FALSE))=FALSE, VLOOKUP($G45,'Dades 1'!$I$12:$P$115,4,FALSE),IF(ISERROR(VLOOKUP($G45,'Dades 2'!$I$12:$P$107,4,FALSE))=FALSE, VLOOKUP($G45,'Dades 2'!$I$12:$P$107,4,FALSE),IF(ISERROR(VLOOKUP($G45,CCTV!$I$12:$P$97,4,FALSE))=FALSE, VLOOKUP($G45,CCTV!$I$12:$P$97,4,FALSE),"?")))) -> ? | K45: =IF(ISERROR(VLOOKUP($G45,Xarxa!$I$12:$P$100,5,FALSE))=FALSE, VLOOKUP($G45,Xarxa!$I$12:$P$100,5,FALSE),IF(ISERROR(VLOOKUP($G45,'Dades 1'!$I$12:$P$115,5,FALSE))=FALSE, VLOOKUP($G45,'Dades 1'!$I$12:$P$115,5,FALSE),IF(ISERROR(VLOOKUP($G45,'Dades 2'!$I$12:$P$107,5,FALSE))=FALSE, VLOOKUP($G45,'Dades 2'!$I$12:$P$107,5,FALSE),IF(ISERROR(VLOOKUP($G45,CCTV!$I$12:$P$97,5,FALSE))=FALSE, VLOOKUP($G45,CCTV!$I$12:$P$97,5,FALSE),"?")))) -> ? | L45: =IF(ISERROR(VLOOKUP($G45,Xarxa!$I$12:$P$100,6,FALSE))=FALSE, VLOOKUP($G45,Xarxa!$I$12:$P$100,6,FALSE),IF(ISERROR(VLOOKUP($G45,'Dades 1'!$I$12:$P$115,6,FALSE))=FALSE, VLOOKUP($G45,'Dades 1'!$I$12:$P$115,6,FALSE),IF(ISERROR(VLOOKUP($G45,'Dades 2'!$I$12:$P$107,6,FALSE))=FALSE, VLOOKUP($G45,'Dades 2'!$I$12:$P$107,6,FALSE),IF(ISERROR(VLOOKUP($G45,CCTV!$I$12:$P$97,6,FALSE))=FALSE, VLOOKUP($G45,CCTV!$I$12:$P$97,6,FALSE),"?")))) -> ?
E46: 1 | F46: 9 | G46: ? | H46: =IF(ISERROR(VLOOKUP($G46,Xarxa!$I$12:$P$100,2,FALSE))=FALSE, VLOOKUP($G46,Xarxa!$I$12:$P$100,2,FALSE),IF(ISERROR(VLOOKUP($G46,'Dades 1'!$I$12:$P$115,2,FALSE))=FALSE, VLOOKUP($G46,'Dades 1'!$I$12:$P$115,2,FALSE),IF(ISERROR(VLOOKUP($G46,'Dades 2'!$I$12:$P$107,2,FALSE))=FALSE, VLOOKUP($G46,'Dades 2'!$I$12:$P$107,2,FALSE),IF(ISERROR(VLOOKUP($G46,CCTV!$I$12:$P$97,2,FALSE))=FALSE, VLOOKUP($G46,CCTV!$I$12:$P$97,2,FALSE),"?")))) -> ? | I46: =IF(ISERROR(VLOOKUP($G46,Xarxa!$I$12:$P$100,3,FALSE))=FALSE, VLOOKUP($G46,Xarxa!$I$12:$P$100,3,FALSE),IF(ISERROR(VLOOKUP($G46,'Dades 1'!$I$12:$P$115,3,FALSE))=FALSE, VLOOKUP($G46,'Dades 1'!$I$12:$P$115,3,FALSE),IF(ISERROR(VLOOKUP($G46,'Dades 2'!$I$12:$P$107,3,FALSE))=FALSE, VLOOKUP($G46,'Dades 2'!$I$12:$P$107,3,FALSE),IF(ISERROR(VLOOKUP($G46,CCTV!$I$12:$P$97,3,FALSE))=FALSE, VLOOKUP($G46,CCTV!$I$12:$P$97,3,FALSE),"?")))) -> ? | J46: =IF(ISERROR(VLOOKUP($G46,Xarxa!$I$12:$P$100,4,FALSE))=FALSE, VLOOKUP($G46,Xarxa!$I$12:$P$100,4,FALSE),IF(ISERROR(VLOOKUP($G46,'Dades 1'!$I$12:$P$115,4,FALSE))=FALSE, VLOOKUP($G46,'Dades 1'!$I$12:$P$115,4,FALSE),IF(ISERROR(VLOOKUP($G46,'Dades 2'!$I$12:$P$107,4,FALSE))=FALSE, VLOOKUP($G46,'Dades 2'!$I$12:$P$107,4,FALSE),IF(ISERROR(VLOOKUP($G46,CCTV!$I$12:$P$97,4,FALSE))=FALSE, VLOOKUP($G46,CCTV!$I$12:$P$97,4,FALSE),"?")))) -> ? | K46: =IF(ISERROR(VLOOKUP($G46,Xarxa!$I$12:$P$100,5,FALSE))=FALSE, VLOOKUP($G46,Xarxa!$I$12:$P$100,5,FALSE),IF(ISERROR(VLOOKUP($G46,'Dades 1'!$I$12:$P$115,5,FALSE))=FALSE, VLOOKUP($G46,'Dades 1'!$I$12:$P$115,5,FALSE),IF(ISERROR(VLOOKUP($G46,'Dades 2'!$I$12:$P$107,5,FALSE))=FALSE, VLOOKUP($G46,'Dades 2'!$I$12:$P$107,5,FALSE),IF(ISERROR(VLOOKUP($G46,CCTV!$I$12:$P$97,5,FALSE))=FALSE, VLOOKUP($G46,CCTV!$I$12:$P$97,5,FALSE),"?")))) -> ? | L46: =IF(ISERROR(VLOOKUP($G46,Xarxa!$I$12:$P$100,6,FALSE))=FALSE, VLOOKUP($G46,Xarxa!$I$12:$P$100,6,FALSE),IF(ISERROR(VLOOKUP($G46,'Dades 1'!$I$12:$P$115,6,FALSE))=FALSE, VLOOKUP($G46,'Dades 1'!$I$12:$P$115,6,FALSE),IF(ISERROR(VLOOKUP($G46,'Dades 2'!$I$12:$P$107,6,FALSE))=FALSE, VLOOKUP($G46,'Dades 2'!$I$12:$P$107,6,FALSE),IF(ISERROR(VLOOKUP($G46,CCTV!$I$12:$P$97,6,FALSE))=FALSE, VLOOKUP($G46,CCTV!$I$12:$P$97,6,FALSE),"?")))) -> ?
E47: 1 | F47: 10 | G47: ? | H47: =IF(ISERROR(VLOOKUP($G47,Xarxa!$I$12:$P$100,2,FALSE))=FALSE, VLOOKUP($G47,Xarxa!$I$12:$P$100,2,FALSE),IF(ISERROR(VLOOKUP($G47,'Dades 1'!$I$12:$P$115,2,FALSE))=FALSE, VLOOKUP($G47,'Dades 1'!$I$12:$P$115,2,FALSE),IF(ISERROR(VLOOKUP($G47,'Dades 2'!$I$12:$P$107,2,FALSE))=FALSE, VLOOKUP($G47,'Dades 2'!$I$12:$P$107,2,FALSE),IF(ISERROR(VLOOKUP($G47,CCTV!$I$12:$P$97,2,FALSE))=FALSE, VLOOKUP($G47,CCTV!$I$12:$P$97,2,FALSE),"?")))) -> ? | I47: =IF(ISERROR(VLOOKUP($G47,Xarxa!$I$12:$P$100,3,FALSE))=FALSE, VLOOKUP($G47,Xarxa!$I$12:$P$100,3,FALSE),IF(ISERROR(VLOOKUP($G47,'Dades 1'!$I$12:$P$115,3,FALSE))=FALSE, VLOOKUP($G47,'Dades 1'!$I$12:$P$115,3,FALSE),IF(ISERROR(VLOOKUP($G47,'Dades 2'!$I$12:$P$107,3,FALSE))=FALSE, VLOOKUP($G47,'Dades 2'!$I$12:$P$107,3,FALSE),IF(ISERROR(VLOOKUP($G47,CCTV!$I$12:$P$97,3,FALSE))=FALSE, VLOOKUP($G47,CCTV!$I$12:$P$97,3,FALSE),"?")))) -> ? | J47: =IF(ISERROR(VLOOKUP($G47,Xarxa!$I$12:$P$100,4,FALSE))=FALSE, VLOOKUP($G47,Xarxa!$I$12:$P$100,4,FALSE),IF(ISERROR(VLOOKUP($G47,'Dades 1'!$I$12:$P$115,4,FALSE))=FALSE, VLOOKUP($G47,'Dades 1'!$I$12:$P$115,4,FALSE),IF(ISERROR(VLOOKUP($G47,'Dades 2'!$I$12:$P$107,4,FALSE))=FALSE, VLOOKUP($G47,'Dades 2'!$I$12:$P$107,4,FALSE),IF(ISERROR(VLOOKUP($G47,CCTV!$I$12:$P$97,4,FALSE))=FALSE, VLOOKUP($G47,CCTV!$I$12:$P$97,4,FALSE),"?")))) -> ? | K47: =IF(ISERROR(VLOOKUP($G47,Xarxa!$I$12:$P$100,5,FALSE))=FALSE, VLOOKUP($G47,Xarxa!$I$12:$P$100,5,FALSE),IF(ISERROR(VLOOKUP($G47,'Dades 1'!$I$12:$P$115,5,FALSE))=FALSE, VLOOKUP($G47,'Dades 1'!$I$12:$P$115,5,FALSE),IF(ISERROR(VLOOKUP($G47,'Dades 2'!$I$12:$P$107,5,FALSE))=FALSE, VLOOKUP($G47,'Dades 2'!$I$12:$P$107,5,FALSE),IF(ISERROR(VLOOKUP($G47,CCTV!$I$12:$P$97,5,FALSE))=FALSE, VLOOKUP($G47,CCTV!$I$12:$P$97,5,FALSE),"?")))) -> ? | L47: =IF(ISERROR(VLOOKUP($G47,Xarxa!$I$12:$P$100,6,FALSE))=FALSE, VLOOKUP($G47,Xarxa!$I$12:$P$100,6,FALSE),IF(ISERROR(VLOOKUP($G47,'Dades 1'!$I$12:$P$115,6,FALSE))=FALSE, VLOOKUP($G47,'Dades 1'!$I$12:$P$115,6,FALSE),IF(ISERROR(VLOOKUP($G47,'Dades 2'!$I$12:$P$107,6,FALSE))=FALSE, VLOOKUP($G47,'Dades 2'!$I$12:$P$107,6,FALSE),IF(ISERROR(VLOOKUP($G47,CCTV!$I$12:$P$97,6,FALSE))=FALSE, VLOOKUP($G47,CCTV!$I$12:$P$97,6,FALSE),"?")))) -> ?
A49: =INDIRECT(M49) -> Node Xarxa 36 | E49: MODULE | F49: PORT | G49: CONNECTED DEVICE | H49: IP | I49: MASK | J49: GATEWAY | K49: MAC | L49: VLAN | M49: =CONCATENATE("Xarxa!I",RIGHT(M37,2)+1) -> Xarxa!I20
E50: 1 | F50: 1 | G50: ? | H50: =IF(ISERROR(VLOOKUP($G50,Xarxa!$I$12:$P$100,2,FALSE))=FALSE, VLOOKUP($G50,Xarxa!$I$12:$P$100,2,FALSE),IF(ISERROR(VLOOKUP($G50,'Dades 1'!$I$12:$P$115,2,FALSE))=FALSE, VLOOKUP($G50,'Dades 1'!$I$12:$P$115,2,FALSE),IF(ISERROR(VLOOKUP($G50,'Dades 2'!$I$12:$P$107,2,FALSE))=FALSE, VLOOKUP($G50,'Dades 2'!$I$12:$P$107,2,FALSE),IF(ISERROR(VLOOKUP($G50,CCTV!$I$12:$P$97,2,FALSE))=FALSE, VLOOKUP($G50,CCTV!$I$12:$P$97,2,FALSE),"?")))) -> ? | I50: =IF(ISERROR(VLOOKUP($G50,Xarxa!$I$12:$P$100,3,FALSE))=FALSE, VLOOKUP($G50,Xarxa!$I$12:$P$100,3,FALSE),IF(ISERROR(VLOOKUP($G50,'Dades 1'!$I$12:$P$115,3,FALSE))=FALSE, VLOOKUP($G50,'Dades 1'!$I$12:$P$115,3,FALSE),IF(ISERROR(VLOOKUP($G50,'Dades 2'!$I$12:$P$107,3,FALSE))=FALSE, VLOOKUP($G50,'Dades 2'!$I$12:$P$107,3,FALSE),IF(ISERROR(VLOOKUP($G50,CCTV!$I$12:$P$97,3,FALSE))=FALSE, VLOOKUP($G50,CCTV!$I$12:$P$97,3,FALSE),"?")))) -> ? | J50: =IF(ISERROR(VLOOKUP($G50,Xarxa!$I$12:$P$100,4,FALSE))=FALSE, VLOOKUP($G50,Xarxa!$I$12:$P$100,4,FALSE),IF(ISERROR(VLOOKUP($G50,'Dades 1'!$I$12:$P$115,4,FALSE))=FALSE, VLOOKUP($G50,'Dades 1'!$I$12:$P$115,4,FALSE),IF(ISERROR(VLOOKUP($G50,'Dades 2'!$I$12:$P$107,4,FALSE))=FALSE, VLOOKUP($G50,'Dades 2'!$I$12:$P$107,4,FALSE),IF(ISERROR(VLOOKUP($G50,CCTV!$I$12:$P$97,4,FALSE))=FALSE, VLOOKUP($G50,CCTV!$I$12:$P$97,4,FALSE),"?")))) -> ? | K50: =IF(ISERROR(VLOOKUP($G50,Xarxa!$I$12:$P$100,5,FALSE))=FALSE, VLOOKUP($G50,Xarxa!$I$12:$P$100,5,FALSE),IF(ISERROR(VLOOKUP($G50,'Dades 1'!$I$12:$P$115,5,FALSE))=FALSE, VLOOKUP($G50,'Dades 1'!$I$12:$P$115,5,FALSE),IF(ISERROR(VLOOKUP($G50,'Dades 2'!$I$12:$P$107,5,FALSE))=FALSE, VLOOKUP($G50,'Dades 2'!$I$12:$P$107,5,FALSE),IF(ISERROR(VLOOKUP($G50,CCTV!$I$12:$P$97,5,FALSE))=FALSE, VLOOKUP($G50,CCTV!$I$12:$P$97,5,FALSE),"?")))) -> ? | L50: =IF(ISERROR(VLOOKUP($G50,Xarxa!$I$12:$P$100,6,FALSE))=FALSE, VLOOKUP($G50,Xarxa!$I$12:$P$100,6,FALSE),IF(ISERROR(VLOOKUP($G50,'Dades 1'!$I$12:$P$115,6,FALSE))=FALSE, VLOOKUP($G50,'Dades 1'!$I$12:$P$115,6,FALSE),IF(ISERROR(VLOOKUP($G50,'Dades 2'!$I$12:$P$107,6,FALSE))=FALSE, VLOOKUP($G50,'Dades 2'!$I$12:$P$107,6,FALSE),IF(ISERROR(VLOOKUP($G50,CCTV!$I$12:$P$97,6,FALSE))=FALSE, VLOOKUP($G50,CCTV!$I$12:$P$97,6,FALSE),"?")))) -> ?
E51: 1 | F51: 2 | G51: ? | H51: =IF(ISERROR(VLOOKUP($G51,Xarxa!$I$12:$P$100,2,FALSE))=FALSE, VLOOKUP($G51,Xarxa!$I$12:$P$100,2,FALSE),IF(ISERROR(VLOOKUP($G51,'Dades 1'!$I$12:$P$115,2,FALSE))=FALSE, VLOOKUP($G51,'Dades 1'!$I$12:$P$115,2,FALSE),IF(ISERROR(VLOOKUP($G51,'Dades 2'!$I$12:$P$107,2,FALSE))=FALSE, VLOOKUP($G51,'Dades 2'!$I$12:$P$107,2,FALSE),IF(ISERROR(VLOOKUP($G51,CCTV!$I$12:$P$97,2,FALSE))=FALSE, VLOOKUP($G51,CCTV!$I$12:$P$97,2,FALSE),"?")))) -> ? | I51: =IF(ISERROR(VLOOKUP($G51,Xarxa!$I$12:$P$100,3,FALSE))=FALSE, VLOOKUP($G51,Xarxa!$I$12:$P$100,3,FALSE),IF(ISERROR(VLOOKUP($G51,'Dades 1'!$I$12:$P$115,3,FALSE))=FALSE, VLOOKUP($G51,'Dades 1'!$I$12:$P$115,3,FALSE),IF(ISERROR(VLOOKUP($G51,'Dades 2'!$I$12:$P$107,3,FALSE))=FALSE, VLOOKUP($G51,'Dades 2'!$I$12:$P$107,3,FALSE),IF(ISERROR(VLOOKUP($G51,CCTV!$I$12:$P$97,3,FALSE))=FALSE, VLOOKUP($G51,CCTV!$I$12:$P$97,3,FALSE),"?")))) -> ? | J51: =IF(ISERROR(VLOOKUP($G51,Xarxa!$I$12:$P$100,4,FALSE))=FALSE, VLOOKUP($G51,Xarxa!$I$12:$P$100,4,FALSE),IF(ISERROR(VLOOKUP($G51,'Dades 1'!$I$12:$P$115,4,FALSE))=FALSE, VLOOKUP($G51,'Dades 1'!$I$12:$P$115,4,FALSE),IF(ISERROR(VLOOKUP($G51,'Dades 2'!$I$12:$P$107,4,FALSE))=FALSE, VLOOKUP($G51,'Dades 2'!$I$12:$P$107,4,FALSE),IF(ISERROR(VLOOKUP($G51,CCTV!$I$12:$P$97,4,FALSE))=FALSE, VLOOKUP($G51,CCTV!$I$12:$P$97,4,FALSE),"?")))) -> ? | K51: =IF(ISERROR(VLOOKUP($G51,Xarxa!$I$12:$P$100,5,FALSE))=FALSE, VLOOKUP($G51,Xarxa!$I$12:$P$100,5,FALSE),IF(ISERROR(VLOOKUP($G51,'Dades 1'!$I$12:$P$115,5,FALSE))=FALSE, VLOOKUP($G51,'Dades 1'!$I$12:$P$115,5,FALSE),IF(ISERROR(VLOOKUP($G51,'Dades 2'!$I$12:$P$107,5,FALSE))=FALSE, VLOOKUP($G51,'Dades 2'!$I$12:$P$107,5,FALSE),IF(ISERROR(VLOOKUP($G51,CCTV!$I$12:$P$97,5,FALSE))=FALSE, VLOOKUP($G51,CCTV!$I$12:$P$97,5,FALSE),"?")))) -> ? | L51: =IF(ISERROR(VLOOKUP($G51,Xarxa!$I$12:$P$100,6,FALSE))=FALSE, VLOOKUP($G51,Xarxa!$I$12:$P$100,6,FALSE),IF(ISERROR(VLOOKUP($G51,'Dades 1'!$I$12:$P$115,6,FALSE))=FALSE, VLOOKUP($G51,'Dades 1'!$I$12:$P$115,6,FALSE),IF(ISERROR(VLOOKUP($G51,'Dades 2'!$I$12:$P$107,6,FALSE))=FALSE, VLOOKUP($G51,'Dades 2'!$I$12:$P$107,6,FALSE),IF(ISERROR(VLOOKUP($G51,CCTV!$I$12:$P$97,6,FALSE))=FALSE, VLOOKUP($G51,CCTV!$I$12:$P$97,6,FALSE),"?")))) -> ?
E52: 1 | F52: 3 | G52: Eru 36 principal | H52: =IF(ISERROR(VLOOKUP($G52,Xarxa!$I$12:$P$100,2,FALSE))=FALSE, VLOOKUP($G52,Xarxa!$I$12:$P$100,2,FALSE),IF(ISERROR(VLOOKUP($G52,'Dades 1'!$I$12:$P$115,2,FALSE))=FALSE, VLOOKUP($G52,'Dades 1'!$I$12:$P$115,2,FALSE),IF(ISERROR(VLOOKUP($G52,'Dades 2'!$I$12:$P$107,2,FALSE))=FALSE, VLOOKUP($G52,'Dades 2'!$I$12:$P$107,2,FALSE),IF(ISERROR(VLOOKUP($G52,CCTV!$I$12:$P$97,2,FALSE))=FALSE, VLOOKUP($G52,CCTV!$I$12:$P$97,2,FALSE),"?")))) -> 10.137.238.209 | I52: =IF(ISERROR(VLOOKUP($G52,Xarxa!$I$12:$P$100,3,FALSE))=FALSE, VLOOKUP($G52,Xarxa!$I$12:$P$100,3,FALSE),IF(ISERROR(VLOOKUP($G52,'Dades 1'!$I$12:$P$115,3,FALSE))=FALSE, VLOOKUP($G52,'Dades 1'!$I$12:$P$115,3,FALSE),IF(ISERROR(VLOOKUP($G52,'Dades 2'!$I$12:$P$107,3,FALSE))=FALSE, VLOOKUP($G52,'Dades 2'!$I$12:$P$107,3,FALSE),IF(ISERROR(VLOOKUP($G52,CCTV!$I$12:$P$97,3,FALSE))=FALSE, VLOOKUP($G52,CCTV!$I$12:$P$97,3,FALSE),"?")))) -> 255.255.255.224 | J52: =IF(ISERROR(VLOOKUP($G52,Xarxa!$I$12:$P$100,4,FALSE))=FALSE, VLOOKUP($G52,Xarxa!$I$12:$P$100,4,FALSE),IF(ISERROR(VLOOKUP($G52,'Dades 1'!$I$12:$P$115,4,FALSE))=FALSE, VLOOKUP($G52,'Dades 1'!$I$12:$P$115,4,FALSE),IF(ISERROR(VLOOKUP($G52,'Dades 2'!$I$12:$P$107,4,FALSE))=FALSE, VLOOKUP($G52,'Dades 2'!$I$12:$P$107,4,FALSE),IF(ISERROR(VLOOKUP($G52,CCTV!$I$12:$P$97,4,FALSE))=FALSE, VLOOKUP($G52,CCTV!$I$12:$P$97,4,FALSE),"?")))) -> 10.137.238.193 | K52: =IF(ISERROR(VLOOKUP($G52,Xarxa!$I$12:$P$100,5,FALSE))=FALSE, VLOOKUP($G52,Xarxa!$I$12:$P$100,5,FALSE),IF(ISERROR(VLOOKUP($G52,'Dades 1'!$I$12:$P$115,5,FALSE))=FALSE, VLOOKUP($G52,'Dades 1'!$I$12:$P$115,5,FALSE),IF(ISERROR(VLOOKUP($G52,'Dades 2'!$I$12:$P$107,5,FALSE))=FALSE, VLOOKUP($G52,'Dades 2'!$I$12:$P$107,5,FALSE),IF(ISERROR(VLOOKUP($G52,CCTV!$I$12:$P$97,5,FALSE))=FALSE, VLOOKUP($G52,CCTV!$I$12:$P$97,5,FALSE),"?")))) -> 00-04-76-E9-4E-81 | L52: =IF(ISERROR(VLOOKUP($G52,Xarxa!$I$12:$P$100,6,FALSE))=FALSE, VLOOKUP($G52,Xarxa!$I$12:$P$100,6,FALSE),IF(ISERROR(VLOOKUP($G52,'Dades 1'!$I$12:$P$115,6,FALSE))=FALSE, VLOOKUP($G52,'Dades 1'!$I$12:$P$115,6,FALSE),IF(ISERROR(VLOOKUP($G52,'Dades 2'!$I$12:$P$107,6,FALSE))=FALSE, VLOOKUP($G52,'Dades 2'!$I$12:$P$107,6,FALSE),IF(ISERROR(VLOOKUP($G52,CCTV!$I$12:$P$97,6,FALSE))=FALSE, VLOOKUP($G52,CCTV!$I$12:$P$97,6,FALSE),"?")))) -> 22
E53: 1 | F53: 4 | G53: Eru 36 secundaria | H53: =IF(ISERROR(VLOOKUP($G53,Xarxa!$I$12:$P$100,2,FALSE))=FALSE, VLOOKUP($G53,Xarxa!$I$12:$P$100,2,FALSE),IF(ISERROR(VLOOKUP($G53,'Dades 1'!$I$12:$P$115,2,FALSE))=FALSE, VLOOKUP($G53,'Dades 1'!$I$12:$P$115,2,FALSE),IF(ISERROR(VLOOKUP($G53,'Dades 2'!$I$12:$P$107,2,FALSE))=FALSE, VLOOKUP($G53,'Dades 2'!$I$12:$P$107,2,FALSE),IF(ISERROR(VLOOKUP($G53,CCTV!$I$12:$P$97,2,FALSE))=FALSE, VLOOKUP($G53,CCTV!$I$12:$P$97,2,FALSE),"?")))) -> 10.137.239.209 | I53: =IF(ISERROR(VLOOKUP($G53,Xarxa!$I$12:$P$100,3,FALSE))=FALSE, VLOOKUP($G53,Xarxa!$I$12:$P$100,3,FALSE),IF(ISERROR(VLOOKUP($G53,'Dades 1'!$I$12:$P$115,3,FALSE))=FALSE, VLOOKUP($G53,'Dades 1'!$I$12:$P$115,3,FALSE),IF(ISERROR(VLOOKUP($G53,'Dades 2'!$I$12:$P$107,3,FALSE))=FALSE, VLOOKUP($G53,'Dades 2'!$I$12:$P$107,3,FALSE),IF(ISERROR(VLOOKUP($G53,CCTV!$I$12:$P$97,3,FALSE))=FALSE, VLOOKUP($G53,CCTV!$I$12:$P$97,3,FALSE),"?")))) -> 255.255.255.224 | J53: =IF(ISERROR(VLOOKUP($G53,Xarxa!$I$12:$P$100,4,FALSE))=FALSE, VLOOKUP($G53,Xarxa!$I$12:$P$100,4,FALSE),IF(ISERROR(VLOOKUP($G53,'Dades 1'!$I$12:$P$115,4,FALSE))=FALSE, VLOOKUP($G53,'Dades 1'!$I$12:$P$115,4,FALSE),IF(ISERROR(VLOOKUP($G53,'Dades 2'!$I$12:$P$107,4,FALSE))=FALSE, VLOOKUP($G53,'Dades 2'!$I$12:$P$107,4,FALSE),IF(ISERROR(VLOOKUP($G53,CCTV!$I$12:$P$97,4,FALSE))=FALSE, VLOOKUP($G53,CCTV!$I$12:$P$97,4,FALSE),"?")))) -> 10.137.239.193 | K53: =IF(ISERROR(VLOOKUP($G53,Xarxa!$I$12:$P$100,5,FALSE))=FALSE, VLOOKUP($G53,Xarxa!$I$12:$P$100,5,FALSE),IF(ISERROR(VLOOKUP($G53,'Dades 1'!$I$12:$P$115,5,FALSE))=FALSE, VLOOKUP($G53,'Dades 1'!$I$12:$P$115,5,FALSE),IF(ISERROR(VLOOKUP($G53,'Dades 2'!$I$12:$P$107,5,FALSE))=FALSE, VLOOKUP($G53,'Dades 2'!$I$12:$P$107,5,FALSE),IF(ISERROR(VLOOKUP($G53,CCTV!$I$12:$P$97,5,FALSE))=FALSE, VLOOKUP($G53,CCTV!$I$12:$P$97,5,FALSE),"?")))) -> 00-04-76-E9-4A-B2 | L53: =IF(ISERROR(VLOOKUP($G53,Xarxa!$I$12:$P$100,6,FALSE))=FALSE, VLOOKUP($G53,Xarxa!$I$12:$P$100,6,FALSE),IF(ISERROR(VLOOKUP($G53,'Dades 1'!$I$12:$P$115,6,FALSE))=FALSE, VLOOKUP($G53,'Dades 1'!$I$12:$P$115,6,FALSE),IF(ISERROR(VLOOKUP($G53,'Dades 2'!$I$12:$P$107,6,FALSE))=FALSE, VLOOKUP($G53,'Dades 2'!$I$12:$P$107,6,FALSE),IF(ISERROR(VLOOKUP($G53,CCTV!$I$12:$P$97,6,FALSE))=FALSE, VLOOKUP($G53,CCTV!$I$12:$P$97,6,FALSE),"?")))) -> 32
E54: 1 | F54: 5 | G54: Cámara 3019 | H54: =IF(ISERROR(VLOOKUP($G54,Xarxa!$I$12:$P$100,2,FALSE))=FALSE, VLOOKUP($G54,Xarxa!$I$12:$P$100,2,FALSE),IF(ISERROR(VLOOKUP($G54,'Dades 1'!$I$12:$P$115,2,FALSE))=FALSE, VLOOKUP($G54,'Dades 1'!$I$12:$P$115,2,FALSE),IF(ISERROR(VLOOKUP($G54,'Dades 2'!$I$12:$P$107,2,FALSE))=FALSE, VLOOKUP($G54,'Dades 2'!$I$12:$P$107,2,FALSE),IF(ISERROR(VLOOKUP($G54,CCTV!$I$12:$P$97,2,FALSE))=FALSE, VLOOKUP($G54,CCTV!$I$12:$P$97,2,FALSE),"?")))) -> 10.137.239.229 | I54: =IF(ISERROR(VLOOKUP($G54,Xarxa!$I$12:$P$100,3,FALSE))=FALSE, VLOOKUP($G54,Xarxa!$I$12:$P$100,3,FALSE),IF(ISERROR(VLOOKUP($G54,'Dades 1'!$I$12:$P$115,3,FALSE))=FALSE, VLOOKUP($G54,'Dades 1'!$I$12:$P$115,3,FALSE),IF(ISERROR(VLOOKUP($G54,'Dades 2'!$I$12:$P$107,3,FALSE))=FALSE, VLOOKUP($G54,'Dades 2'!$I$12:$P$107,3,FALSE),IF(ISERROR(VLOOKUP($G54,CCTV!$I$12:$P$97,3,FALSE))=FALSE, VLOOKUP($G54,CCTV!$I$12:$P$97,3,FALSE),"?")))) -> 255.255.255.224 | J54: =IF(ISERROR(VLOOKUP($G54,Xarxa!$I$12:$P$100,4,FALSE))=FALSE, VLOOKUP($G54,Xarxa!$I$12:$P$100,4,FALSE),IF(ISERROR(VLOOKUP($G54,'Dades 1'!$I$12:$P$115,4,FALSE))=FALSE, VLOOKUP($G54,'Dades 1'!$I$12:$P$115,4,FALSE),IF(ISERROR(VLOOKUP($G54,'Dades 2'!$I$12:$P$107,4,FALSE))=FALSE, VLOOKUP($G54,'Dades 2'!$I$12:$P$107,4,FALSE),IF(ISERROR(VLOOKUP($G54,CCTV!$I$12:$P$97,4,FALSE))=FALSE, VLOOKUP($G54,CCTV!$I$12:$P$97,4,FALSE),"?")))) -> 10.137.239.225 | K54: =IF(ISERROR(VLOOKUP($G54,Xarxa!$I$12:$P$100,5,FALSE))=FALSE, VLOOKUP($G54,Xarxa!$I$12:$P$100,5,FALSE),IF(ISERROR(VLOOKUP($G54,'Dades 1'!$I$12:$P$115,5,FALSE))=FALSE, VLOOKUP($G54,'Dades 1'!$I$12:$P$115,5,FALSE),IF(ISERROR(VLOOKUP($G54,'Dades 2'!$I$12:$P$107,5,FALSE))=FALSE, VLOOKUP($G54,'Dades 2'!$I$12:$P$107,5,FALSE),IF(ISERROR(VLOOKUP($G54,CCTV!$I$12:$P$97,5,FALSE))=FALSE, VLOOKUP($G54,CCTV!$I$12:$P$97,5,FALSE),"?")))) -> - | L54: =IF(ISERROR(VLOOKUP($G54,Xarxa!$I$12:$P$100,6,FALSE))=FALSE, VLOOKUP($G54,Xarxa!$I$12:$P$100,6,FALSE),IF(ISERROR(VLOOKUP($G54,'Dades 1'!$I$12:$P$115,6,FALSE))=FALSE, VLOOKUP($G54,'Dades 1'!$I$12:$P$115,6,FALSE),IF(ISERROR(VLOOKUP($G54,'Dades 2'!$I$12:$P$107,6,FALSE))=FALSE, VLOOKUP($G54,'Dades 2'!$I$12:$P$107,6,FALSE),IF(ISERROR(VLOOKUP($G54,CCTV!$I$12:$P$97,6,FALSE))=FALSE, VLOOKUP($G54,CCTV!$I$12:$P$97,6,FALSE),"?")))) -> 42
E55: 1 | F55: 6 | G55: ? | H55: =IF(ISERROR(VLOOKUP($G55,Xarxa!$I$12:$P$100,2,FALSE))=FALSE, VLOOKUP($G55,Xarxa!$I$12:$P$100,2,FALSE),IF(ISERROR(VLOOKUP($G55,'Dades 1'!$I$12:$P$115,2,FALSE))=FALSE, VLOOKUP($G55,'Dades 1'!$I$12:$P$115,2,FALSE),IF(ISERROR(VLOOKUP($G55,'Dades 2'!$I$12:$P$107,2,FALSE))=FALSE, VLOOKUP($G55,'Dades 2'!$I$12:$P$107,2,FALSE),IF(ISERROR(VLOOKUP($G55,CCTV!$I$12:$P$97,2,FALSE))=FALSE, VLOOKUP($G55,CCTV!$I$12:$P$97,2,FALSE),"?")))) -> ? | I55: =IF(ISERROR(VLOOKUP($G55,Xarxa!$I$12:$P$100,3,FALSE))=FALSE, VLOOKUP($G55,Xarxa!$I$12:$P$100,3,FALSE),IF(ISERROR(VLOOKUP($G55,'Dades 1'!$I$12:$P$115,3,FALSE))=FALSE, VLOOKUP($G55,'Dades 1'!$I$12:$P$115,3,FALSE),IF(ISERROR(VLOOKUP($G55,'Dades 2'!$I$12:$P$107,3,FALSE))=FALSE, VLOOKUP($G55,'Dades 2'!$I$12:$P$107,3,FALSE),IF(ISERROR(VLOOKUP($G55,CCTV!$I$12:$P$97,3,FALSE))=FALSE, VLOOKUP($G55,CCTV!$I$12:$P$97,3,FALSE),"?")))) -> ? | J55: =IF(ISERROR(VLOOKUP($G55,Xarxa!$I$12:$P$100,4,FALSE))=FALSE, VLOOKUP($G55,Xarxa!$I$12:$P$100,4,FALSE),IF(ISERROR(VLOOKUP($G55,'Dades 1'!$I$12:$P$115,4,FALSE))=FALSE, VLOOKUP($G55,'Dades 1'!$I$12:$P$115,4,FALSE),IF(ISERROR(VLOOKUP($G55,'Dades 2'!$I$12:$P$107,4,FALSE))=FALSE, VLOOKUP($G55,'Dades 2'!$I$12:$P$107,4,FALSE),IF(ISERROR(VLOOKUP($G55,CCTV!$I$12:$P$97,4,FALSE))=FALSE, VLOOKUP($G55,CCTV!$I$12:$P$97,4,FALSE),"?")))) -> ? | K55: =IF(ISERROR(VLOOKUP($G55,Xarxa!$I$12:$P$100,5,FALSE))=FALSE, VLOOKUP($G55,Xarxa!$I$12:$P$100,5,FALSE),IF(ISERROR(VLOOKUP($G55,'Dades 1'!$I$12:$P$115,5,FALSE))=FALSE, VLOOKUP($G55,'Dades 1'!$I$12:$P$115,5,FALSE),IF(ISERROR(VLOOKUP($G55,'Dades 2'!$I$12:$P$107,5,FALSE))=FALSE, VLOOKUP($G55,'Dades 2'!$I$12:$P$107,5,FALSE),IF(ISERROR(VLOOKUP($G55,CCTV!$I$12:$P$97,5,FALSE))=FALSE, VLOOKUP($G55,CCTV!$I$12:$P$97,5,FALSE),"?")))) -> ? | L55: =IF(ISERROR(VLOOKUP($G55,Xarxa!$I$12:$P$100,6,FALSE))=FALSE, VLOOKUP($G55,Xarxa!$I$12:$P$100,6,FALSE),IF(ISERROR(VLOOKUP($G55,'Dades 1'!$I$12:$P$115,6,FALSE))=FALSE, VLOOKUP($G55,'Dades 1'!$I$12:$P$115,6,FALSE),IF(ISERROR(VLOOKUP($G55,'Dades 2'!$I$12:$P$107,6,FALSE))=FALSE, VLOOKUP($G55,'Dades 2'!$I$12:$P$107,6,FALSE),IF(ISERROR(VLOOKUP($G55,CCTV!$I$12:$P$97,6,FALSE))=FALSE, VLOOKUP($G55,CCTV!$I$12:$P$97,6,FALSE),"?")))) -> ?
E56: 1 | F56: 7 | G56: ? | H56: =IF(ISERROR(VLOOKUP($G56,Xarxa!$I$12:$P$100,2,FALSE))=FALSE, VLOOKUP($G56,Xarxa!$I$12:$P$100,2,FALSE),IF(ISERROR(VLOOKUP($G56,'Dades 1'!$I$12:$P$115,2,FALSE))=FALSE, VLOOKUP($G56,'Dades 1'!$I$12:$P$115,2,FALSE),IF(ISERROR(VLOOKUP($G56,'Dades 2'!$I$12:$P$107,2,FALSE))=FALSE, VLOOKUP($G56,'Dades 2'!$I$12:$P$107,2,FALSE),IF(ISERROR(VLOOKUP($G56,CCTV!$I$12:$P$97,2,FALSE))=FALSE, VLOOKUP($G56,CCTV!$I$12:$P$97,2,FALSE),"?")))) -> ? | I56: =IF(ISERROR(VLOOKUP($G56,Xarxa!$I$12:$P$100,3,FALSE))=FALSE, VLOOKUP($G56,Xarxa!$I$12:$P$100,3,FALSE),IF(ISERROR(VLOOKUP($G56,'Dades 1'!$I$12:$P$115,3,FALSE))=FALSE, VLOOKUP($G56,'Dades 1'!$I$12:$P$115,3,FALSE),IF(ISERROR(VLOOKUP($G56,'Dades 2'!$I$12:$P$107,3,FALSE))=FALSE, VLOOKUP($G56,'Dades 2'!$I$12:$P$107,3,FALSE),IF(ISERROR(VLOOKUP($G56,CCTV!$I$12:$P$97,3,FALSE))=FALSE, VLOOKUP($G56,CCTV!$I$12:$P$97,3,FALSE),"?")))) -> ? | J56: =IF(ISERROR(VLOOKUP($G56,Xarxa!$I$12:$P$100,4,FALSE))=FALSE, VLOOKUP($G56,Xarxa!$I$12:$P$100,4,FALSE),IF(ISERROR(VLOOKUP($G56,'Dades 1'!$I$12:$P$115,4,FALSE))=FALSE, VLOOKUP($G56,'Dades 1'!$I$12:$P$115,4,FALSE),IF(ISERROR(VLOOKUP($G56,'Dades 2'!$I$12:$P$107,4,FALSE))=FALSE, VLOOKUP($G56,'Dades 2'!$I$12:$P$107,4,FALSE),IF(ISERROR(VLOOKUP($G56,CCTV!$I$12:$P$97,4,FALSE))=FALSE, VLOOKUP($G56,CCTV!$I$12:$P$97,4,FALSE),"?")))) -> ? | K56: =IF(ISERROR(VLOOKUP($G56,Xarxa!$I$12:$P$100,5,FALSE))=FALSE, VLOOKUP($G56,Xarxa!$I$12:$P$100,5,FALSE),IF(ISERROR(VLOOKUP($G56,'Dades 1'!$I$12:$P$115,5,FALSE))=FALSE, VLOOKUP($G56,'Dades 1'!$I$12:$P$115,5,FALSE),IF(ISERROR(VLOOKUP($G56,'Dades 2'!$I$12:$P$107,5,FALSE))=FALSE, VLOOKUP($G56,'Dades 2'!$I$12:$P$107,5,FALSE),IF(ISERROR(VLOOKUP($G56,CCTV!$I$12:$P$97,5,FALSE))=FALSE, VLOOKUP($G56,CCTV!$I$12:$P$97,5,FALSE),"?")))) -> ? | L56: =IF(ISERROR(VLOOKUP($G56,Xarxa!$I$12:$P$100,6,FALSE))=FALSE, VLOOKUP($G56,Xarxa!$I$12:$P$100,6,FALSE),IF(ISERROR(VLOOKUP($G56,'Dades 1'!$I$12:$P$115,6,FALSE))=FALSE, VLOOKUP($G56,'Dades 1'!$I$12:$P$115,6,FALSE),IF(ISERROR(VLOOKUP($G56,'Dades 2'!$I$12:$P$107,6,FALSE))=FALSE, VLOOKUP($G56,'Dades 2'!$I$12:$P$107,6,FALSE),IF(ISERROR(VLOOKUP($G56,CCTV!$I$12:$P$97,6,FALSE))=FALSE, VLOOKUP($G56,CCTV!$I$12:$P$97,6,FALSE),"?")))) -> ?
E57: 1 | F57: 8 | G57: ? | H57: =IF(ISERROR(VLOOKUP($G57,Xarxa!$I$12:$P$100,2,FALSE))=FALSE, VLOOKUP($G57,Xarxa!$I$12:$P$100,2,FALSE),IF(ISERROR(VLOOKUP($G57,'Dades 1'!$I$12:$P$115,2,FALSE))=FALSE, VLOOKUP($G57,'Dades 1'!$I$12:$P$115,2,FALSE),IF(ISERROR(VLOOKUP($G57,'Dades 2'!$I$12:$P$107,2,FALSE))=FALSE, VLOOKUP($G57,'Dades 2'!$I$12:$P$107,2,FALSE),IF(ISERROR(VLOOKUP($G57,CCTV!$I$12:$P$97,2,FALSE))=FALSE, VLOOKUP($G57,CCTV!$I$12:$P$97,2,FALSE),"?")))) -> ? | I57: =IF(ISERROR(VLOOKUP($G57,Xarxa!$I$12:$P$100,3,FALSE))=FALSE, VLOOKUP($G57,Xarxa!$I$12:$P$100,3,FALSE),IF(ISERROR(VLOOKUP($G57,'Dades 1'!$I$12:$P$115,3,FALSE))=FALSE, VLOOKUP($G57,'Dades 1'!$I$12:$P$115,3,FALSE),IF(ISERROR(VLOOKUP($G57,'Dades 2'!$I$12:$P$107,3,FALSE))=FALSE, VLOOKUP($G57,'Dades 2'!$I$12:$P$107,3,FALSE),IF(ISERROR(VLOOKUP($G57,CCTV!$I$12:$P$97,3,FALSE))=FALSE, VLOOKUP($G57,CCTV!$I$12:$P$97,3,FALSE),"?")))) -> ? | J57: =IF(ISERROR(VLOOKUP($G57,Xarxa!$I$12:$P$100,4,FALSE))=FALSE, VLOOKUP($G57,Xarxa!$I$12:$P$100,4,FALSE),IF(ISERROR(VLOOKUP($G57,'Dades 1'!$I$12:$P$115,4,FALSE))=FALSE, VLOOKUP($G57,'Dades 1'!$I$12:$P$115,4,FALSE),IF(ISERROR(VLOOKUP($G57,'Dades 2'!$I$12:$P$107,4,FALSE))=FALSE, VLOOKUP($G57,'Dades 2'!$I$12:$P$107,4,FALSE),IF(ISERROR(VLOOKUP($G57,CCTV!$I$12:$P$97,4,FALSE))=FALSE, VLOOKUP($G57,CCTV!$I$12:$P$97,4,FALSE),"?")))) -> ? | K57: =IF(ISERROR(VLOOKUP($G57,Xarxa!$I$12:$P$100,5,FALSE))=FALSE, VLOOKUP($G57,Xarxa!$I$12:$P$100,5,FALSE),IF(ISERROR(VLOOKUP($G57,'Dades 1'!$I$12:$P$115,5,FALSE))=FALSE, VLOOKUP($G57,'Dades 1'!$I$12:$P$115,5,FALSE),IF(ISERROR(VLOOKUP($G57,'Dades 2'!$I$12:$P$107,5,FALSE))=FALSE, VLOOKUP($G57,'Dades 2'!$I$12:$P$107,5,FALSE),IF(ISERROR(VLOOKUP($G57,CCTV!$I$12:$P$97,5,FALSE))=FALSE, VLOOKUP($G57,CCTV!$I$12:$P$97,5,FALSE),"?")))) -> ? | L57: =IF(ISERROR(VLOOKUP($G57,Xarxa!$I$12:$P$100,6,FALSE))=FALSE, VLOOKUP($G57,Xarxa!$I$12:$P$100,6,FALSE),IF(ISERROR(VLOOKUP($G57,'Dades 1'!$I$12:$P$115,6,FALSE))=FALSE, VLOOKUP($G57,'Dades 1'!$I$12:$P$115,6,FALSE),IF(ISERROR(VLOOKUP($G57,'Dades 2'!$I$12:$P$107,6,FALSE))=FALSE, VLOOKUP($G57,'Dades 2'!$I$12:$P$107,6,FALSE),IF(ISERROR(VLOOKUP($G57,CCTV!$I$12:$P$97,6,FALSE))=FALSE, VLOOKUP($G57,CCTV!$I$12:$P$97,6,FALSE),"?")))) -> ?
E58: 1 | F58: 9 | G58: ? | H58: =IF(ISERROR(VLOOKUP($G58,Xarxa!$I$12:$P$100,2,FALSE))=FALSE, VLOOKUP($G58,Xarxa!$I$12:$P$100,2,FALSE),IF(ISERROR(VLOOKUP($G58,'Dades 1'!$I$12:$P$115,2,FALSE))=FALSE, VLOOKUP($G58,'Dades 1'!$I$12:$P$115,2,FALSE),IF(ISERROR(VLOOKUP($G58,'Dades 2'!$I$12:$P$107,2,FALSE))=FALSE, VLOOKUP($G58,'Dades 2'!$I$12:$P$107,2,FALSE),IF(ISERROR(VLOOKUP($G58,CCTV!$I$12:$P$97,2,FALSE))=FALSE, VLOOKUP($G58,CCTV!$I$12:$P$97,2,FALSE),"?")))) -> ? | I58: =IF(ISERROR(VLOOKUP($G58,Xarxa!$I$12:$P$100,3,FALSE))=FALSE, VLOOKUP($G58,Xarxa!$I$12:$P$100,3,FALSE),IF(ISERROR(VLOOKUP($G58,'Dades 1'!$I$12:$P$115,3,FALSE))=FALSE, VLOOKUP($G58,'Dades 1'!$I$12:$P$115,3,FALSE),IF(ISERROR(VLOOKUP($G58,'Dades 2'!$I$12:$P$107,3,FALSE))=FALSE, VLOOKUP($G58,'Dades 2'!$I$12:$P$107,3,FALSE),IF(ISERROR(VLOOKUP($G58,CCTV!$I$12:$P$97,3,FALSE))=FALSE, VLOOKUP($G58,CCTV!$I$12:$P$97,3,FALSE),"?")))) -> ? | J58: =IF(ISERROR(VLOOKUP($G58,Xarxa!$I$12:$P$100,4,FALSE))=FALSE, VLOOKUP($G58,Xarxa!$I$12:$P$100,4,FALSE),IF(ISERROR(VLOOKUP($G58,'Dades 1'!$I$12:$P$115,4,FALSE))=FALSE, VLOOKUP($G58,'Dades 1'!$I$12:$P$115,4,FALSE),IF(ISERROR(VLOOKUP($G58,'Dades 2'!$I$12:$P$107,4,FALSE))=FALSE, VLOOKUP($G58,'Dades 2'!$I$12:$P$107,4,FALSE),IF(ISERROR(VLOOKUP($G58,CCTV!$I$12:$P$97,4,FALSE))=FALSE, VLOOKUP($G58,CCTV!$I$12:$P$97,4,FALSE),"?")))) -> ? | K58: =IF(ISERROR(VLOOKUP($G58,Xarxa!$I$12:$P$100,5,FALSE))=FALSE, VLOOKUP($G58,Xarxa!$I$12:$P$100,5,FALSE),IF(ISERROR(VLOOKUP($G58,'Dades 1'!$I$12:$P$115,5,FALSE))=FALSE, VLOOKUP($G58,'Dades 1'!$I$12:$P$115,5,FALSE),IF(ISERROR(VLOOKUP($G58,'Dades 2'!$I$12:$P$107,5,FALSE))=FALSE, VLOOKUP($G58,'Dades 2'!$I$12:$P$107,5,FALSE),IF(ISERROR(VLOOKUP($G58,CCTV!$I$12:$P$97,5,FALSE))=FALSE, VLOOKUP($G58,CCTV!$I$12:$P$97,5,FALSE),"?")))) -> ? | L58: =IF(ISERROR(VLOOKUP($G58,Xarxa!$I$12:$P$100,6,FALSE))=FALSE, VLOOKUP($G58,Xarxa!$I$12:$P$100,6,FALSE),IF(ISERROR(VLOOKUP($G58,'Dades 1'!$I$12:$P$115,6,FALSE))=FALSE, VLOOKUP($G58,'Dades 1'!$I$12:$P$115,6,FALSE),IF(ISERROR(VLOOKUP($G58,'Dades 2'!$I$12:$P$107,6,FALSE))=FALSE, VLOOKUP($G58,'Dades 2'!$I$12:$P$107,6,FALSE),IF(ISERROR(VLOOKUP($G58,CCTV!$I$12:$P$97,6,FALSE))=FALSE, VLOOKUP($G58,CCTV!$I$12:$P$97,6,FALSE),"?")))) -> ?
E59: 1 | F59: 10 | G59: ? | H59: =IF(ISERROR(VLOOKUP($G59,Xarxa!$I$12:$P$100,2,FALSE))=FALSE, VLOOKUP($G59,Xarxa!$I$12:$P$100,2,FALSE),IF(ISERROR(VLOOKUP($G59,'Dades 1'!$I$12:$P$115,2,FALSE))=FALSE, VLOOKUP($G59,'Dades 1'!$I$12:$P$115,2,FALSE),IF(ISERROR(VLOOKUP($G59,'Dades 2'!$I$12:$P$107,2,FALSE))=FALSE, VLOOKUP($G59,'Dades 2'!$I$12:$P$107,2,FALSE),IF(ISERROR(VLOOKUP($G59,CCTV!$I$12:$P$97,2,FALSE))=FALSE, VLOOKUP($G59,CCTV!$I$12:$P$97,2,FALSE),"?")))) -> ? | I59: =IF(ISERROR(VLOOKUP($G59,Xarxa!$I$12:$P$100,3,FALSE))=FALSE, VLOOKUP($G59,Xarxa!$I$12:$P$100,3,FALSE),IF(ISERROR(VLOOKUP($G59,'Dades 1'!$I$12:$P$115,3,FALSE))=FALSE, VLOOKUP($G59,'Dades 1'!$I$12:$P$115,3,FALSE),IF(ISERROR(VLOOKUP($G59,'Dades 2'!$I$12:$P$107,3,FALSE))=FALSE, VLOOKUP($G59,'Dades 2'!$I$12:$P$107,3,FALSE),IF(ISERROR(VLOOKUP($G59,CCTV!$I$12:$P$97,3,FALSE))=FALSE, VLOOKUP($G59,CCTV!$I$12:$P$97,3,FALSE),"?")))) -> ? | J59: =IF(ISERROR(VLOOKUP($G59,Xarxa!$I$12:$P$100,4,FALSE))=FALSE, VLOOKUP($G59,Xarxa!$I$12:$P$100,4,FALSE),IF(ISERROR(VLOOKUP($G59,'Dades 1'!$I$12:$P$115,4,FALSE))=FALSE, VLOOKUP($G59,'Dades 1'!$I$12:$P$115,4,FALSE),IF(ISERROR(VLOOKUP($G59,'Dades 2'!$I$12:$P$107,4,FALSE))=FALSE, VLOOKUP($G59,'Dades 2'!$I$12:$P$107,4,FALSE),IF(ISERROR(VLOOKUP($G59,CCTV!$I$12:$P$97,4,FALSE))=FALSE, VLOOKUP($G59,CCTV!$I$12:$P$97,4,FALSE),"?")))) -> ? | K59: =IF(ISERROR(VLOOKUP($G59,Xarxa!$I$12:$P$100,5,FALSE))=FALSE, VLOOKUP($G59,Xarxa!$I$12:$P$100,5,FALSE),IF(ISERROR(VLOOKUP($G59,'Dades 1'!$I$12:$P$115,5,FALSE))=FALSE, VLOOKUP($G59,'Dades 1'!$I$12:$P$115,5,FALSE),IF(ISERROR(VLOOKUP($G59,'Dades 2'!$I$12:$P$107,5,FALSE))=FALSE, VLOOKUP($G59,'Dades 2'!$I$12:$P$107,5,FALSE),IF(ISERROR(VLOOKUP($G59,CCTV!$I$12:$P$97,5,FALSE))=FALSE, VLOOKUP($G59,CCTV!$I$12:$P$97,5,FALSE),"?")))) -> ? | L59: =IF(ISERROR(VLOOKUP($G59,Xarxa!$I$12:$P$100,6,FALSE))=FALSE, VLOOKUP($G59,Xarxa!$I$12:$P$100,6,FALSE),IF(ISERROR(VLOOKUP($G59,'Dades 1'!$I$12:$P$115,6,FALSE))=FALSE, VLOOKUP($G59,'Dades 1'!$I$12:$P$115,6,FALSE),IF(ISERROR(VLOOKUP($G59,'Dades 2'!$I$12:$P$107,6,FALSE))=FALSE, VLOOKUP($G59,'Dades 2'!$I$12:$P$107,6,FALSE),IF(ISERROR(VLOOKUP($G59,CCTV!$I$12:$P$97,6,FALSE))=FALSE, VLOOKUP($G59,CCTV!$I$12:$P$97,6,FALSE),"?")))) -> ?
A61: =INDIRECT(M61) -> Node Xarxa 37 | E61: MODULE | F61: PORT | G61: CONNECTED DEVICE | H61: IP | I61: MASK | J61: GATEWAY | K61: MAC | L61: VLAN | M61: =CONCATENATE("Xarxa!I",RIGHT(M49,2)+1) -> Xarxa!I21
E62: 1 | F62: 1 | G62: ? | H62: =IF(ISERROR(VLOOKUP($G62,Xarxa!$I$12:$P$100,2,FALSE))=FALSE, VLOOKUP($G62,Xarxa!$I$12:$P$100,2,FALSE),IF(ISERROR(VLOOKUP($G62,'Dades 1'!$I$12:$P$115,2,FALSE))=FALSE, VLOOKUP($G62,'Dades 1'!$I$12:$P$115,2,FALSE),IF(ISERROR(VLOOKUP($G62,'Dades 2'!$I$12:$P$107,2,FALSE))=FALSE, VLOOKUP($G62,'Dades 2'!$I$12:$P$107,2,FALSE),IF(ISERROR(VLOOKUP($G62,CCTV!$I$12:$P$97,2,FALSE))=FALSE, VLOOKUP($G62,CCTV!$I$12:$P$97,2,FALSE),"?")))) -> ? | I62: =IF(ISERROR(VLOOKUP($G62,Xarxa!$I$12:$P$100,3,FALSE))=FALSE, VLOOKUP($G62,Xarxa!$I$12:$P$100,3,FALSE),IF(ISERROR(VLOOKUP($G62,'Dades 1'!$I$12:$P$115,3,FALSE))=FALSE, VLOOKUP($G62,'Dades 1'!$I$12:$P$115,3,FALSE),IF(ISERROR(VLOOKUP($G62,'Dades 2'!$I$12:$P$107,3,FALSE))=FALSE, VLOOKUP($G62,'Dades 2'!$I$12:$P$107,3,FALSE),IF(ISERROR(VLOOKUP($G62,CCTV!$I$12:$P$97,3,FALSE))=FALSE, VLOOKUP($G62,CCTV!$I$12:$P$97,3,FALSE),"?")))) -> ? | J62: =IF(ISERROR(VLOOKUP($G62,Xarxa!$I$12:$P$100,4,FALSE))=FALSE, VLOOKUP($G62,Xarxa!$I$12:$P$100,4,FALSE),IF(ISERROR(VLOOKUP($G62,'Dades 1'!$I$12:$P$115,4,FALSE))=FALSE, VLOOKUP($G62,'Dades 1'!$I$12:$P$115,4,FALSE),IF(ISERROR(VLOOKUP($G62,'Dades 2'!$I$12:$P$107,4,FALSE))=FALSE, VLOOKUP($G62,'Dades 2'!$I$12:$P$107,4,FALSE),IF(ISERROR(VLOOKUP($G62,CCTV!$I$12:$P$97,4,FALSE))=FALSE, VLOOKUP($G62,CCTV!$I$12:$P$97,4,FALSE),"?")))) -> ? | K62: =IF(ISERROR(VLOOKUP($G62,Xarxa!$I$12:$P$100,5,FALSE))=FALSE, VLOOKUP($G62,Xarxa!$I$12:$P$100,5,FALSE),IF(ISERROR(VLOOKUP($G62,'Dades 1'!$I$12:$P$115,5,FALSE))=FALSE, VLOOKUP($G62,'Dades 1'!$I$12:$P$115,5,FALSE),IF(ISERROR(VLOOKUP($G62,'Dades 2'!$I$12:$P$107,5,FALSE))=FALSE, VLOOKUP($G62,'Dades 2'!$I$12:$P$107,5,FALSE),IF(ISERROR(VLOOKUP($G62,CCTV!$I$12:$P$97,5,FALSE))=FALSE, VLOOKUP($G62,CCTV!$I$12:$P$97,5,FALSE),"?")))) -> ? | L62: =IF(ISERROR(VLOOKUP($G62,Xarxa!$I$12:$P$100,6,FALSE))=FALSE, VLOOKUP($G62,Xarxa!$I$12:$P$100,6,FALSE),IF(ISERROR(VLOOKUP($G62,'Dades 1'!$I$12:$P$115,6,FALSE))=FALSE, VLOOKUP($G62,'Dades 1'!$I$12:$P$115,6,FALSE),IF(ISERROR(VLOOKUP($G62,'Dades 2'!$I$12:$P$107,6,FALSE))=FALSE, VLOOKUP($G62,'Dades 2'!$I$12:$P$107,6,FALSE),IF(ISERROR(VLOOKUP($G62,CCTV!$I$12:$P$97,6,FALSE))=FALSE, VLOOKUP($G62,CCTV!$I$12:$P$97,6,FALSE),"?")))) -> ?
E63: 1 | F63: 2 | G63: ? | H63: =IF(ISERROR(VLOOKUP($G63,Xarxa!$I$12:$P$100,2,FALSE))=FALSE, VLOOKUP($G63,Xarxa!$I$12:$P$100,2,FALSE),IF(ISERROR(VLOOKUP($G63,'Dades 1'!$I$12:$P$115,2,FALSE))=FALSE, VLOOKUP($G63,'Dades 1'!$I$12:$P$115,2,FALSE),IF(ISERROR(VLOOKUP($G63,'Dades 2'!$I$12:$P$107,2,FALSE))=FALSE, VLOOKUP($G63,'Dades 2'!$I$12:$P$107,2,FALSE),IF(ISERROR(VLOOKUP($G63,CCTV!$I$12:$P$97,2,FALSE))=FALSE, VLOOKUP($G63,CCTV!$I$12:$P$97,2,FALSE),"?")))) -> ? | I63: =IF(ISERROR(VLOOKUP($G63,Xarxa!$I$12:$P$100,3,FALSE))=FALSE, VLOOKUP($G63,Xarxa!$I$12:$P$100,3,FALSE),IF(ISERROR(VLOOKUP($G63,'Dades 1'!$I$12:$P$115,3,FALSE))=FALSE, VLOOKUP($G63,'Dades 1'!$I$12:$P$115,3,FALSE),IF(ISERROR(VLOOKUP($G63,'Dades 2'!$I$12:$P$107,3,FALSE))=FALSE, VLOOKUP($G63,'Dades 2'!$I$12:$P$107,3,FALSE),IF(ISERROR(VLOOKUP($G63,CCTV!$I$12:$P$97,3,FALSE))=FALSE, VLOOKUP($G63,CCTV!$I$12:$P$97,3,FALSE),"?")))) -> ? | J63: =IF(ISERROR(VLOOKUP($G63,Xarxa!$I$12:$P$100,4,FALSE))=FALSE, VLOOKUP($G63,Xarxa!$I$12:$P$100,4,FALSE),IF(ISERROR(VLOOKUP($G63,'Dades 1'!$I$12:$P$115,4,FALSE))=FALSE, VLOOKUP($G63,'Dades 1'!$I$12:$P$115,4,FALSE),IF(ISERROR(VLOOKUP($G63,'Dades 2'!$I$12:$P$107,4,FALSE))=FALSE, VLOOKUP($G63,'Dades 2'!$I$12:$P$107,4,FALSE),IF(ISERROR(VLOOKUP($G63,CCTV!$I$12:$P$97,4,FALSE))=FALSE, VLOOKUP($G63,CCTV!$I$12:$P$97,4,FALSE),"?")))) -> ? | K63: =IF(ISERROR(VLOOKUP($G63,Xarxa!$I$12:$P$100,5,FALSE))=FALSE, VLOOKUP($G63,Xarxa!$I$12:$P$100,5,FALSE),IF(ISERROR(VLOOKUP($G63,'Dades 1'!$I$12:$P$115,5,FALSE))=FALSE, VLOOKUP($G63,'Dades 1'!$I$12:$P$115,5,FALSE),IF(ISERROR(VLOOKUP($G63,'Dades 2'!$I$12:$P$107,5,FALSE))=FALSE, VLOOKUP($G63,'Dades 2'!$I$12:$P$107,5,FALSE),IF(ISERROR(VLOOKUP($G63,CCTV!$I$12:$P$97,5,FALSE))=FALSE, VLOOKUP($G63,CCTV!$I$12:$P$97,5,FALSE),"?")))) -> ? | L63: =IF(ISERROR(VLOOKUP($G63,Xarxa!$I$12:$P$100,6,FALSE))=FALSE, VLOOKUP($G63,Xarxa!$I$12:$P$100,6,FALSE),IF(ISERROR(VLOOKUP($G63,'Dades 1'!$I$12:$P$115,6,FALSE))=FALSE, VLOOKUP($G63,'Dades 1'!$I$12:$P$115,6,FALSE),IF(ISERROR(VLOOKUP($G63,'Dades 2'!$I$12:$P$107,6,FALSE))=FALSE, VLOOKUP($G63,'Dades 2'!$I$12:$P$107,6,FALSE),IF(ISERROR(VLOOKUP($G63,CCTV!$I$12:$P$97,6,FALSE))=FALSE, VLOOKUP($G63,CCTV!$I$12:$P$97,6,FALSE),"?")))) -> ?
E64: 1 | F64: 3 | G64: Eru 37 principal | H64: =IF(ISERROR(VLOOKUP($G64,Xarxa!$I$12:$P$100,2,FALSE))=FALSE, VLOOKUP($G64,Xarxa!$I$12:$P$100,2,FALSE),IF(ISERROR(VLOOKUP($G64,'Dades 1'!$I$12:$P$115,2,FALSE))=FALSE, VLOOKUP($G64,'Dades 1'!$I$12:$P$115,2,FALSE),IF(ISERROR(VLOOKUP($G64,'Dades 2'!$I$12:$P$107,2,FALSE))=FALSE, VLOOKUP($G64,'Dades 2'!$I$12:$P$107,2,FALSE),IF(ISERROR(VLOOKUP($G64,CCTV!$I$12:$P$97,2,FALSE))=FALSE, VLOOKUP($G64,CCTV!$I$12:$P$97,2,FALSE),"?")))) -> 10.137.238.210 | I64: =IF(ISERROR(VLOOKUP($G64,Xarxa!$I$12:$P$100,3,FALSE))=FALSE, VLOOKUP($G64,Xarxa!$I$12:$P$100,3,FALSE),IF(ISERROR(VLOOKUP($G64,'Dades 1'!$I$12:$P$115,3,FALSE))=FALSE, VLOOKUP($G64,'Dades 1'!$I$12:$P$115,3,FALSE),IF(ISERROR(VLOOKUP($G64,'Dades 2'!$I$12:$P$107,3,FALSE))=FALSE, VLOOKUP($G64,'Dades 2'!$I$12:$P$107,3,FALSE),IF(ISERROR(VLOOKUP($G64,CCTV!$I$12:$P$97,3,FALSE))=FALSE, VLOOKUP($G64,CCTV!$I$12:$P$97,3,FALSE),"?")))) -> 255.255.255.224 | J64: =IF(ISERROR(VLOOKUP($G64,Xarxa!$I$12:$P$100,4,FALSE))=FALSE, VLOOKUP($G64,Xarxa!$I$12:$P$100,4,FALSE),IF(ISERROR(VLOOKUP($G64,'Dades 1'!$I$12:$P$115,4,FALSE))=FALSE, VLOOKUP($G64,'Dades 1'!$I$12:$P$115,4,FALSE),IF(ISERROR(VLOOKUP($G64,'Dades 2'!$I$12:$P$107,4,FALSE))=FALSE, VLOOKUP($G64,'Dades 2'!$I$12:$P$107,4,FALSE),IF(ISERROR(VLOOKUP($G64,CCTV!$I$12:$P$97,4,FALSE))=FALSE, VLOOKUP($G64,CCTV!$I$12:$P$97,4,FALSE),"?")))) -> 10.137.238.193 | K64: =IF(ISERROR(VLOOKUP($G64,Xarxa!$I$12:$P$100,5,FALSE))=FALSE, VLOOKUP($G64,Xarxa!$I$12:$P$100,5,FALSE),IF(ISERROR(VLOOKUP($G64,'Dades 1'!$I$12:$P$115,5,FALSE))=FALSE, VLOOKUP($G64,'Dades 1'!$I$12:$P$115,5,FALSE),IF(ISERROR(VLOOKUP($G64,'Dades 2'!$I$12:$P$107,5,FALSE))=FALSE, VLOOKUP($G64,'Dades 2'!$I$12:$P$107,5,FALSE),IF(ISERROR(VLOOKUP($G64,CCTV!$I$12:$P$97,5,FALSE))=FALSE, VLOOKUP($G64,CCTV!$I$12:$P$97,5,FALSE),"?")))) -> 00-04-76-E9-42-14 | L64: =IF(ISERROR(VLOOKUP($G64,Xarxa!$I$12:$P$100,6,FALSE))=FALSE, VLOOKUP($G64,Xarxa!$I$12:$P$100,6,FALSE),IF(ISERROR(VLOOKUP($G64,'Dades 1'!$I$12:$P$115,6,FALSE))=FALSE, VLOOKUP($G64,'Dades 1'!$I$12:$P$115,6,FALSE),IF(ISERROR(VLOOKUP($G64,'Dades 2'!$I$12:$P$107,6,FALSE))=FALSE, VLOOKUP($G64,'Dades 2'!$I$12:$P$107,6,FALSE),IF(ISERROR(VLOOKUP($G64,CCTV!$I$12:$P$97,6,FALSE))=FALSE, VLOOKUP($G64,CCTV!$I$12:$P$97,6,FALSE),"?")))) -> 22
E65: 1 | F65: 4 | G65: Eru 37 secundaria | H65: =IF(ISERROR(VLOOKUP($G65,Xarxa!$I$12:$P$100,2,FALSE))=FALSE, VLOOKUP($G65,Xarxa!$I$12:$P$100,2,FALSE),IF(ISERROR(VLOOKUP($G65,'Dades 1'!$I$12:$P$115,2,FALSE))=FALSE, VLOOKUP($G65,'Dades 1'!$I$12:$P$115,2,FALSE),IF(ISERROR(VLOOKUP($G65,'Dades 2'!$I$12:$P$107,2,FALSE))=FALSE, VLOOKUP($G65,'Dades 2'!$I$12:$P$107,2,FALSE),IF(ISERROR(VLOOKUP($G65,CCTV!$I$12:$P$97,2,FALSE))=FALSE, VLOOKUP($G65,CCTV!$I$12:$P$97,2,FALSE),"?")))) -> 10.137.239.210 | I65: =IF(ISERROR(VLOOKUP($G65,Xarxa!$I$12:$P$100,3,FALSE))=FALSE, VLOOKUP($G65,Xarxa!$I$12:$P$100,3,FALSE),IF(ISERROR(VLOOKUP($G65,'Dades 1'!$I$12:$P$115,3,FALSE))=FALSE, VLOOKUP($G65,'Dades 1'!$I$12:$P$115,3,FALSE),IF(ISERROR(VLOOKUP($G65,'Dades 2'!$I$12:$P$107,3,FALSE))=FALSE, VLOOKUP($G65,'Dades 2'!$I$12:$P$107,3,FALSE),IF(ISERROR(VLOOKUP($G65,CCTV!$I$12:$P$97,3,FALSE))=FALSE, VLOOKUP($G65,CCTV!$I$12:$P$97,3,FALSE),"?")))) -> 255.255.255.224 | J65: =IF(ISERROR(VLOOKUP($G65,Xarxa!$I$12:$P$100,4,FALSE))=FALSE, VLOOKUP($G65,Xarxa!$I$12:$P$100,4,FALSE),IF(ISERROR(VLOOKUP($G65,'Dades 1'!$I$12:$P$115,4,FALSE))=FALSE, VLOOKUP($G65,'Dades 1'!$I$12:$P$115,4,FALSE),IF(ISERROR(VLOOKUP($G65,'Dades 2'!$I$12:$P$107,4,FALSE))=FALSE, VLOOKUP($G65,'Dades 2'!$I$12:$P$107,4,FALSE),IF(ISERROR(VLOOKUP($G65,CCTV!$I$12:$P$97,4,FALSE))=FALSE, VLOOKUP($G65,CCTV!$I$12:$P$97,4,FALSE),"?")))) -> 10.137.239.193 | K65: =IF(ISERROR(VLOOKUP($G65,Xarxa!$I$12:$P$100,5,FALSE))=FALSE, VLOOKUP($G65,Xarxa!$I$12:$P$100,5,FALSE),IF(ISERROR(VLOOKUP($G65,'Dades 1'!$I$12:$P$115,5,FALSE))=FALSE, VLOOKUP($G65,'Dades 1'!$I$12:$P$115,5,FALSE),IF(ISERROR(VLOOKUP($G65,'Dades 2'!$I$12:$P$107,5,FALSE))=FALSE, VLOOKUP($G65,'Dades 2'!$I$12:$P$107,5,FALSE),IF(ISERROR(VLOOKUP($G65,CCTV!$I$12:$P$97,5,FALSE))=FALSE, VLOOKUP($G65,CCTV!$I$12:$P$97,5,FALSE),"?")))) -> 00-11-6B-3C-F1-8A | L65: =IF(ISERROR(VLOOKUP($G65,Xarxa!$I$12:$P$100,6,FALSE))=FALSE, VLOOKUP($G65,Xarxa!$I$12:$P$100,6,FALSE),IF(ISERROR(VLOOKUP($G65,'Dades 1'!$I$12:$P$115,6,FALSE))=FALSE, VLOOKUP($G65,'Dades 1'!$I$12:$P$115,6,FALSE),IF(ISERROR(VLOOKUP($G65,'Dades 2'!$I$12:$P$107,6,FALSE))=FALSE, VLOOKUP($G65,'Dades 2'!$I$12:$P$107,6,FALSE),IF(ISERROR(VLOOKUP($G65,CCTV!$I$12:$P$97,6,FALSE))=FALSE, VLOOKUP($G65,CCTV!$I$12:$P$97,6,FALSE),"?")))) -> 32
E66: 1 | F66: 5 | G66: ? | H66: =IF(ISERROR(VLOOKUP($G66,Xarxa!$I$12:$P$100,2,FALSE))=FALSE, VLOOKUP($G66,Xarxa!$I$12:$P$100,2,FALSE),IF(ISERROR(VLOOKUP($G66,'Dades 1'!$I$12:$P$115,2,FALSE))=FALSE, VLOOKUP($G66,'Dades 1'!$I$12:$P$115,2,FALSE),IF(ISERROR(VLOOKUP($G66,'Dades 2'!$I$12:$P$107,2,FALSE))=FALSE, VLOOKUP($G66,'Dades 2'!$I$12:$P$107,2,FALSE),IF(ISERROR(VLOOKUP($G66,CCTV!$I$12:$P$97,2,FALSE))=FALSE, VLOOKUP($G66,CCTV!$I$12:$P$97,2,FALSE),"?")))) -> ? | I66: =IF(ISERROR(VLOOKUP($G66,Xarxa!$I$12:$P$100,3,FALSE))=FALSE, VLOOKUP($G66,Xarxa!$I$12:$P$100,3,FALSE),IF(ISERROR(VLOOKUP($G66,'Dades 1'!$I$12:$P$115,3,FALSE))=FALSE, VLOOKUP($G66,'Dades 1'!$I$12:$P$115,3,FALSE),IF(ISERROR(VLOOKUP($G66,'Dades 2'!$I$12:$P$107,3,FALSE))=FALSE, VLOOKUP($G66,'Dades 2'!$I$12:$P$107,3,FALSE),IF(ISERROR(VLOOKUP($G66,CCTV!$I$12:$P$97,3,FALSE))=FALSE, VLOOKUP($G66,CCTV!$I$12:$P$97,3,FALSE),"?")))) -> ? | J66: =IF(ISERROR(VLOOKUP($G66,Xarxa!$I$12:$P$100,4,FALSE))=FALSE, VLOOKUP($G66,Xarxa!$I$12:$P$100,4,FALSE),IF(ISERROR(VLOOKUP($G66,'Dades 1'!$I$12:$P$115,4,FALSE))=FALSE, VLOOKUP($G66,'Dades 1'!$I$12:$P$115,4,FALSE),IF(ISERROR(VLOOKUP($G66,'Dades 2'!$I$12:$P$107,4,FALSE))=FALSE, VLOOKUP($G66,'Dades 2'!$I$12:$P$107,4,FALSE),IF(ISERROR(VLOOKUP($G66,CCTV!$I$12:$P$97,4,FALSE))=FALSE, VLOOKUP($G66,CCTV!$I$12:$P$97,4,FALSE),"?")))) -> ? | K66: =IF(ISERROR(VLOOKUP($G66,Xarxa!$I$12:$P$100,5,FALSE))=FALSE, VLOOKUP($G66,Xarxa!$I$12:$P$100,5,FALSE),IF(ISERROR(VLOOKUP($G66,'Dades 1'!$I$12:$P$115,5,FALSE))=FALSE, VLOOKUP($G66,'Dades 1'!$I$12:$P$115,5,FALSE),IF(ISERROR(VLOOKUP($G66,'Dades 2'!$I$12:$P$107,5,FALSE))=FALSE, VLOOKUP($G66,'Dades 2'!$I$12:$P$107,5,FALSE),IF(ISERROR(VLOOKUP($G66,CCTV!$I$12:$P$97,5,FALSE))=FALSE, VLOOKUP($G66,CCTV!$I$12:$P$97,5,FALSE),"?")))) -> ? | L66: =IF(ISERROR(VLOOKUP($G66,Xarxa!$I$12:$P$100,6,FALSE))=FALSE, VLOOKUP($G66,Xarxa!$I$12:$P$100,6,FALSE),IF(ISERROR(VLOOKUP($G66,'Dades 1'!$I$12:$P$115,6,FALSE))=FALSE, VLOOKUP($G66,'Dades 1'!$I$12:$P$115,6,FALSE),IF(ISERROR(VLOOKUP($G66,'Dades 2'!$I$12:$P$107,6,FALSE))=FALSE, VLOOKUP($G66,'Dades 2'!$I$12:$P$107,6,FALSE),IF(ISERROR(VLOOKUP($G66,CCTV!$I$12:$P$97,6,FALSE))=FALSE, VLOOKUP($G66,CCTV!$I$12:$P$97,6,FALSE),"?")))) -> ?
E67: 1 | F67: 6 | G67: ? | H67: =IF(ISERROR(VLOOKUP($G67,Xarxa!$I$12:$P$100,2,FALSE))=FALSE, VLOOKUP($G67,Xarxa!$I$12:$P$100,2,FALSE),IF(ISERROR(VLOOKUP($G67,'Dades 1'!$I$12:$P$115,2,FALSE))=FALSE, VLOOKUP($G67,'Dades 1'!$I$12:$P$115,2,FALSE),IF(ISERROR(VLOOKUP($G67,'Dades 2'!$I$12:$P$107,2,FALSE))=FALSE, VLOOKUP($G67,'Dades 2'!$I$12:$P$107,2,FALSE),IF(ISERROR(VLOOKUP($G67,CCTV!$I$12:$P$97,2,FALSE))=FALSE, VLOOKUP($G67,CCTV!$I$12:$P$97,2,FALSE),"?")))) -> ? | I67: =IF(ISERROR(VLOOKUP($G67,Xarxa!$I$12:$P$100,3,FALSE))=FALSE, VLOOKUP($G67,Xarxa!$I$12:$P$100,3,FALSE),IF(ISERROR(VLOOKUP($G67,'Dades 1'!$I$12:$P$115,3,FALSE))=FALSE, VLOOKUP($G67,'Dades 1'!$I$12:$P$115,3,FALSE),IF(ISERROR(VLOOKUP($G67,'Dades 2'!$I$12:$P$107,3,FALSE))=FALSE, VLOOKUP($G67,'Dades 2'!$I$12:$P$107,3,FALSE),IF(ISERROR(VLOOKUP($G67,CCTV!$I$12:$P$97,3,FALSE))=FALSE, VLOOKUP($G67,CCTV!$I$12:$P$97,3,FALSE),"?")))) -> ? | J67: =IF(ISERROR(VLOOKUP($G67,Xarxa!$I$12:$P$100,4,FALSE))=FALSE, VLOOKUP($G67,Xarxa!$I$12:$P$100,4,FALSE),IF(ISERROR(VLOOKUP($G67,'Dades 1'!$I$12:$P$115,4,FALSE))=FALSE, VLOOKUP($G67,'Dades 1'!$I$12:$P$115,4,FALSE),IF(ISERROR(VLOOKUP($G67,'Dades 2'!$I$12:$P$107,4,FALSE))=FALSE, VLOOKUP($G67,'Dades 2'!$I$12:$P$107,4,FALSE),IF(ISERROR(VLOOKUP($G67,CCTV!$I$12:$P$97,4,FALSE))=FALSE, VLOOKUP($G67,CCTV!$I$12:$P$97,4,FALSE),"?")))) -> ? | K67: =IF(ISERROR(VLOOKUP($G67,Xarxa!$I$12:$P$100,5,FALSE))=FALSE, VLOOKUP($G67,Xarxa!$I$12:$P$100,5,FALSE),IF(ISERROR(VLOOKUP($G67,'Dades 1'!$I$12:$P$115,5,FALSE))=FALSE, VLOOKUP($G67,'Dades 1'!$I$12:$P$115,5,FALSE),IF(ISERROR(VLOOKUP($G67,'Dades 2'!$I$12:$P$107,5,FALSE))=FALSE, VLOOKUP($G67,'Dades 2'!$I$12:$P$107,5,FALSE),IF(ISERROR(VLOOKUP($G67,CCTV!$I$12:$P$97,5,FALSE))=FALSE, VLOOKUP($G67,CCTV!$I$12:$P$97,5,FALSE),"?")))) -> ? | L67: =IF(ISERROR(VLOOKUP($G67,Xarxa!$I$12:$P$100,6,FALSE))=FALSE, VLOOKUP($G67,Xarxa!$I$12:$P$100,6,FALSE),IF(ISERROR(VLOOKUP($G67,'Dades 1'!$I$12:$P$115,6,FALSE))=FALSE, VLOOKUP($G67,'Dades 1'!$I$12:$P$115,6,FALSE),IF(ISERROR(VLOOKUP($G67,'Dades 2'!$I$12:$P$107,6,FALSE))=FALSE, VLOOKUP($G67,'Dades 2'!$I$12:$P$107,6,FALSE),IF(ISERROR(VLOOKUP($G67,CCTV!$I$12:$P$97,6,FALSE))=FALSE, VLOOKUP($G67,CCTV!$I$12:$P$97,6,FALSE),"?")))) -> ?
E68: 1 | F68: 7 | G68: ? | H68: =IF(ISERROR(VLOOKUP($G68,Xarxa!$I$12:$P$100,2,FALSE))=FALSE, VLOOKUP($G68,Xarxa!$I$12:$P$100,2,FALSE),IF(ISERROR(VLOOKUP($G68,'Dades 1'!$I$12:$P$115,2,FALSE))=FALSE, VLOOKUP($G68,'Dades 1'!$I$12:$P$115,2,FALSE),IF(ISERROR(VLOOKUP($G68,'Dades 2'!$I$12:$P$107,2,FALSE))=FALSE, VLOOKUP($G68,'Dades 2'!$I$12:$P$107,2,FALSE),IF(ISERROR(VLOOKUP($G68,CCTV!$I$12:$P$97,2,FALSE))=FALSE, VLOOKUP($G68,CCTV!$I$12:$P$97,2,FALSE),"?")))) -> ? | I68: =IF(ISERROR(VLOOKUP($G68,Xarxa!$I$12:$P$100,3,FALSE))=FALSE, VLOOKUP($G68,Xarxa!$I$12:$P$100,3,FALSE),IF(ISERROR(VLOOKUP($G68,'Dades 1'!$I$12:$P$115,3,FALSE))=FALSE, VLOOKUP($G68,'Dades 1'!$I$12:$P$115,3,FALSE),IF(ISERROR(VLOOKUP($G68,'Dades 2'!$I$12:$P$107,3,FALSE))=FALSE, VLOOKUP($G68,'Dades 2'!$I$12:$P$107,3,FALSE),IF(ISERROR(VLOOKUP($G68,CCTV!$I$12:$P$97,3,FALSE))=FALSE, VLOOKUP($G68,CCTV!$I$12:$P$97,3,FALSE),"?")))) -> ? | J68: =IF(ISERROR(VLOOKUP($G68,Xarxa!$I$12:$P$100,4,FALSE))=FALSE, VLOOKUP($G68,Xarxa!$I$12:$P$100,4,FALSE),IF(ISERROR(VLOOKUP($G68,'Dades 1'!$I$12:$P$115,4,FALSE))=FALSE, VLOOKUP($G68,'Dades 1'!$I$12:$P$115,4,FALSE),IF(ISERROR(VLOOKUP($G68,'Dades 2'!$I$12:$P$107,4,FALSE))=FALSE, VLOOKUP($G68,'Dades 2'!$I$12:$P$107,4,FALSE),IF(ISERROR(VLOOKUP($G68,CCTV!$I$12:$P$97,4,FALSE))=FALSE, VLOOKUP($G68,CCTV!$I$12:$P$97,4,FALSE),"?")))) -> ? | K68: =IF(ISERROR(VLOOKUP($G68,Xarxa!$I$12:$P$100,5,FALSE))=FALSE, VLOOKUP($G68,Xarxa!$I$12:$P$100,5,FALSE),IF(ISERROR(VLOOKUP($G68,'Dades 1'!$I$12:$P$115,5,FALSE))=FALSE, VLOOKUP($G68,'Dades 1'!$I$12:$P$115,5,FALSE),IF(ISERROR(VLOOKUP($G68,'Dades 2'!$I$12:$P$107,5,FALSE))=FALSE, VLOOKUP($G68,'Dades 2'!$I$12:$P$107,5,FALSE),IF(ISERROR(VLOOKUP($G68,CCTV!$I$12:$P$97,5,FALSE))=FALSE, VLOOKUP($G68,CCTV!$I$12:$P$97,5,FALSE),"?")))) -> ? | L68: =IF(ISERROR(VLOOKUP($G68,Xarxa!$I$12:$P$100,6,FALSE))=FALSE, VLOOKUP($G68,Xarxa!$I$12:$P$100,6,FALSE),IF(ISERROR(VLOOKUP($G68,'Dades 1'!$I$12:$P$115,6,FALSE))=FALSE, VLOOKUP($G68,'Dades 1'!$I$12:$P$115,6,FALSE),IF(ISERROR(VLOOKUP($G68,'Dades 2'!$I$12:$P$107,6,FALSE))=FALSE, VLOOKUP($G68,'Dades 2'!$I$12:$P$107,6,FALSE),IF(ISERROR(VLOOKUP($G68,CCTV!$I$12:$P$97,6,FALSE))=FALSE, VLOOKUP($G68,CCTV!$I$12:$P$97,6,FALSE),"?")))) -> ?
E69: 1 | F69: 8 | G69: ? | H69: =IF(ISERROR(VLOOKUP($G69,Xarxa!$I$12:$P$100,2,FALSE))=FALSE, VLOOKUP($G69,Xarxa!$I$12:$P$100,2,FALSE),IF(ISERROR(VLOOKUP($G69,'Dades 1'!$I$12:$P$115,2,FALSE))=FALSE, VLOOKUP($G69,'Dades 1'!$I$12:$P$115,2,FALSE),IF(ISERROR(VLOOKUP($G69,'Dades 2'!$I$12:$P$107,2,FALSE))=FALSE, VLOOKUP($G69,'Dades 2'!$I$12:$P$107,2,FALSE),IF(ISERROR(VLOOKUP($G69,CCTV!$I$12:$P$97,2,FALSE))=FALSE, VLOOKUP($G69,CCTV!$I$12:$P$97,2,FALSE),"?")))) -> ? | I69: =IF(ISERROR(VLOOKUP($G69,Xarxa!$I$12:$P$100,3,FALSE))=FALSE, VLOOKUP($G69,Xarxa!$I$12:$P$100,3,FALSE),IF(ISERROR(VLOOKUP($G69,'Dades 1'!$I$12:$P$115,3,FALSE))=FALSE, VLOOKUP($G69,'Dades 1'!$I$12:$P$115,3,FALSE),IF(ISERROR(VLOOKUP($G69,'Dades 2'!$I$12:$P$107,3,FALSE))=FALSE, VLOOKUP($G69,'Dades 2'!$I$12:$P$107,3,FALSE),IF(ISERROR(VLOOKUP($G69,CCTV!$I$12:$P$97,3,FALSE))=FALSE, VLOOKUP($G69,CCTV!$I$12:$P$97,3,FALSE),"?")))) -> ? | J69: =IF(ISERROR(VLOOKUP($G69,Xarxa!$I$12:$P$100,4,FALSE))=FALSE, VLOOKUP($G69,Xarxa!$I$12:$P$100,4,FALSE),IF(ISERROR(VLOOKUP($G69,'Dades 1'!$I$12:$P$115,4,FALSE))=FALSE, VLOOKUP($G69,'Dades 1'!$I$12:$P$115,4,FALSE),IF(ISERROR(VLOOKUP($G69,'Dades 2'!$I$12:$P$107,4,FALSE))=FALSE, VLOOKUP($G69,'Dades 2'!$I$12:$P$107,4,FALSE),IF(ISERROR(VLOOKUP($G69,CCTV!$I$12:$P$97,4,FALSE))=FALSE, VLOOKUP($G69,CCTV!$I$12:$P$97,4,FALSE),"?")))) -> ? | K69: =IF(ISERROR(VLOOKUP($G69,Xarxa!$I$12:$P$100,5,FALSE))=FALSE, VLOOKUP($G69,Xarxa!$I$12:$P$100,5,FALSE),IF(ISERROR(VLOOKUP($G69,'Dades 1'!$I$12:$P$115,5,FALSE))=FALSE, VLOOKUP($G69,'Dades 1'!$I$12:$P$115,5,FALSE),IF(ISERROR(VLOOKUP($G69,'Dades 2'!$I$12:$P$107,5,FALSE))=FALSE, VLOOKUP($G69,'Dades 2'!$I$12:$P$107,5,FALSE),IF(ISERROR(VLOOKUP($G69,CCTV!$I$12:$P$97,5,FALSE))=FALSE, VLOOKUP($G69,CCTV!$I$12:$P$97,5,FALSE),"?")))) -> ? | L69: =IF(ISERROR(VLOOKUP($G69,Xarxa!$I$12:$P$100,6,FALSE))=FALSE, VLOOKUP($G69,Xarxa!$I$12:$P$100,6,FALSE),IF(ISERROR(VLOOKUP($G69,'Dades 1'!$I$12:$P$115,6,FALSE))=FALSE, VLOOKUP($G69,'Dades 1'!$I$12:$P$115,6,FALSE),IF(ISERROR(VLOOKUP($G69,'Dades 2'!$I$12:$P$107,6,FALSE))=FALSE, VLOOKUP($G69,'Dades 2'!$I$12:$P$107,6,FALSE),IF(ISERROR(VLOOKUP($G69,CCTV!$I$12:$P$97,6,FALSE))=FALSE, VLOOKUP($G69,CCTV!$I$12:$P$97,6,FALSE),"?")))) -> ?
E70: 1 | F70: 9 | G70: ? | H70: =IF(ISERROR(VLOOKUP($G70,Xarxa!$I$12:$P$100,2,FALSE))=FALSE, VLOOKUP($G70,Xarxa!$I$12:$P$100,2,FALSE),IF(ISERROR(VLOOKUP($G70,'Dades 1'!$I$12:$P$115,2,FALSE))=FALSE, VLOOKUP($G70,'Dades 1'!$I$12:$P$115,2,FALSE),IF(ISERROR(VLOOKUP($G70,'Dades 2'!$I$12:$P$107,2,FALSE))=FALSE, VLOOKUP($G70,'Dades 2'!$I$12:$P$107,2,FALSE),IF(ISERROR(VLOOKUP($G70,CCTV!$I$12:$P$97,2,FALSE))=FALSE, VLOOKUP($G70,CCTV!$I$12:$P$97,2,FALSE),"?")))) -> ? | I70: =IF(ISERROR(VLOOKUP($G70,Xarxa!$I$12:$P$100,3,FALSE))=FALSE, VLOOKUP($G70,Xarxa!$I$12:$P$100,3,FALSE),IF(ISERROR(VLOOKUP($G70,'Dades 1'!$I$12:$P$115,3,FALSE))=FALSE, VLOOKUP($G70,'Dades 1'!$I$12:$P$115,3,FALSE),IF(ISERROR(VLOOKUP($G70,'Dades 2'!$I$12:$P$107,3,FALSE))=FALSE, VLOOKUP($G70,'Dades 2'!$I$12:$P$107,3,FALSE),IF(ISERROR(VLOOKUP($G70,CCTV!$I$12:$P$97,3,FALSE))=FALSE, VLOOKUP($G70,CCTV!$I$12:$P$97,3,FALSE),"?")))) -> ? | J70: =IF(ISERROR(VLOOKUP($G70,Xarxa!$I$12:$P$100,4,FALSE))=FALSE, VLOOKUP($G70,Xarxa!$I$12:$P$100,4,FALSE),IF(ISERROR(VLOOKUP($G70,'Dades 1'!$I$12:$P$115,4,FALSE))=FALSE, VLOOKUP($G70,'Dades 1'!$I$12:$P$115,4,FALSE),IF(ISERROR(VLOOKUP($G70,'Dades 2'!$I$12:$P$107,4,FALSE))=FALSE, VLOOKUP($G70,'Dades 2'!$I$12:$P$107,4,FALSE),IF(ISERROR(VLOOKUP($G70,CCTV!$I$12:$P$97,4,FALSE))=FALSE, VLOOKUP($G70,CCTV!$I$12:$P$97,4,FALSE),"?")))) -> ? | K70: =IF(ISERROR(VLOOKUP($G70,Xarxa!$I$12:$P$100,5,FALSE))=FALSE, VLOOKUP($G70,Xarxa!$I$12:$P$100,5,FALSE),IF(ISERROR(VLOOKUP($G70,'Dades 1'!$I$12:$P$115,5,FALSE))=FALSE, VLOOKUP($G70,'Dades 1'!$I$12:$P$115,5,FALSE),IF(ISERROR(VLOOKUP($G70,'Dades 2'!$I$12:$P$107,5,FALSE))=FALSE, VLOOKUP($G70,'Dades 2'!$I$12:$P$107,5,FALSE),IF(ISERROR(VLOOKUP($G70,CCTV!$I$12:$P$97,5,FALSE))=FALSE, VLOOKUP($G70,CCTV!$I$12:$P$97,5,FALSE),"?")))) -> ? | L70: =IF(ISERROR(VLOOKUP($G70,Xarxa!$I$12:$P$100,6,FALSE))=FALSE, VLOOKUP($G70,Xarxa!$I$12:$P$100,6,FALSE),IF(ISERROR(VLOOKUP($G70,'Dades 1'!$I$12:$P$115,6,FALSE))=FALSE, VLOOKUP($G70,'Dades 1'!$I$12:$P$115,6,FALSE),IF(ISERROR(VLOOKUP($G70,'Dades 2'!$I$12:$P$107,6,FALSE))=FALSE, VLOOKUP($G70,'Dades 2'!$I$12:$P$107,6,FALSE),IF(ISERROR(VLOOKUP($G70,CCTV!$I$12:$P$97,6,FALSE))=FALSE, VLOOKUP($G70,CCTV!$I$12:$P$97,6,FALSE),"?")))) -> ?
E71: 1 | F71: 10 | G71: ? | H71: =IF(ISERROR(VLOOKUP($G71,Xarxa!$I$12:$P$100,2,FALSE))=FALSE, VLOOKUP($G71,Xarxa!$I$12:$P$100,2,FALSE),IF(ISERROR(VLOOKUP($G71,'Dades 1'!$I$12:$P$115,2,FALSE))=FALSE, VLOOKUP($G71,'Dades 1'!$I$12:$P$115,2,FALSE),IF(ISERROR(VLOOKUP($G71,'Dades 2'!$I$12:$P$107,2,FALSE))=FALSE, VLOOKUP($G71,'Dades 2'!$I$12:$P$107,2,FALSE),IF(ISERROR(VLOOKUP($G71,CCTV!$I$12:$P$97,2,FALSE))=FALSE, VLOOKUP($G71,CCTV!$I$12:$P$97,2,FALSE),"?")))) -> ? | I71: =IF(ISERROR(VLOOKUP($G71,Xarxa!$I$12:$P$100,3,FALSE))=FALSE, VLOOKUP($G71,Xarxa!$I$12:$P$100,3,FALSE),IF(ISERROR(VLOOKUP($G71,'Dades 1'!$I$12:$P$115,3,FALSE))=FALSE, VLOOKUP($G71,'Dades 1'!$I$12:$P$115,3,FALSE),IF(ISERROR(VLOOKUP($G71,'Dades 2'!$I$12:$P$107,3,FALSE))=FALSE, VLOOKUP($G71,'Dades 2'!$I$12:$P$107,3,FALSE),IF(ISERROR(VLOOKUP($G71,CCTV!$I$12:$P$97,3,FALSE))=FALSE, VLOOKUP($G71,CCTV!$I$12:$P$97,3,FALSE),"?")))) -> ? | J71: =IF(ISERROR(VLOOKUP($G71,Xarxa!$I$12:$P$100,4,FALSE))=FALSE, VLOOKUP($G71,Xarxa!$I$12:$P$100,4,FALSE),IF(ISERROR(VLOOKUP($G71,'Dades 1'!$I$12:$P$115,4,FALSE))=FALSE, VLOOKUP($G71,'Dades 1'!$I$12:$P$115,4,FALSE),IF(ISERROR(VLOOKUP($G71,'Dades 2'!$I$12:$P$107,4,FALSE))=FALSE, VLOOKUP($G71,'Dades 2'!$I$12:$P$107,4,FALSE),IF(ISERROR(VLOOKUP($G71,CCTV!$I$12:$P$97,4,FALSE))=FALSE, VLOOKUP($G71,CCTV!$I$12:$P$97,4,FALSE),"?")))) -> ? | K71: =IF(ISERROR(VLOOKUP($G71,Xarxa!$I$12:$P$100,5,FALSE))=FALSE, VLOOKUP($G71,Xarxa!$I$12:$P$100,5,FALSE),IF(ISERROR(VLOOKUP($G71,'Dades 1'!$I$12:$P$115,5,FALSE))=FALSE, VLOOKUP($G71,'Dades 1'!$I$12:$P$115,5,FALSE),IF(ISERROR(VLOOKUP($G71,'Dades 2'!$I$12:$P$107,5,FALSE))=FALSE, VLOOKUP($G71,'Dades 2'!$I$12:$P$107,5,FALSE),IF(ISERROR(VLOOKUP($G71,CCTV!$I$12:$P$97,5,FALSE))=FALSE, VLOOKUP($G71,CCTV!$I$12:$P$97,5,FALSE),"?")))) -> ? | L71: =IF(ISERROR(VLOOKUP($G71,Xarxa!$I$12:$P$100,6,FALSE))=FALSE, VLOOKUP($G71,Xarxa!$I$12:$P$100,6,FALSE),IF(ISERROR(VLOOKUP($G71,'Dades 1'!$I$12:$P$115,6,FALSE))=FALSE, VLOOKUP($G71,'Dades 1'!$I$12:$P$115,6,FALSE),IF(ISERROR(VLOOKUP($G71,'Dades 2'!$I$12:$P$107,6,FALSE))=FALSE, VLOOKUP($G71,'Dades 2'!$I$12:$P$107,6,FALSE),IF(ISERROR(VLOOKUP($G71,CCTV!$I$12:$P$97,6,FALSE))=FALSE, VLOOKUP($G71,CCTV!$I$12:$P$97,6,FALSE),"?")))) -> ?
A73: =INDIRECT(M73) -> Node Xarxa 38 | E73: MODULE | F73: PORT | G73: CONNECTED DEVICE | H73: IP | I73: MASK | J73: GATEWAY | K73: MAC | L73: VLAN | M73: =CONCATENATE("Xarxa!I",RIGHT(M61,2)+1) -> Xarxa!I22
E74: 1 | F74: 1 | G74: ? | H74: =IF(ISERROR(VLOOKUP($G74,Xarxa!$I$12:$P$100,2,FALSE))=FALSE, VLOOKUP($G74,Xarxa!$I$12:$P$100,2,FALSE),IF(ISERROR(VLOOKUP($G74,'Dades 1'!$I$12:$P$115,2,FALSE))=FALSE, VLOOKUP($G74,'Dades 1'!$I$12:$P$115,2,FALSE),IF(ISERROR(VLOOKUP($G74,'Dades 2'!$I$12:$P$107,2,FALSE))=FALSE, VLOOKUP($G74,'Dades 2'!$I$12:$P$107,2,FALSE),IF(ISERROR(VLOOKUP($G74,CCTV!$I$12:$P$97,2,FALSE))=FALSE, VLOOKUP($G74,CCTV!$I$12:$P$97,2,FALSE),"?")))) -> ? | I74: =IF(ISERROR(VLOOKUP($G74,Xarxa!$I$12:$P$100,3,FALSE))=FALSE, VLOOKUP($G74,Xarxa!$I$12:$P$100,3,FALSE),IF(ISERROR(VLOOKUP($G74,'Dades 1'!$I$12:$P$115,3,FALSE))=FALSE, VLOOKUP($G74,'Dades 1'!$I$12:$P$115,3,FALSE),IF(ISERROR(VLOOKUP($G74,'Dades 2'!$I$12:$P$107,3,FALSE))=FALSE, VLOOKUP($G74,'Dades 2'!$I$12:$P$107,3,FALSE),IF(ISERROR(VLOOKUP($G74,CCTV!$I$12:$P$97,3,FALSE))=FALSE, VLOOKUP($G74,CCTV!$I$12:$P$97,3,FALSE),"?")))) -> ? | J74: =IF(ISERROR(VLOOKUP($G74,Xarxa!$I$12:$P$100,4,FALSE))=FALSE, VLOOKUP($G74,Xarxa!$I$12:$P$100,4,FALSE),IF(ISERROR(VLOOKUP($G74,'Dades 1'!$I$12:$P$115,4,FALSE))=FALSE, VLOOKUP($G74,'Dades 1'!$I$12:$P$115,4,FALSE),IF(ISERROR(VLOOKUP($G74,'Dades 2'!$I$12:$P$107,4,FALSE))=FALSE, VLOOKUP($G74,'Dades 2'!$I$12:$P$107,4,FALSE),IF(ISERROR(VLOOKUP($G74,CCTV!$I$12:$P$97,4,FALSE))=FALSE, VLOOKUP($G74,CCTV!$I$12:$P$97,4,FALSE),"?")))) -> ? | K74: =IF(ISERROR(VLOOKUP($G74,Xarxa!$I$12:$P$100,5,FALSE))=FALSE, VLOOKUP($G74,Xarxa!$I$12:$P$100,5,FALSE),IF(ISERROR(VLOOKUP($G74,'Dades 1'!$I$12:$P$115,5,FALSE))=FALSE, VLOOKUP($G74,'Dades 1'!$I$12:$P$115,5,FALSE),IF(ISERROR(VLOOKUP($G74,'Dades 2'!$I$12:$P$107,5,FALSE))=FALSE, VLOOKUP($G74,'Dades 2'!$I$12:$P$107,5,FALSE),IF(ISERROR(VLOOKUP($G74,CCTV!$I$12:$P$97,5,FALSE))=FALSE, VLOOKUP($G74,CCTV!$I$12:$P$97,5,FALSE),"?")))) -> ? | L74: =IF(ISERROR(VLOOKUP($G74,Xarxa!$I$12:$P$100,6,FALSE))=FALSE, VLOOKUP($G74,Xarxa!$I$12:$P$100,6,FALSE),IF(ISERROR(VLOOKUP($G74,'Dades 1'!$I$12:$P$115,6,FALSE))=FALSE, VLOOKUP($G74,'Dades 1'!$I$12:$P$115,6,FALSE),IF(ISERROR(VLOOKUP($G74,'Dades 2'!$I$12:$P$107,6,FALSE))=FALSE, VLOOKUP($G74,'Dades 2'!$I$12:$P$107,6,FALSE),IF(ISERROR(VLOOKUP($G74,CCTV!$I$12:$P$97,6,FALSE))=FALSE, VLOOKUP($G74,CCTV!$I$12:$P$97,6,FALSE),"?")))) -> ?
E75: 1 | F75: 2 | G75: ? | H75: =IF(ISERROR(VLOOKUP($G75,Xarxa!$I$12:$P$100,2,FALSE))=FALSE, VLOOKUP($G75,Xarxa!$I$12:$P$100,2,FALSE),IF(ISERROR(VLOOKUP($G75,'Dades 1'!$I$12:$P$115,2,FALSE))=FALSE, VLOOKUP($G75,'Dades 1'!$I$12:$P$115,2,FALSE),IF(ISERROR(VLOOKUP($G75,'Dades 2'!$I$12:$P$107,2,FALSE))=FALSE, VLOOKUP($G75,'Dades 2'!$I$12:$P$107,2,FALSE),IF(ISERROR(VLOOKUP($G75,CCTV!$I$12:$P$97,2,FALSE))=FALSE, VLOOKUP($G75,CCTV!$I$12:$P$97,2,FALSE),"?")))) -> ? | I75: =IF(ISERROR(VLOOKUP($G75,Xarxa!$I$12:$P$100,3,FALSE))=FALSE, VLOOKUP($G75,Xarxa!$I$12:$P$100,3,FALSE),IF(ISERROR(VLOOKUP($G75,'Dades 1'!$I$12:$P$115,3,FALSE))=FALSE, VLOOKUP($G75,'Dades 1'!$I$12:$P$115,3,FALSE),IF(ISERROR(VLOOKUP($G75,'Dades 2'!$I$12:$P$107,3,FALSE))=FALSE, VLOOKUP($G75,'Dades 2'!$I$12:$P$107,3,FALSE),IF(ISERROR(VLOOKUP($G75,CCTV!$I$12:$P$97,3,FALSE))=FALSE, VLOOKUP($G75,CCTV!$I$12:$P$97,3,FALSE),"?")))) -> ? | J75: =IF(ISERROR(VLOOKUP($G75,Xarxa!$I$12:$P$100,4,FALSE))=FALSE, VLOOKUP($G75,Xarxa!$I$12:$P$100,4,FALSE),IF(ISERROR(VLOOKUP($G75,'Dades 1'!$I$12:$P$115,4,FALSE))=FALSE, VLOOKUP($G75,'Dades 1'!$I$12:$P$115,4,FALSE),IF(ISERROR(VLOOKUP($G75,'Dades 2'!$I$12:$P$107,4,FALSE))=FALSE, VLOOKUP($G75,'Dades 2'!$I$12:$P$107,4,FALSE),IF(ISERROR(VLOOKUP($G75,CCTV!$I$12:$P$97,4,FALSE))=FALSE, VLOOKUP($G75,CCTV!$I$12:$P$97,4,FALSE),"?")))) -> ? | K75: =IF(ISERROR(VLOOKUP($G75,Xarxa!$I$12:$P$100,5,FALSE))=FALSE, VLOOKUP($G75,Xarxa!$I$12:$P$100,5,FALSE),IF(ISERROR(VLOOKUP($G75,'Dades 1'!$I$12:$P$115,5,FALSE))=FALSE, VLOOKUP($G75,'Dades 1'!$I$12:$P$115,5,FALSE),IF(ISERROR(VLOOKUP($G75,'Dades 2'!$I$12:$P$107,5,FALSE))=FALSE, VLOOKUP($G75,'Dades 2'!$I$12:$P$107,5,FALSE),IF(ISERROR(VLOOKUP($G75,CCTV!$I$12:$P$97,5,FALSE))=FALSE, VLOOKUP($G75,CCTV!$I$12:$P$97,5,FALSE),"?")))) -> ? | L75: =IF(ISERROR(VLOOKUP($G75,Xarxa!$I$12:$P$100,6,FALSE))=FALSE, VLOOKUP($G75,Xarxa!$I$12:$P$100,6,FALSE),IF(ISERROR(VLOOKUP($G75,'Dades 1'!$I$12:$P$115,6,FALSE))=FALSE, VLOOKUP($G75,'Dades 1'!$I$12:$P$115,6,FALSE),IF(ISERROR(VLOOKUP($G75,'Dades 2'!$I$12:$P$107,6,FALSE))=FALSE, VLOOKUP($G75,'Dades 2'!$I$12:$P$107,6,FALSE),IF(ISERROR(VLOOKUP($G75,CCTV!$I$12:$P$97,6,FALSE))=FALSE, VLOOKUP($G75,CCTV!$I$12:$P$97,6,FALSE),"?")))) -> ?
E76: 1 | F76: 3 | G76: Eru 38 principal | H76: =IF(ISERROR(VLOOKUP($G76,Xarxa!$I$12:$P$100,2,FALSE))=FALSE, VLOOKUP($G76,Xarxa!$I$12:$P$100,2,FALSE),IF(ISERROR(VLOOKUP($G76,'Dades 1'!$I$12:$P$115,2,FALSE))=FALSE, VLOOKUP($G76,'Dades 1'!$I$12:$P$115,2,FALSE),IF(ISERROR(VLOOKUP($G76,'Dades 2'!$I$12:$P$107,2,FALSE))=FALSE, VLOOKUP($G76,'Dades 2'!$I$12:$P$107,2,FALSE),IF(ISERROR(VLOOKUP($G76,CCTV!$I$12:$P$97,2,FALSE))=FALSE, VLOOKUP($G76,CCTV!$I$12:$P$97,2,FALSE),"?")))) -> 10.137.238.211 | I76: =IF(ISERROR(VLOOKUP($G76,Xarxa!$I$12:$P$100,3,FALSE))=FALSE, VLOOKUP($G76,Xarxa!$I$12:$P$100,3,FALSE),IF(ISERROR(VLOOKUP($G76,'Dades 1'!$I$12:$P$115,3,FALSE))=FALSE, VLOOKUP($G76,'Dades 1'!$I$12:$P$115,3,FALSE),IF(ISERROR(VLOOKUP($G76,'Dades 2'!$I$12:$P$107,3,FALSE))=FALSE, VLOOKUP($G76,'Dades 2'!$I$12:$P$107,3,FALSE),IF(ISERROR(VLOOKUP($G76,CCTV!$I$12:$P$97,3,FALSE))=FALSE, VLOOKUP($G76,CCTV!$I$12:$P$97,3,FALSE),"?")))) -> 255.255.255.224 | J76: =IF(ISERROR(VLOOKUP($G76,Xarxa!$I$12:$P$100,4,FALSE))=FALSE, VLOOKUP($G76,Xarxa!$I$12:$P$100,4,FALSE),IF(ISERROR(VLOOKUP($G76,'Dades 1'!$I$12:$P$115,4,FALSE))=FALSE, VLOOKUP($G76,'Dades 1'!$I$12:$P$115,4,FALSE),IF(ISERROR(VLOOKUP($G76,'Dades 2'!$I$12:$P$107,4,FALSE))=FALSE, VLOOKUP($G76,'Dades 2'!$I$12:$P$107,4,FALSE),IF(ISERROR(VLOOKUP($G76,CCTV!$I$12:$P$97,4,FALSE))=FALSE, VLOOKUP($G76,CCTV!$I$12:$P$97,4,FALSE),"?")))) -> 10.137.238.193 | K76: =IF(ISERROR(VLOOKUP($G76,Xarxa!$I$12:$P$100,5,FALSE))=FALSE, VLOOKUP($G76,Xarxa!$I$12:$P$100,5,FALSE),IF(ISERROR(VLOOKUP($G76,'Dades 1'!$I$12:$P$115,5,FALSE))=FALSE, VLOOKUP($G76,'Dades 1'!$I$12:$P$115,5,FALSE),IF(ISERROR(VLOOKUP($G76,'Dades 2'!$I$12:$P$107,5,FALSE))=FALSE, VLOOKUP($G76,'Dades 2'!$I$12:$P$107,5,FALSE),IF(ISERROR(VLOOKUP($G76,CCTV!$I$12:$P$97,5,FALSE))=FALSE, VLOOKUP($G76,CCTV!$I$12:$P$97,5,FALSE),"?")))) -> 00-04-76-E3-4C-0F | L76: =IF(ISERROR(VLOOKUP($G76,Xarxa!$I$12:$P$100,6,FALSE))=FALSE, VLOOKUP($G76,Xarxa!$I$12:$P$100,6,FALSE),IF(ISERROR(VLOOKUP($G76,'Dades 1'!$I$12:$P$115,6,FALSE))=FALSE, VLOOKUP($G76,'Dades 1'!$I$12:$P$115,6,FALSE),IF(ISERROR(VLOOKUP($G76,'Dades 2'!$I$12:$P$107,6,FALSE))=FALSE, VLOOKUP($G76,'Dades 2'!$I$12:$P$107,6,FALSE),IF(ISERROR(VLOOKUP($G76,CCTV!$I$12:$P$97,6,FALSE))=FALSE, VLOOKUP($G76,CCTV!$I$12:$P$97,6,FALSE),"?")))) -> 22
