Workbook

Sheet Xarxa
A1: ELEMENTS DE XARXA | I1: C-31 (D)
A3: Network | C3: 10 | D3: 137 | E3: 238 | F3: 224
A4: Netmask | C4: 255 | D4: 255 | E4: 255 | F4: 224
A5: Wildcard | C5: 0 | D5: 0 | E5: 0 | F5: =256-F4-1 -> 31
A6: HostMin | C6: =C3 -> 10 | D6: =D3 -> 137 | E6: =E3 -> 238 | F6: =F3+1 -> 225
A7: HostMax | C7: =C3 -> 10 | D7: =D3 -> 137 | E7: =E3 -> 238 | F7: =F3+F5-2 -> 253
A8: Broadcast | C8: =C3 -> 10 | D8: =D3 -> 137 | E8: =E3 -> 238 | F8: =F3+F5-1 -> 254
A9: Hosts | C9: =F5-2 -> 29
A10: VLAN | C10: 12
A12: IP | C12: MASK | F12: GATEWAY | G12: MASK | H12: MAC | I12: DESCRIPTION
A13: =CONCATENATE($C$3,".",$D$3,".",$E$3) -> 10.137.238 | B13: =F6 -> 225 | C13: =CONCATENATE($C$4,".",$D$4,".",$E$4,".",$F$4) -> 255.255.255.224 | F13: =CONCATENATE($C$3,".",$D$3,".",$E$3,".",$F$3+1) -> 10.137.238.225 | H13: - | I13: Gateway | J13: =CONCATENATE(A13,".",B13) -> 10.137.238.225 | K13: =C13 -> 255.255.255.224 | L13: =F13 -> 10.137.238.225 | M13: =H13 -> - | N13: =$C$10 -> 12
A14: =CONCATENATE($C$3,".",$D$3,".",$E$3) -> 10.137.238 | B14: =B13+1 -> 226 | C14: =CONCATENATE($C$4,".",$D$4,".",$E$4,".",$F$4) -> 255.255.255.224 | F14: =CONCATENATE($C$3,".",$D$3,".",$E$3,".",$F$3+1) -> 10.137.238.225 | H14: - | J14: =CONCATENATE(A14,".",B14) -> 10.137.238.226 | K14: =C14 -> 255.255.255.224 | L14: =F14 -> 10.137.238.225 | M14: =H14 -> - | N14: =$C$10 -> 12
A15: =CONCATENATE($C$3,".",$D$3,".",$E$3) -> 10.137.238 | B15: =B14+1 -> 227 | C15: =CONCATENATE($C$4,".",$D$4,".",$E$4,".",$F$4) -> 255.255.255.224 | F15: =CONCATENATE($C$3,".",$D$3,".",$E$3,".",$F$3+1) -> 10.137.238.225 | H15: - | J15: =CONCATENATE(A15,".",B15) -> 10.137.238.227 | K15: =C15 -> 255.255.255.224 | L15: =F15 -> 10.137.238.225 | M15: =H15 -> - | N15: =$C$10 -> 12
A16: =CONCATENATE($C$3,".",$D$3,".",$E$3) -> 10.137.238 | B16: =B15+1 -> 228 | C16: =CONCATENATE($C$4,".",$D$4,".",$E$4,".",$F$4) -> 255.255.255.224 | F16: =CONCATENATE($C$3,".",$D$3,".",$E$3,".",$F$3+1) -> 10.137.238.225 | H16: 00-80-63-C6-E8-C3 | I16: Node Xarxa 32 | J16: =CONCATENATE(A16,".",B16) -> 10.137.238.228 | K16: =C16 -> 255.255.255.224 | L16: =F16 -> 10.137.238.225 | M16: =H16 -> 00-80-63-C6-E8-C3 | N16: =$C$10 -> 12
A17: =CONCATENATE($C$3,".",$D$3,".",$E$3) -> 10.137.238 | B17: =B16+1 -> 229 | C17: =CONCATENATE($C$4,".",$D$4,".",$E$4,".",$F$4) -> 255.255.255.224 | F17: =CONCATENATE($C$3,".",$D$3,".",$E$3,".",$F$3+1) -> 10.137.238.225 | H17: 00-80-63-C6-E8-5A | I17: Node Xarxa 33 | J17: =CONCATENATE(A17,".",B17) -> 10.137.238.229 | K17: =C17 -> 255.255.255.224 | L17: =F17 -> 10.137.238.225 | M17: =H17 -> 00-80-63-C6-E8-5A | N17: =$C$10 -> 12
A18: =CONCATENATE($C$3,".",$D$3,".",$E$3) -> 10.137.238 | B18: =B17+1 -> 230 | C18: =CONCATENATE($C$4,".",$D$4,".",$E$4,".",$F$4) -> 255.255.255.224 | F18: =CONCATENATE($C$3,".",$D$3,".",$E$3,".",$F$3+1) -> 10.137.238.225 | H18: 00-80-63-C2-F0-F2 | I18: Node Xarxa 34 | J18: =CONCATENATE(A18,".",B18) -> 10.137.238.230 | K18: =C18 -> 255.255.255.224 | L18: =F18 -> 10.137.238.225 | M18: =H18 -> 00-80-63-C2-F0-F2 | N18: =$C$10 -> 12
A19: =CONCATENATE($C$3,".",$D$3,".",$E$3) -> 10.137.238 | B19: =B18+1 -> 231 | C19: =CONCATENATE($C$4,".",$D$4,".",$E$4,".",$F$4) -> 255.255.255.224 | F19: =CONCATENATE($C$3,".",$D$3,".",$E$3,".",$F$3+1) -> 10.137.238.225 | H19: 00-80-63-C3-31-19 | I19: Node Xarxa 35 | J19: =CONCATENATE(A19,".",B19) -> 10.137.238.231 | K19: =C19 -> 255.255.255.224 | L19: =F19 -> 10.137.238.225 | M19: =H19 -> 00-80-63-C3-31-19 | N19: =$C$10 -> 12
A20: =CONCATENATE($C$3,".",$D$3,".",$E$3) -> 10.137.238 | B20: =B19+1 -> 232 | C20: =CONCATENATE($C$4,".",$D$4,".",$E$4,".",$F$4) -> 255.255.255.224 | F20: =CONCATENATE($C$3,".",$D$3,".",$E$3,".",$F$3+1) -> 10.137.238.225 | H20: 00-80-63-C3-32-0B | I20: Node Xarxa 36 | J20: =CONCATENATE(A20,".",B20) -> 10.137.238.232 | K20: =C20 -> 255.255.255.224 | L20: =F20 -> 10.137.238.225 | M20: =H20 -> 00-80-63-C3-32-0B | N20: =$C$10 -> 12
A21: =CONCATENATE($C$3,".",$D$3,".",$E$3) -> 10.137.238 | B21: =B20+1 -> 233 | C21: =CONCATENATE($C$4,".",$D$4,".",$E$4,".",$F$4) -> 255.255.255.224 | F21: =CONCATENATE($C$3,".",$D$3,".",$E$3,".",$F$3+1) -> 10.137.238.225 | H21: 00-80-63-C3-32-0B | I21: Node Xarxa 37 | J21: =CONCATENATE(A21,".",B21) -> 10.137.238.233 | K21: =C21 -> 255.255.255.224 | L21: =F21 -> 10.137.238.225 | M21: =H21 -> 00-80-63-C3-32-0B | N21: =$C$10 -> 12
A22: =CONCATENATE($C$3,".",$D$3,".",$E$3) -> 10.137.238 | B22: =B21+1 -> 234 | C22: =CONCATENATE($C$4,".",$D$4,".",$E$4,".",$F$4) -> 255.255.255.224 | F22: =CONCATENATE($C$3,".",$D$3,".",$E$3,".",$F$3+1) -> 10.137.238.225 | H22: 00-80-63-C3-31-5B | I22: Node Xarxa 38 | J22: =CONCATENATE(A22,".",B22) -> 10.137.238.234 | K22: =C22 -> 255.255.255.224 | L22: =F22 -> 10.137.238.225 | M22: =H22 -> 00-80-63-C3-31-5B | N22: =$C$10 -> 12
A23: =CONCATENATE($C$3,".",$D$3,".",$E$3) -> 10.137.238 | B23: =B22+1 -> 235 | C23: =CONCATENATE($C$4,".",$D$4,".",$E$4,".",$F$4) -> 255.255.255.224 | F23: =CONCATENATE($C$3,".",$D$3,".",$E$3,".",$F$3+1) -> 10.137.238.225 | H23: 00-80-63-C3-30-C1 | I23: Node Xarxa 39 | J23: =CONCATENATE(A23,".",B23) -> 10.137.238.235 | K23: =C23 -> 255.255.255.224 | L23: =F23 -> 10.137.238.225 | M23: =H23 -> 00-80-63-C3-30-C1 | N23: =$C$10 -> 12
A24: =CONCATENATE($C$3,".",$D$3,".",$E$3) -> 10.137.238 | B24: =B23+1 -> 236 | C24: =CONCATENATE($C$4,".",$D$4,".",$E$4,".",$F$4) -> 255.255.255.224 | F24: =CONCATENATE($C$3,".",$D$3,".",$E$3,".",$F$3+1) -> 10.137.238.225 | H24: 00-80-63-C3-31-F5 | I24: Node Xarxa 40 | J24: =CONCATENATE(A24,".",B24) -> 10.137.238.236 | K24: =C24 -> 255.255.255.224 | L24: =F24 -> 10.137.238.225 | M24: =H24 -> 00-80-63-C3-31-F5 | N24: =$C$10 -> 12
A25: =CONCATENATE($C$3,".",$D$3,".",$E$3) -> 10.137.238 | B25: =B24+1 -> 237 | C25: =CONCATENATE($C$4,".",$D$4,".",$E$4,".",$F$4) -> 255.255.255.224 | F25: =CONCATENATE($C$3,".",$D$3,".",$E$3,".",$F$3+1) -> 10.137.238.225 | H25: 00-80-63-C3-31-71 | I25: Node Xarxa 41 | J25: =CONCATENATE(A25,".",B25) -> 10.137.238.237 | K25: =C25 -> 255.255.255.224 | L25: =F25 -> 10.137.238.225 | M25: =H25 -> 00-80-63-C3-31-71 | N25: =$C$10 -> 12
A26: =CONCATENATE($C$3,".",$D$3,".",$E$3) -> 10.137.238 | B26: =B25+1 -> 238 | C26: =CONCATENATE($C$4,".",$D$4,".",$E$4,".",$F$4) -> 255.255.255.224 | F26: =CONCATENATE($C$3,".",$D$3,".",$E$3,".",$F$3+1) -> 10.137.238.225 | H26: 00-80-63-C3-31-9D | I26: Node Xarxa 42 | J26: =CONCATENATE(A26,".",B26) -> 10.137.238.238 | K26: =C26 -> 255.255.255.224 | L26: =F26 -> 10.137.238.225 | M26: =H26 -> 00-80-63-C3-31-9D | N26: =$C$10 -> 12
A27: =CONCATENATE($C$3,".",$D$3,".",$E$3) -> 10.137.238 | B27: =B26+1 -> 239 | C27: =CONCATENATE($C$4,".",$D$4,".",$E$4,".",$F$4) -> 255.255.255.224 | F27: =CONCATENATE($C$3,".",$D$3,".",$E$3,".",$F$3+1) -> 10.137.238.225 | H27: 00-80-63-C3-30-D7 | I27: Node Xarxa 43 | J27: =CONCATENATE(A27,".",B27) -> 10.137.238.239 | K27: =C27 -> 255.255.255.224 | L27: =F27 -> 10.137.238.225 | M27: =H27 -> 00-80-63-C3-30-D7 | N27: =$C$10 -> 12
A28: =CONCATENATE($C$3,".",$D$3,".",$E$3) -> 10.137.238 | B28: =B27+1 -> 240 | C28: =CONCATENATE($C$4,".",$D$4,".",$E$4,".",$F$4) -> 255.255.255.224 | F28: =CONCATENATE($C$3,".",$D$3,".",$E$3,".",$F$3+1) -> 10.137.238.225 | H28: 00-80-63-B6-35-9E | I28: Node Xarxa 44 | J28: =CONCATENATE(A28,".",B28) -> 10.137.238.240 | K28: =C28 -> 255.255.255.224 | L28: =F28 -> 10.137.238.225 | M28: =H28 -> 00-80-63-B6-35-9E | N28: =$C$10 -> 12
A29: =CONCATENATE($C$3,".",$D$3,".",$E$3) -> 10.137.238 | B29: =B28+1 -> 241 | C29: =CONCATENATE($C$4,".",$D$4,".",$E$4,".",$F$4) -> 255.255.255.224 | F29: =CONCATENATE($C$3,".",$D$3,".",$E$3,".",$F$3+1) -> 10.137.238.225 | H29: - | J29: =CONCATENATE(A29,".",B29) -> 10.137.238.241 | K29: =C29 -> 255.255.255.224 | L29: =F29 -> 10.137.238.225 | M29: =H29 -> - | N29: =$C$10 -> 12
A30: =CONCATENATE($C$3,".",$D$3,".",$E$3) -> 10.137.238 | B30: =B29+1 -> 242 | C30: =CONCATENATE($C$4,".",$D$4,".",$E$4,".",$F$4) -> 255.255.255.224 | F30: =CONCATENATE($C$3,".",$D$3,".",$E$3,".",$F$3+1) -> 10.137.238.225 | H30: - | J30: =CONCATENATE(A30,".",B30) -> 10.137.238.242 | K30: =C30 -> 255.255.255.224 | L30: =F30 -> 10.137.238.225 | M30: =H30 -> - | N30: =$C$10 -> 12
A31: =CONCATENATE($C$3,".",$D$3,".",$E$3) -> 10.137.238 | B31: =B30+1 -> 243 | C31: =CONCATENATE($C$4,".",$D$4,".",$E$4,".",$F$4) -> 255.255.255.224 | F31: =CONCATENATE($C$3,".",$D$3,".",$E$3,".",$F$3+1) -> 10.137.238.225 | H31: - | J31: =CONCATENATE(A31,".",B31) -> 10.137.238.243 | K31: =C31 -> 255.255.255.224 | L31: =F31 -> 10.137.238.225 | M31: =H31 -> - | N31: =$C$10 -> 12
A32: =CONCATENATE($C$3,".",$D$3,".",$E$3) -> 10.137.238 | B32: =B31+1 -> 244 | C32: =CONCATENATE($C$4,".",$D$4,".",$E$4,".",$F$4) -> 255.255.255.224 | F32: =CONCATENATE($C$3,".",$D$3,".",$E$3,".",$F$3+1) -> 10.137.238.225 | H32: - | J32: =CONCATENATE(A32,".",B32) -> 10.137.238.244 | K32: =C32 -> 255.255.255.224 | L32: =F32 -> 10.137.238.225 | M32: =H32 -> - | N32: =$C$10 -> 12
A33: =CONCATENATE($C$3,".",$D$3,".",$E$3) -> 10.137.238 | B33: =B32+1 -> 245 | C33: =CONCATENATE($C$4,".",$D$4,".",$E$4,".",$F$4) -> 255.255.255.224 | F33: =CONCATENATE($C$3,".",$D$3,".",$E$3,".",$F$3+1) -> 10.137.238.225 | H33: - | J33: =CONCATENATE(A33,".",B33) -> 10.137.238.245 | K33: =C33 -> 255.255.255.224 | L33: =F33 -> 10.137.238.225 | M33: =H33 -> - | N33: =$C$10 -> 12
A34: =CONCATENATE($C$3,".",$D$3,".",$E$3) -> 10.137.238 | B34: =B33+1 -> 246 | C34: =CONCATENATE($C$4,".",$D$4,".",$E$4,".",$F$4) -> 255.255.255.224 | F34: =CONCATENATE($C$3,".",$D$3,".",$E$3,".",$F$3+1) -> 10.137.238.225 | H34: - | J34: =CONCATENATE(A34,".",B34) -> 10.137.238.246 | K34: =C34 -> 255.255.255.224 | L34: =F34 -> 10.137.238.225 | M34: =H34 -> - | N34: =$C$10 -> 12
A35: =CONCATENATE($C$3,".",$D$3,".",$E$3) -> 10.137.238 | B35: =B34+1 -> 247 | C35: =CONCATENATE($C$4,".",$D$4,".",$E$4,".",$F$4) -> 255.255.255.224 | F35: =CONCATENATE($C$3,".",$D$3,".",$E$3,".",$F$3+1) -> 10.137.238.225 | H35: - | J35: =CONCATENATE(A35,".",B35) -> 10.137.238.247 | K35: =C35 -> 255.255.255.224 | L35: =F35 -> 10.137.238.225 | M35: =H35 -> - | N35: =$C$10 -> 12
A36: =CONCATENATE($C$3,".",$D$3,".",$E$3) -> 10.137.238 | B36: =B35+1 -> 248 | C36: =CONCATENATE($C$4,".",$D$4,".",$E$4,".",$F$4) -> 255.255.255.224 | F36: =CONCATENATE($C$3,".",$D$3,".",$E$3,".",$F$3+1) -> 10.137.238.225 | H36: - | J36: =CONCATENATE(A36,".",B36) -> 10.137.238.248 | K36: =C36 -> 255.255.255.224 | L36: =F36 -> 10.137.238.225 | M36: =H36 -> - | N36: =$C$10 -> 12
A37: =CONCATENATE($C$3,".",$D$3,".",$E$3) -> 10.137.238 | B37: =B36+1 -> 249 | C37: =CONCATENATE($C$4,".",$D$4,".",$E$4,".",$F$4) -> 255.255.255.224 | F37: =CONCATENATE($C$3,".",$D$3,".",$E$3,".",$F$3+1) -> 10.137.238.225 | H37: - | J37: =CONCATENATE(A37,".",B37) -> 10.137.238.249 | K37: =C37 -> 255.255.255.224 | L37: =F37 -> 10.137.238.225 | M37: =H37 -> - | N37: =$C$10 -> 12
A38: =CONCATENATE($C$3,".",$D$3,".",$E$3) -> 10.137.238 | B38: =B37+1 -> 250 | C38: =CONCATENATE($C$4,".",$D$4,".",$E$4,".",$F$4) -> 255.255.255.224 | F38: =CONCATENATE($C$3,".",$D$3,".",$E$3,".",$F$3+1) -> 10.137.238.225 | H38: - | J38: =CONCATENATE(A38,".",B38) -> 10.137.238.250 | K38: =C38 -> 255.255.255.224 | L38: =F38 -> 10.137.238.225 | M38: =H38 -> - | N38: =$C$10 -> 12
A39: =CONCATENATE($C$3,".",$D$3,".",$E$3) -> 10.137.238 | B39: =B38+1 -> 251 | C39: =CONCATENATE($C$4,".",$D$4,".",$E$4,".",$F$4) -> 255.255.255.224 | F39: =CONCATENATE($C$3,".",$D$3,".",$E$3,".",$F$3+1) -> 10.137.238.225 | H39: - | J39: =CONCATENATE(A39,".",B39) -> 10.137.238.251 | K39: =C39 -> 255.255.255.224 | L39: =F39 -> 10.137.238.225 | M39: =H39 -> - | N39: =$C$10 -> 12
A40: =CONCATENATE($C$3,".",$D$3,".",$E$3) -> 10.137.238 | B40: =B39+1 -> 252 | C40: =CONCATENATE($C$4,".",$D$4,".",$E$4,".",$F$4) -> 255.255.255.224 | F40: =CONCATENATE($C$3,".",$D$3,".",$E$3,".",$F$3+1) -> 10.137.238.225 | H40: - | J40: =CONCATENATE(A40,".",B40) -> 10.137.238.252 | K40: =C40 -> 255.255.255.224 | L40: =F40 -> 10.137.238.225 | M40: =H40 -> - | N40: =$C$10 -> 12
A41: =CONCATENATE($C$3,".",$D$3,".",$E$3) -> 10.137.238 | B41: =B40+1 -> 253 | C41: =CONCATENATE($C$4,".",$D$4,".",$E$4,".",$F$4) -> 255.255.255.224 | F41: =CONCATENATE($C$3,".",$D$3,".",$E$3,".",$F$3+1) -> 10.137.238.225 | H41: - | J41: =CONCATENATE(A41,".",B41) -> 10.137.238.253 | K41: =C41 -> 255.255.255.224 | L41: =F41 -> 10.137.238.225 | M41: =H41 -> - | N41: =$C$10 -> 12

Sheet Dades 1
A1: CANAL DADES-1 | I1: =Xarxa!I1 -> C-31 (D)
A3: Network | C3: 10 | D3: 137 | E3: 238 | F3: 192
A4: Netmask | C4: 255 | D4: 255 | E4: 255 | F4: 224
A5: Wildcard | C5: 0 | D5: 0 | E5: 0 | F5: =256-F4-1 -> 31
A6: HostMin | C6: =C3 -> 10 | D6: =D3 -> 137 | E6: =E3 -> 238 | F6: =F3+1 -> 193
A7: HostMax | C7: =C3 -> 10 | D7: =D3 -> 137 | E7: =E3 -> 238 | F7: =F3+F5-2 -> 221
A8: Broadcast | C8: =C3 -> 10 | D8: =D3 -> 137 | E8: =E3 -> 238 | F8: =F3+F5-1 -> 222
A9: Hosts | C9: =F5-2 -> 29
A10: VLAN | C10: 22
A12: IP | C12: MASK | F12: GATEWAY | G12: MASK | H12: MAC | I12: DESCRIPTION
A13: =CONCATENATE($C$3,".",$D$3,".",$E$3) -> 10.137.238 | B13: =F6 -> 193 | C13: =CONCATENATE($C$4,".",$D$4,".",$E$4,".",$F$4) -> 255.255.255.224 | F13: =CONCATENATE($C$3,".",$D$3,".",$E$3,".",$F$3+1) -> 10.137.238.193 | H13: - | I13: Gateway | J13: =CONCATENATE(A13,".",B13) -> 10.137.238.193 | K13: =C13 -> 255.255.255.224 | L13: =F13 -> 10.137.238.193 | M13: =H13 -> - | N13: =$C$10 -> 22
A14: =CONCATENATE($C$3,".",$D$3,".",$E$3) -> 10.137.238 | B14: =B13+1 -> 194 | C14: =CONCATENATE($C$4,".",$D$4,".",$E$4,".",$F$4) -> 255.255.255.224 | F14: =CONCATENATE($C$3,".",$D$3,".",$E$3,".",$F$3+1) -> 10.137.238.193 | H14: - | J14: =CONCATENATE(A14,".",B14) -> 10.137.238.194 | K14: =C14 -> 255.255.255.224 | L14: =F14 -> 10.137.238.193 | M14: =H14 -> - | N14: =$C$10 -> 22
A15: =CONCATENATE($C$3,".",$D$3,".",$E$3) -> 10.137.238 | B15: =B14+1 -> 195 | C15: =CONCATENATE($C$4,".",$D$4,".",$E$4,".",$F$4) -> 255.255.255.224 | F15: =CONCATENATE($C$3,".",$D$3,".",$E$3,".",$F$3+1) -> 10.137.238.193 | H15: - | J15: =CONCATENATE(A15,".",B15) -> 10.137.238.195 | K15: =C15 -> 255.255.255.224 | L15: =F15 -> 10.137.238.193 | M15: =H15 -> - | N15: =$C$10 -> 22
A16: =CONCATENATE($C$3,".",$D$3,".",$E$3) -> 10.137.238 | B16: =B15+1 -> 196 | C16: =CONCATENATE($C$4,".",$D$4,".",$E$4,".",$F$4) -> 255.255.255.224 | F16: =CONCATENATE($C$3,".",$D$3,".",$E$3,".",$F$3+1) -> 10.137.238.193 | H16: - | J16: =CONCATENATE(A16,".",B16) -> 10.137.238.196 | K16: =C16 -> 255.255.255.224 | L16: =F16 -> 10.137.238.193 | M16: =H16 -> - | N16: =$C$10 -> 22
A17: =CONCATENATE($C$3,".",$D$3,".",$E$3) -> 10.137.238 | B17: =B16+1 -> 197 | C17: =CONCATENATE($C$4,".",$D$4,".",$E$4,".",$F$4) -> 255.255.255.224 | F17: =CONCATENATE($C$3,".",$D$3,".",$E$3,".",$F$3+1) -> 10.137.238.193 | H17: - | J17: =CONCATENATE(A17,".",B17) -> 10.137.238.197 | K17: =C17 -> 255.255.255.224 | L17: =F17 -> 10.137.238.193 | M17: =H17 -> - | N17: =$C$10 -> 22
A18: =CONCATENATE($C$3,".",$D$3,".",$E$3) -> 10.137.238 | B18: =B17+1 -> 198 | C18: =CONCATENATE($C$4,".",$D$4,".",$E$4,".",$F$4) -> 255.255.255.224 | F18: =CONCATENATE($C$3,".",$D$3,".",$E$3,".",$F$3+1) -> 10.137.238.193 | H18: - | J18: =CONCATENATE(A18,".",B18) -> 10.137.238.198 | K18: =C18 -> 255.255.255.224 | L18: =F18 -> 10.137.238.193 | M18: =H18 -> - | N18: =$C$10 -> 22
A19: =CONCATENATE($C$3,".",$D$3,".",$E$3) -> 10.137.238 | B19: =B18+1 -> 199 | C19: =CONCATENATE($C$4,".",$D$4,".",$E$4,".",$F$4) -> 255.255.255.224 | F19: =CONCATENATE($C$3,".",$D$3,".",$E$3,".",$F$3+1) -> 10.137.238.193 | H19: - | J19: =CONCATENATE(A19,".",B19) -> 10.137.238.199 | K19: =C19 -> 255.255.255.224 | L19: =F19 -> 10.137.238.193 | M19: =H19 -> - | N19: =$C$10 -> 22
A20: =CONCATENATE($C$3,".",$D$3,".",$E$3) -> 10.137.238 | B20: =B19+1 -> 200 | C20: =CONCATENATE($C$4,".",$D$4,".",$E$4,".",$F$4) -> 255.255.255.224 | F20: =CONCATENATE($C$3,".",$D$3,".",$E$3,".",$F$3+1) -> 10.137.238.193 | H20: - | J20: =CONCATENATE(A20,".",B20) -> 10.137.238.200 | K20: =C20 -> 255.255.255.224 | L20: =F20 -> 10.137.238.193 | M20: =H20 -> - | N20: =$C$10 -> 22
A21: =CONCATENATE($C$3,".",$D$3,".",$E$3) -> 10.137.238 | B21: =B20+1 -> 201 | C21: =CONCATENATE($C$4,".",$D$4,".",$E$4,".",$F$4) -> 255.255.255.224 | F21: =CONCATENATE($C$3,".",$D$3,".",$E$3,".",$F$3+1) -> 10.137.238.193 | H21: - | J21: =CONCATENATE(A21,".",B21) -> 10.137.238.201 | K21: =C21 -> 255.255.255.224 | L21: =F21 -> 10.137.238.193 | M21: =H21 -> - | N21: =$C$10 -> 22
A22: =CONCATENATE($C$3,".",$D$3,".",$E$3) -> 10.137.238 | B22: =B21+1 -> 202 | C22: =CONCATENATE($C$4,".",$D$4,".",$E$4,".",$F$4) -> 255.255.255.224 | F22: =CONCATENATE($C$3,".",$D$3,".",$E$3,".",$F$3+1) -> 10.137.238.193 | H22: - | J22: =CONCATENATE(A22,".",B22) -> 10.137.238.202 | K22: =C22 -> 255.255.255.224 | L22: =F22 -> 10.137.238.193 | M22: =H22 -> - | N22: =$C$10 -> 22
A23: =CONCATENATE($C$3,".",$D$3,".",$E$3) -> 10.137.238 | B23: =B22+1 -> 203 | C23: =CONCATENATE($C$4,".",$D$4,".",$E$4,".",$F$4) -> 255.255.255.224 | F23: =CONCATENATE($C$3,".",$D$3,".",$E$3,".",$F$3+1) -> 10.137.238.193 | H23: - | J23: =CONCATENATE(A23,".",B23) -> 10.137.238.203 | K23: =C23 -> 255.255.255.224 | L23: =F23 -> 10.137.238.193 | M23: =H23 -> - | N23: =$C$10 -> 22
A24: =CONCATENATE($C$3,".",$D$3,".",$E$3) -> 10.137.238 | B24: =B23+1 -> 204 | C24: =CONCATENATE($C$4,".",$D$4,".",$E$4,".",$F$4) -> 255.255.255.224 | F24: =CONCATENATE($C$3,".",$D$3,".",$E$3,".",$F$3+1) -> 10.137.238.193 | H24: 00-04-76-E3-4A-27 | I24: Eru 31 principal | J24: =CONCATENATE(A24,".",B24) -> 10.137.238.204 | K24: =C24 -> 255.255.255.224 | L24: =F24 -> 10.137.238.193 | M24: =H24 -> 00-04-76-E3-4A-27 | N24: =$C$10 -> 22
A25: =CONCATENATE($C$3,".",$D$3,".",$E$3) -> 10.137.238 | B25: =B24+1 -> 205 | C25: =CONCATENATE($C$4,".",$D$4,".",$E$4,".",$F$4) -> 255.255.255.224 | F25: =CONCATENATE($C$3,".",$D$3,".",$E$3,".",$F$3+1) -> 10.137.238.193 | H25: 00-04-76-E9-42-D1 | I25: Eru 32 principal | J25: =CONCATENATE(A25,".",B25) -> 10.137.238.205 | K25: =C25 -> 255.255.255.224 | L25: =F25 -> 10.137.238.193 | M25: =H25 -> 00-04-76-E9-42-D1 | N25: =$C$10 -> 22
A26: =CONCATENATE($C$3,".",$D$3,".",$E$3) -> 10.137.238 | B26: =B25+1 -> 206 | C26: =CONCATENATE($C$4,".",$D$4,".",$E$4,".",$F$4) -> 255.255.255.224 | F26: =CONCATENATE($C$3,".",$D$3,".",$E$3,".",$F$3+1) -> 10.137.238.193 | H26: 00-04-76-E9-4A-B3 | I26: Eru 33 principal | J26: =CONCATENATE(A26,".",B26) -> 10.137.238.206 | K26: =C26 -> 255.255.255.224 | L26: =F26 -> 10.137.238.193 | M26: =H26 -> 00-04-76-E9-4A-B3 | N26: =$C$10 -> 22
A27: =CONCATENATE($C$3,".",$D$3,".",$E$3) -> 10.137.238 | B27: =B26+1 -> 207 | C27: =CONCATENATE($C$4,".",$D$4,".",$E$4,".",$F$4) -> 255.255.255.224 | F27: =CONCATENATE($C$3,".",$D$3,".",$E$3,".",$F$3+1) -> 10.137.238.193 | H27: 00-04-76-E9-4C-4A | I27: Eru 34 principal | J27: =CONCATENATE(A27,".",B27) -> 10.137.238.207 | K27: =C27 -> 255.255.255.224 | L27: =F27 -> 10.137.238.193 | M27: =H27 -> 00-04-76-E9-4C-4A | N27: =$C$10 -> 22
A28: =CONCATENATE($C$3,".",$D$3,".",$E$3) -> 10.137.238 | B28: =B27+1 -> 208 | C28: =CONCATENATE($C$4,".",$D$4,".",$E$4,".",$F$4) -> 255.255.255.224 | F28: =CONCATENATE($C$3,".",$D$3,".",$E$3,".",$F$3+1) -> 10.137.238.193 | H28: 00-04-76-E9-4A-B0 | I28: Eru 35 principal | J28: =CONCATENATE(A28,".",B28) -> 10.137.238.208 | K28: =C28 -> 255.255.255.224 | L28: =F28 -> 10.137.238.193 | M28: =H28 -> 00-04-76-E9-4A-B0 | N28: =$C$10 -> 22
A29: =CONCATENATE($C$3,".",$D$3,".",$E$3) -> 10.137.238 | B29: =B28+1 -> 209 | C29: =CONCATENATE($C$4,".",$D$4,".",$E$4,".",$F$4) -> 255.255.255.224 | F29: =CONCATENATE($C$3,".",$D$3,".",$E$3,".",$F$3+1) -> 10.137.238.193 | H29: 00-04-76-E9-4E-81 | I29: Eru 36 principal | J29: =CONCATENATE(A29,".",B29) -> 10.137.238.209 | K29: =C29 -> 255.255.255.224 | L29: =F29 -> 10.137.238.193 | M29: =H29 -> 00-04-76-E9-4E-81 | N29: =$C$10 -> 22
A30: =CONCATENATE($C$3,".",$D$3,".",$E$3) -> 10.137.238 | B30: =B29+1 -> 210 | C30: =CONCATENATE($C$4,".",$D$4,".",$E$4,".",$F$4) -> 255.255.255.224 | F30: =CONCATENATE($C$3,".",$D$3,".",$E$3,".",$F$3+1) -> 10.137.238.193 | H30: 00-04-76-E9-42-14 | I30: Eru 37 principal | J30: =CONCATENATE(A30,".",B30) -> 10.137.238.210 | K30: =C30 -> 255.255.255.224 | L30: =F30 -> 10.137.238.193 | M30: =H30 -> 00-04-76-E9-42-14 | N30: =$C$10 -> 22
A31: =CONCATENATE($C$3,".",$D$3,".",$E$3) -> 10.137.238 | B31: =B30+1 -> 211 | C31: =CONCATENATE($C$4,".",$D$4,".",$E$4,".",$F$4) -> 255.255.255.224 | F31: =CONCATENATE($C$3,".",$D$3,".",$E$3,".",$F$3+1) -> 10.137.238.193 | H31: 00-04-76-E3-4C-0F | I31: Eru 38 principal | J31: =CONCATENATE(A31,".",B31) -> 10.137.238.211 | K31: =C31 -> 255.255.255.224 | L31: =F31 -> 10.137.238.193 | M31: =H31 -> 00-04-76-E3-4C-0F | N31: =$C$10 -> 22
A32: =CONCATENATE($C$3,".",$D$3,".",$E$3) -> 10.137.238 | B32: =B31+1 -> 212 | C32: =CONCATENATE($C$4,".",$D$4,".",$E$4,".",$F$4) -> 255.255.255.224 | F32: =CONCATENATE($C$3,".",$D$3,".",$E$3,".",$F$3+1) -> 10.137.238.193 | H32: 00-04-76-E9-43-35 | I32: Eru 39 principal | J32: =CONCATENATE(A32,".",B32) -> 10.137.238.212 | K32: =C32 -> 255.255.255.224 | L32: =F32 -> 10.137.238.193 | M32: =H32 -> 00-04-76-E9-43-35 | N32: =$C$10 -> 22
A33: =CONCATENATE($C$3,".",$D$3,".",$E$3) -> 10.137.238 | B33: =B32+1 -> 213 | C33: =CONCATENATE($C$4,".",$D$4,".",$E$4,".",$F$4) -> 255.255.255.224 | F33: =CONCATENATE($C$3,".",$D$3,".",$E$3,".",$F$3+1) -> 10.137.238.193 | H33: 00-04-76-E9-4C-6B | I33: Eru 40 principal | J33: =CONCATENATE(A33,".",B33) -> 10.137.238.213 | K33: =C33 -> 255.255.255.224 | L33: =F33 -> 10.137.238.193 | M33: =H33 -> 00-04-76-E9-4C-6B | N33: =$C$10 -> 22
A34: =CONCATENATE($C$3,".",$D$3,".",$E$3) -> 10.137.238 | B34: =B33+1 -> 214 | C34: =CONCATENATE($C$4,".",$D$4,".",$E$4,".",$F$4) -> 255.255.255.224 | F34: =CONCATENATE($C$3,".",$D$3,".",$E$3,".",$F$3+1) -> 10.137.238.193 | H34: 00-04-76-E9-4C-53 | I34: Eru 41 principal | J34: =CONCATENATE(A34,".",B34) -> 10.137.238.214 | K34: =C34 -> 255.255.255.224 | L34: =F34 -> 10.137.238.193 | M34: =H34 -> 00-04-76-E9-4C-53 | N34: =$C$10 -> 22
A35: =CONCATENATE($C$3,".",$D$3,".",$E$3) -> 10.137.238 | B35: =B34+1 -> 215 | C35: =CONCATENATE($C$4,".",$D$4,".",$E$4,".",$F$4) -> 255.255.255.224 | F35: =CONCATENATE($C$3,".",$D$3,".",$E$3,".",$F$3+1) -> 10.137.238.193 | H35: 00-04-76-E9-43-32 | I35: Eru 42 principal | J35: =CONCATENATE(A35,".",B35) -> 10.137.238.215 | K35: =C35 -> 255.255.255.224 | L35: =F35 -> 10.137.238.193 | M35: =H35 -> 00-04-76-E9-43-32 | N35: =$C$10 -> 22
... A37: =CONCATENATE($C$3,".",$D$3,".",$E$3) -> 10.137.238 | B37: =B36+1 -> 217 | C37: =CONCATENATE($C$4,".",$D$4,".",$E$4,".",$F$4) -> 255.255.255.224 | F37: =CONCATENATE($C$3,".",$D$3,".",$E$3,".",$F$3+1) -> 10.137.238.193 | H37: 00-04-76-E9-42-12 | I37: Eru 44 principal | J37: =CONCATENATE(A37,".",B37) -> 10.137.238.217 | K37: =C37 -> 255.255.255.224 | L37: =F37 -> 10.137.238.193 | M37: =H37 -> 00-04-76-E9-42-12 | N37: =$C$10 -> 22
A38: =CONCATENATE($C$3,".",$D$3,".",$E$3) -> 10.137.238 | B38: =B37+1 -> 218 | C38: =CONCATENATE($C$4,".",$D$4,".",$E$4,".",$F$4) -> 255.255.255.224 | F38: =CONCATENATE($C$3,".",$D$3,".",$E$3,".",$F$3+1) -> 10.137.238.193 | H38: - | J38: =CONCATENATE(A38,".",B38) -> 10.137.238.218 | K38: =C38 -> 255.255.255.224 | L38: =F38 -> 10.137.238.193 | M38: =H38 -> - | N38: =$C$10 -> 22
A39: =CONCATENATE($C$3,".",$D$3,".",$E$3) -> 10.137.238 | B39: =B38+1 -> 219 | C39: =CONCATENATE($C$4,".",$D$4,".",$E$4,".",$F$4) -> 255.255.255.224 | F39: =CONCATENATE($C$3,".",$D$3,".",$E$3,".",$F$3+1) -> 10.137.238.193 | H39: - | J39: =CONCATENATE(A39,".",B39) -> 10.137.238.219 | K39: =C39 -> 255.255.255.224 | L39: =F39 -> 10.137.238.193 | M39: =H39 -> - | N39: =$C$10 -> 22
A40: =CONCATENATE($C$3,".",$D$3,".",$E$3) -> 10.137.238 | B40: =B39+1 -> 220 | C40: =CONCATENATE($C$4,".",$D$4,".",$E$4,".",$F$4) -> 255.255.255.224 | F40: =CONCATENATE($C$3,".",$D$3,".",$E$3,".",$F$3+1) -> 10.137.238.193 | H40: - | J40: =CONCATENATE(A40,".",B40) -> 10.137.238.220 | K40: =C40 -> 255.255.255.224 | L40: =F40 -> 10.137.238.193 | M40: =H40 -> - | N40: =$C$10 -> 22
A41: =CONCATENATE($C$3,".",$D$3,".",$E$3) -> 10.137.238 | B41: =B40+1 -> 221 | C41: =CONCATENATE($C$4,".",$D$4,".",$E$4,".",$F$4) -> 255.255.255.224 | F41: =CONCATENATE($C$3,".",$D$3,".",$E$3,".",$F$3+1) -> 10.137.238.193 | H41: - | J41: =CONCATENATE(A41,".",B41) -> 10.137.238.221 | K41: =C41 -> 255.255.255.224 | L41: =F41 -> 10.137.238.193 | M41: =H41 -> - | N41: =$C$10 -> 22

Sheet TOT
A1: =I1 -> Node Xarxa 32 | B1: =Xarxa!A13 -> 10.137.238 | C1: =Xarxa!B13 -> 225 | D1: =Xarxa!C13 -> 255.255.255.224 | E1: =Xarxa!D13 -> 0 | F1: =Xarxa!E13 -> 0 | G1: =Xarxa!F13 -> 10.137.238.225 | H1: =Xarxa!G13 -> 0 | I1: =Xarxa!I16 -> Node Xarxa 32 | J1: =RIGHT(B1,LEN(B1)-7) -> 238
A2: =I2 -> Node Xarxa 33 | B2: =Xarxa!A14 -> 10.137.238 | C2: =Xarxa!B14 -> 226 | D2: =Xarxa!C14 -> 255.255.255.224 | E2: =Xarxa!D14 -> 0 | F2: =Xarxa!E14 -> 0 | G2: =Xarxa!F14 -> 10.137.238.225 | H2: =Xarxa!G14 -> 0 | I2: =Xarxa!I17 -> Node Xarxa 33 | J2: =RIGHT(B2,LEN(B2)-7) -> 238
A3: =I3 -> Node Xarxa 34 | B3: =Xarxa!A15 -> 10.137.238 | C3: =Xarxa!B15 -> 227 | D3: =Xarxa!C15 -> 255.255.255.224 | E3: =Xarxa!D15 -> 0 | F3: =Xarxa!E15 -> 0 | G3: =Xarxa!F15 -> 10.137.238.225 | H3: =Xarxa!G15 -> 0 | I3: =Xarxa!I18 -> Node Xarxa 34 | J3: =RIGHT(B3,LEN(B3)-7) -> 238
A4: =I4 -> Node Xarxa 35 | B4: =Xarxa!A16 -> 10.137.238 | C4: =Xarxa!B16 -> 228 | D4: =Xarxa!C16 -> 255.255.255.224 | E4: =Xarxa!D16 -> 0 | F4: =Xarxa!E16 -> 0 | G4: =Xarxa!F16 -> 10.137.238.225 | H4: =Xarxa!G16 -> 0 | I4: =Xarxa!I19 -> Node Xarxa 35 | J4: =RIGHT(B4,LEN(B4)-7) -> 238
A5: =I5 -> Node Xarxa 36 | B5: =Xarxa!A17 -> 10.137.238 | C5: =Xarxa!B17 -> 229 | D5: =Xarxa!C17 -> 255.255.255.224 | E5: =Xarxa!D17 -> 0 | F5: =Xarxa!E17 -> 0 | G5: =Xarxa!F17 -> 10.137.238.225 | H5: =Xarxa!G17 -> 0 | I5: =Xarxa!I20 -> Node Xarxa 36 | J5: =RIGHT(B5,LEN(B5)-7) -> 238
A6: =I6 -> Node Xarxa 37 | B6: =Xarxa!A18 -> 10.137.238 | C6: =Xarxa!B18 -> 230 | D6: =Xarxa!C18 -> 255.255.255.224 | E6: =Xarxa!D18 -> 0 | F6: =Xarxa!E18 -> 0 | G6: =Xarxa!F18 -> 10.137.238.225 | H6: =Xarxa!G18 -> 0 | I6: =Xarxa!I21 -> Node Xarxa 37 | J6: =RIGHT(B6,LEN(B6)-7) -> 238
A7: =I7 -> Node Xarxa 38 | B7: =Xarxa!A19 -> 10.137.238 | C7: =Xarxa!B19 -> 231 | D7: =Xarxa!C19 -> 255.255.255.224 | E7: =Xarxa!D19 -> 0 | F7: =Xarxa!E19 -> 0 | G7: =Xarxa!F19 -> 10.137.238.225 | H7: =Xarxa!G19 -> 0 | I7: =Xarxa!I22 -> Node Xarxa 38 | J7: =RIGHT(B7,LEN(B7)-7) -> 238
A8: =I8 -> Node Xarxa 39 | B8: =Xarxa!A20 -> 10.137.238 | C8: =Xarxa!B20 -> 232 | D8: =Xarxa!C20 -> 255.255.255.224 | E8: =Xarxa!D20 -> 0 | F8: =Xarxa!E20 -> 0 | G8: =Xarxa!F20 -> 10.137.238.225 | H8: =Xarxa!G20 -> 0 | I8: =Xarxa!I23 -> Node Xarxa 39 | J8: =RIGHT(B8,LEN(B8)-7) -> 238
A9: =I9 -> Node Xarxa 40 | B9: =Xarxa!A21 -> 10.137.238 | C9: =Xarxa!B21 -> 233 | D9: =Xarxa!C21 -> 255.255.255.224 | E9: =Xarxa!D21 -> 0 | F9: =Xarxa!E21 -> 0 | G9: =Xarxa!F21 -> 10.137.238.225 | H9: =Xarxa!G21 -> 0 | I9: =Xarxa!I24 -> Node Xarxa 40 | J9: =RIGHT(B9,LEN(B9)-7) -> 238
A10: =I10 -> #REF! | B10: =Xarxa!#REF! -> #REF! | C10: =Xarxa!#REF! -> #REF! | D10: =Xarxa!#REF! -> #REF! | E10: =Xarxa!#REF! -> #REF! | F10: =Xarxa!#REF! -> #REF! | G10: =Xarxa!#REF! -> #REF! | H10: =Xarxa!#REF! -> #REF! | I10: =Xarxa!#REF! -> #REF! | J10: =RIGHT(B10,LEN(B10)-7) -> #REF!
A11: =I11 -> #REF! | B11: =Xarxa!#REF! -> #REF! | C11: =Xarxa!#REF! -> #REF! | D11: =Xarxa!#REF! -> #REF! | E11: =Xarxa!#REF! -> #REF! | F11: =Xarxa!#REF! -> #REF! | G11: =Xarxa!#REF! -> #REF! | H11: =Xarxa!#REF! -> #REF! | I11: =Xarxa!#REF! -> #REF! | J11: =RIGHT(B11,LEN(B11)-7) -> #REF!
A12: =I12 -> #REF! | B12: =Xarxa!#REF! -> #REF! | C12: =Xarxa!#REF! -> #REF! | D12: =Xarxa!#REF! -> #REF! | E12: =Xarxa!#REF! -> #REF! | F12: =Xarxa!#REF! -> #REF! | G12: =Xarxa!#REF! -> #REF! | H12: =Xarxa!#REF! -> #REF! | I12: =Xarxa!#REF! -> #REF! | J12: =RIGHT(B12,LEN(B12)-7) -> #REF!
A13: =I13 -> #REF! | B13: =Xarxa!#REF! -> #REF! | C13: =Xarxa!#REF! -> #REF! | D13: =Xarxa!#REF! -> #REF! | E13: =Xarxa!#REF! -> #REF! | F13: =Xarxa!#REF! -> #REF! | G13: =Xarxa!#REF! -> #REF! | H13: =Xarxa!#REF! -> #REF! | I13: =Xarxa!#REF! -> #REF! | J13: =RIGHT(B13,LEN(B13)-7) -> #REF!
A14: =I14 -> #REF! | B14: =Xarxa!#REF! -> #REF! | C14: =Xarxa!#REF! -> #REF! | D14: =Xarxa!#REF! -> #REF! | E14: =Xarxa!#REF! -> #REF! | F14: =Xarxa!#REF! -> #REF! | G14: =Xarxa!#REF! -> #REF! | H14: =Xarxa!#REF! -> #REF! | I14: =Xarxa!#REF! -> #REF! | J14: =RIGHT(B14,LEN(B14)-7) -> #REF!
A15: =I15 -> Node Xarxa 41 | B15: =Xarxa!A22 -> 10.137.238 | C15: =Xarxa!B22 -> 234 | D15: =Xarxa!C22 -> 255.255.255.224 | E15: =Xarxa!D22 -> 0 | F15: =Xarxa!E22 -> 0 | G15: =Xarxa!F22 -> 10.137.238.225 | H15: =Xarxa!G22 -> 0 | I15: =Xarxa!I25 -> Node Xarxa 41 | J15: =RIGHT(B15,LEN(B15)-7) -> 238
A16: =I16 -> Node Xarxa 42 | B16: =Xarxa!A23 -> 10.137.238 | C16: =Xarxa!B23 -> 235 | D16: =Xarxa!C23 -> 255.255.255.224 | E16: =Xarxa!D23 -> 0 | F16: =Xarxa!E23 -> 0 | G16: =Xarxa!F23 -> 10.137.238.225 | H16: =Xarxa!G23 -> 0 | I16: =Xarxa!I26 -> Node Xarxa 42 | J16: =RIGHT(B16,LEN(B16)-7) -> 238
A17: =I17 -> #REF! | B17: =Xarxa!#REF! -> #REF! | C17: =Xarxa!#REF! -> #REF! | D17: =Xarxa!#REF! -> #REF! | E17: =Xarxa!#REF! -> #REF! | F17: =Xarxa!#REF! -> #REF! | G17: =Xarxa!#REF! -> #REF! | H17: =Xarxa!#REF! -> #REF! | I17: =Xarxa!#REF! -> #REF! | J17: =RIGHT(B17,LEN(B17)-7) -> #REF!
A18: =I18 -> #REF! | B18: =Xarxa!#REF! -> #REF! | C18: =Xarxa!#REF! -> #REF! | D18: =Xarxa!#REF! -> #REF! | E18: =Xarxa!#REF! -> #REF! | F18: =Xarxa!#REF! -> #REF! | G18: =Xarxa!#REF! -> #REF! | H18: =Xarxa!#REF! -> #REF! | I18: =Xarxa!#REF! -> #REF! | J18: =RIGHT(B18,LEN(B18)-7) -> #REF!
A19: =I19 -> #REF! | B19: =Xarxa!#REF! -> #REF! | C19: =Xarxa!#REF! -> #REF! | D19: =Xarxa!#REF! -> #REF! | E19: =Xarxa!#REF! -> #REF! | F19: =Xarxa!#REF! -> #REF! | G19: =Xarxa!#REF! -> #REF! | H19: =Xarxa!#REF! -> #REF! | I19: =Xarxa!#REF! -> #REF! | J19: =RIGHT(B19,LEN(B19)-7) -> #REF!
A20: =I20 -> #REF! | B20: =Xarxa!#REF! -> #REF! | C20: =Xarxa!#REF! -> #REF! | D20: =Xarxa!#REF! -> #REF! | E20: =Xarxa!#REF! -> #REF! | F20: =Xarxa!#REF! -> #REF! | G20: =Xarxa!#REF! -> #REF! | H20: =Xarxa!#REF! -> #REF! | I20: =Xarxa!#REF! -> #REF! | J20: =RIGHT(B20,LEN(B20)-7) -> #REF!
A21: =I21 -> #REF! | B21: =Xarxa!#REF! -> #REF! | C21: =Xarxa!#REF! -> #REF! | D21: =Xarxa!#REF! -> #REF! | E21: =Xarxa!#REF! -> #REF! | F21: =Xarxa!#REF! -> #REF! | G21: =Xarxa!#REF! -> #REF! | H21: =Xarxa!#REF! -> #REF! | I21: =Xarxa!#REF! -> #REF! | J21: =RIGHT(B21,LEN(B21)-7) -> #REF!
A22: =I22 -> #REF! | B22: =Xarxa!#REF! -> #REF! | C22: =Xarxa!#REF! -> #REF! | D22: =Xarxa!#REF! -> #REF! | E22: =Xarxa!#REF! -> #REF! | F22: =Xarxa!#REF! -> #REF! | G22: =Xarxa!#REF! -> #REF! | H22: =Xarxa!#REF! -> #REF! | I22: =Xarxa!#REF! -> #REF! | J22: =RIGHT(B22,LEN(B22)-7) -> #REF!
A23: =I23 -> #REF! | B23: =Xarxa!#REF! -> #REF! | C23: =Xarxa!#REF! -> #REF! | D23: =Xarxa!#REF! -> #REF! | E23: =Xarxa!#REF! -> #REF! | F23: =Xarxa!#REF! -> #REF! | G23: =Xarxa!#REF! -> #REF! | H23: =Xarxa!#REF! -> #REF! | I23: =Xarxa!#REF! -> #REF! | J23: =RIGHT(B23,LEN(B23)-7) -> #REF!
A24: =I24 -> #REF! | B24: =Xarxa!#REF! -> #REF! | C24: =Xarxa!#REF! -> #REF! | D24: =Xarxa!#REF! -> #REF! | E24: =Xarxa!#REF! -> #REF! | F24: =Xarxa!#REF! -> #REF! | G24: =Xarxa!#REF! -> #REF! | H24: =Xarxa!#REF! -> #REF! | I24: =Xarxa!#REF! -> #REF! | J24: =RIGHT(B24,LEN(B24)-7) -> #REF!
A25: =I25 -> #REF! | B25: =Xarxa!#REF! -> #REF! | C25: =Xarxa!#REF! -> #REF! | D25: =Xarxa!#REF! -> #REF! | E25: =Xarxa!#REF! -> #REF! | F25: =Xarxa!#REF! -> #REF! | G25: =Xarxa!#REF! -> #REF! | H25: =Xarxa!#REF! -> #REF! | I25: =Xarxa!#REF! -> #REF! | J25: =RIGHT(B25,LEN(B25)-7) -> #REF!
A26: =I26 -> #REF! | B26: =Xarxa!#REF! -> #REF! | C26: =Xarxa!#REF! -> #REF! | D26: =Xarxa!#REF! -> #REF! | E26: =Xarxa!#REF! -> #REF! | F26: =Xarxa!#REF! -> #REF! | G26: =Xarxa!#REF! -> #REF! | H26: =Xarxa!#REF! -> #REF! | I26: =Xarxa!#REF! -> #REF! | J26: =RIGHT(B26,LEN(B26)-7) -> #REF!
A27: =I27 -> #REF! | B27: =Xarxa!#REF! -> #REF! | C27: =Xarxa!#REF! -> #REF! | D27: =Xarxa!#REF! -> #REF! | E27: =Xarxa!#REF! -> #REF! | F27: =Xarxa!#REF! -> #REF! | G27: =Xarxa!#REF! -> #REF! | H27: =Xarxa!#REF! -> #REF! | I27: =Xarxa!#REF! -> #REF! | J27: =RIGHT(B27,LEN(B27)-7) -> #REF!
A28: =I28 -> #REF! | B28: =Xarxa!#REF! -> #REF! | C28: =Xarxa!#REF! -> #REF! | D28: =Xarxa!#REF! -> #REF! | E28: =Xarxa!#REF! -> #REF! | F28: =Xarxa!#REF! -> #REF! | G28: =Xarxa!#REF! -> #REF! | H28: =Xarxa!#REF! -> #REF! | I28: =Xarxa!#REF! -> #REF! | J28: =RIGHT(B28,LEN(B28)-7) -> #REF!
... A31: =I31 -> #REF! | B31: =Xarxa!#REF! -> #REF! | C31: =Xarxa!#REF! -> #REF! | D31: =Xarxa!#REF! -> #REF! | E31: =Xarxa!#REF! -> #REF! | F31: =Xarxa!#REF! -> #REF! | G31: =Xarxa!#REF! -> #REF! | H31: =Xarxa!#REF! -> #REF! | I31: =Xarxa!#REF! -> #REF! | J31: =RIGHT(B31,LEN(B31)-7) -> #REF!
A32: =I32 -> 0 | B32: =Xarxa!A42 -> 0 | C32: =Xarxa!B42 -> 0 | D32: =Xarxa!C42 -> 0 | E32: =Xarxa!D42 -> 0 | F32: =Xarxa!E42 -> 0 | G32: =Xarxa!F42 -> 0 | H32: =Xarxa!G42 -> 0 | I32: =Xarxa!I42 -> 0 | J32: =RIGHT(B32,LEN(B32)-7) -> #VALUE!
A33: =I33 -> 0 | B33: =Xarxa!A43 -> 0 | C33: =Xarxa!B43 -> 0 | D33: =Xarxa!C43 -> 0 | E33: =Xarxa!D43 -> 0 | F33: =Xarxa!E43 -> 0 | G33: =Xarxa!F43 -> 0 | H33: =Xarxa!G43 -> 0 | I33: =Xarxa!I43 -> 0 | J33: =RIGHT(B33,LEN(B33)-7) -> #VALUE!
A34: =I34 -> 0 | B34: =Xarxa!A44 -> 0 | C34: =Xarxa!B44 -> 0 | D34: =Xarxa!C44 -> 0 | E34: =Xarxa!D44 -> 0 | F34: =Xarxa!E44 -> 0 | G34: =Xarxa!F44 -> 0 | H34: =Xarxa!G44 -> 0 | I34: =Xarxa!I44 -> 0 | J34: =RIGHT(B34,LEN(B34)-7) -> #VALUE!
A35: =I35 -> 0 | B35: =Xarxa!A45 -> 0 | C35: =Xarxa!B45 -> 0 | D35: =Xarxa!C45 -> 0 | E35: =Xarxa!D45 -> 0 | F35: =Xarxa!E45 -> 0 | G35: =Xarxa!F45 -> 0 | H35: =Xarxa!G45 -> 0 | I35: =Xarxa!I45 -> 0 | J35: =RIGHT(B35,LEN(B35)-7) -> #VALUE!
A36: =I36 -> #REF! | B36: =#REF! -> #REF! | C36: =#REF! -> #REF! | D36: =#REF! -> #REF! | E36: =#REF! -> #REF! | F36: =#REF! -> #REF! | G36: =#REF! -> #REF! | H36: =#REF! -> #REF! | I36: =#REF! -> #REF! | J36: =RIGHT(B36,LEN(B36)-7) -> #REF!
A37: =I37 -> #REF! | B37: =#REF! -> #REF! | C37: =#REF! -> #REF! | D37: =#REF! -> #REF! | E37: =#REF! -> #REF! | F37: =#REF! -> #REF! | G37: =#REF! -> #REF! | H37: =#REF! -> #REF! | I37: =#REF! -> #REF! | J37: =RIGHT(B37,LEN(B37)-7) -> #REF!
A38: =I38 -> #REF! | B38: =#REF! -> #REF! | C38: =#REF! -> #REF! | D38: =#REF! -> #REF! | E38: =#REF! -> #REF! | F38: =#REF! -> #REF! | G38: =#REF! -> #REF! | H38: =#REF! -> #REF! | I38: =#REF! -> #REF! | J38: =RIGHT(B38,LEN(B38)-7) -> #REF!
A39: =I39 -> #REF! | B39: =#REF! -> #REF! | C39: =#REF! -> #REF! | D39: =#REF! -> #REF! | E39: =#REF! -> #REF! | F39: =#REF! -> #REF! | G39: =#REF! -> #REF! | H39: =#REF! -> #REF! | I39: =#REF! -> #REF! | J39: =RIGHT(B39,LEN(B39)-7) -> #REF!
A40: =I40 -> #REF! | B40: =#REF! -> #REF! | C40: =#REF! -> #REF! | D40: =#REF! -> #REF! | E40: =#REF! -> #REF! | F40: =#REF! -> #REF! | G40: =#REF! -> #REF! | H40: =#REF! -> #REF! | I40: =#REF! -> #REF! | J40: =RIGHT(B40,LEN(B40)-7) -> #REF!
A41: =I41 -> #REF! | B41: =#REF! -> #REF! | C41: =#REF! -> #REF! | D41: =#REF! -> #REF! | E41: =#REF! -> #REF! | F41: =#REF! -> #REF! | G41: =#REF! -> #REF! | H41: =#REF! -> #REF! | I41: =#REF! -> #REF! | J41: =RIGHT(B41,LEN(B41)-7) -> #REF!
A42: =I42 -> #REF! | B42: =#REF! -> #REF! | C42: =#REF! -> #REF! | D42: =#REF! -> #REF! | E42: =#REF! -> #REF! | F42: =#REF! -> #REF! | G42: =#REF! -> #REF! | H42: =#REF! -> #REF! | I42: =#REF! -> #REF! | J42: =RIGHT(B42,LEN(B42)-7) -> #REF!
...

Sheet Dades 2
A1: CANAL DADES-2 | I1: =Xarxa!I1 -> C-31 (D)
A3: Network | C3: 10 | D3: 137 | E3: 239 | F3: 192
A4: Netmask | C4: 255 | D4: 255 | E4: 255 | F4: 224
A5: Wildcard | C5: 0 | D5: 0 | E5: 0 | F5: =256-F4-1 -> 31
A6: HostMin | C6: =C3 -> 10 | D6: =D3 -> 137 | E6: =E3 -> 239 | F6: =F3+1 -> 193
A7: HostMax | C7: =C3 -> 10 | D7: =D3 -> 137 | E7: =E3 -> 239 | F7: =F3+F5-2 -> 221
A8: Broadcast | C8: =C3 -> 10 | D8: =D3 -> 137 | E8: =E3 -> 239 | F8: =F3+F5-1 -> 222
A9: Hosts | C9: =F5-2 -> 29
A10: VLAN | C10: 32
A12: IP | C12: MASK | F12: GATEWAY | G12: MASK | H12: MAC | I12: DESCRIPTION
A13: =CONCATENATE($C$3,".",$D$3,".",$E$3) -> 10.137.239 | B13: =F6 -> 193 | C13: =CONCATENATE($C$4,".",$D$4,".",$E$4,".",$F$4) -> 255.255.255.224 | F13: =CONCATENATE($C$3,".",$D$3,".",$E$3,".",$F$3+1) -> 10.137.239.193 | H13: - | I13: Gateway | J13: =CONCATENATE(A13,".",B13) -> 10.137.239.193 | K13: =C13 -> 255.255.255.224 | L13: =F13 -> 10.137.239.193 | M13: =H13 -> - | N13: =$C$10 -> 32
A14: =CONCATENATE($C$3,".",$D$3,".",$E$3) -> 10.137.239 | B14: =B13+1 -> 194 | C14: =CONCATENATE($C$4,".",$D$4,".",$E$4,".",$F$4) -> 255.255.255.224 | F14: =CONCATENATE($C$3,".",$D$3,".",$E$3,".",$F$3+1) -> 10.137.239.193 | H14: - | J14: =CONCATENATE(A14,".",B14) -> 10.137.239.194 | K14: =C14 -> 255.255.255.224 | L14: =F14 -> 10.137.239.193 | M14: =H14 -> - | N14: =$C$10 -> 32
A15: =CONCATENATE($C$3,".",$D$3,".",$E$3) -> 10.137.239 | B15: =B14+1 -> 195 | C15: =CONCATENATE($C$4,".",$D$4,".",$E$4,".",$F$4) -> 255.255.255.224 | F15: =CONCATENATE($C$3,".",$D$3,".",$E$3,".",$F$3+1) -> 10.137.239.193 | H15: - | J15: =CONCATENATE(A15,".",B15) -> 10.137.239.195 | K15: =C15 -> 255.255.255.224 | L15: =F15 -> 10.137.239.193 | M15: =H15 -> - | N15: =$C$10 -> 32
A16: =CONCATENATE($C$3,".",$D$3,".",$E$3) -> 10.137.239 | B16: =B15+1 -> 196 | C16: =CONCATENATE($C$4,".",$D$4,".",$E$4,".",$F$4) -> 255.255.255.224 | F16: =CONCATENATE($C$3,".",$D$3,".",$E$3,".",$F$3+1) -> 10.137.239.193 | H16: - | J16: =CONCATENATE(A16,".",B16) -> 10.137.239.196 | K16: =C16 -> 255.255.255.224 | L16: =F16 -> 10.137.239.193 | M16: =H16 -> - | N16: =$C$10 -> 32
A17: =CONCATENATE($C$3,".",$D$3,".",$E$3) -> 10.137.239 | B17: =B16+1 -> 197 | C17: =CONCATENATE($C$4,".",$D$4,".",$E$4,".",$F$4) -> 255.255.255.224 | F17: =CONCATENATE($C$3,".",$D$3,".",$E$3,".",$F$3+1) -> 10.137.239.193 | H17: - | J17: =CONCATENATE(A17,".",B17) -> 10.137.239.197 | K17: =C17 -> 255.255.255.224 | L17: =F17 -> 10.137.239.193 | M17: =H17 -> - | N17: =$C$10 -> 32
A18: =CONCATENATE($C$3,".",$D$3,".",$E$3) -> 10.137.239 | B18: =B17+1 -> 198 | C18: =CONCATENATE($C$4,".",$D$4,".",$E$4,".",$F$4) -> 255.255.255.224 | F18: =CONCATENATE($C$3,".",$D$3,".",$E$3,".",$F$3+1) -> 10.137.239.193 | H18: - | J18: =CONCATENATE(A18,".",B18) -> 10.137.239.198 | K18: =C18 -> 255.255.255.224 | L18: =F18 -> 10.137.239.193 | M18: =H18 -> - | N18: =$C$10 -> 32
A19: =CONCATENATE($C$3,".",$D$3,".",$E$3) -> 10.137.239 | B19: =B18+1 -> 199 | C19: =CONCATENATE($C$4,".",$D$4,".",$E$4,".",$F$4) -> 255.255.255.224 | F19: =CONCATENATE($C$3,".",$D$3,".",$E$3,".",$F$3+1) -> 10.137.239.193 | H19: - | J19: =CONCATENATE(A19,".",B19) -> 10.137.239.199 | K19: =C19 -> 255.255.255.224 | L19: =F19 -> 10.137.239.193 | M19: =H19 -> - | N19: =$C$10 -> 32
A20: =CONCATENATE($C$3,".",$D$3,".",$E$3) -> 10.137.239 | B20: =B19+1 -> 200 | C20: =CONCATENATE($C$4,".",$D$4,".",$E$4,".",$F$4) -> 255.255.255.224 | F20: =CONCATENATE($C$3,".",$D$3,".",$E$3,".",$F$3+1) -> 10.137.239.193 | H20: - | J20: =CONCATENATE(A20,".",B20) -> 10.137.239.200 | K20: =C20 -> 255.255.255.224 | L20: =F20 -> 10.137.239.193 | M20: =H20 -> - | N20: =$C$10 -> 32
A21: =CONCATENATE($C$3,".",$D$3,".",$E$3) -> 10.137.239 | B21: =B20+1 -> 201 | C21: =CONCATENATE($C$4,".",$D$4,".",$E$4,".",$F$4) -> 255.255.255.224 | F21: =CONCATENATE($C$3,".",$D$3,".",$E$3,".",$F$3+1) -> 10.137.239.193 | H21: - | J21: =CONCATENATE(A21,".",B21) -> 10.137.239.201 | K21: =C21 -> 255.255.255.224 | L21: =F21 -> 10.137.239.193 | M21: =H21 -> - | N21: =$C$10 -> 32
A22: =CONCATENATE($C$3,".",$D$3,".",$E$3) -> 10.137.239 | B22: =B21+1 -> 202 | C22: =CONCATENATE($C$4,".",$D$4,".",$E$4,".",$F$4) -> 255.255.255.224 | F22: =CONCATENATE($C$3,".",$D$3,".",$E$3,".",$F$3+1) -> 10.137.239.193 | H22: - | J22: =CONCATENATE(A22,".",B22) -> 10.137.239.202 | K22: =C22 -> 255.255.255.224 | L22: =F22 -> 10.137.239.193 | M22: =H22 -> - | N22: =$C$10 -> 32
A23: =CONCATENATE($C$3,".",$D$3,".",$E$3) -> 10.137.239 | B23: =B22+1 -> 203 | C23: =CONCATENATE($C$4,".",$D$4,".",$E$4,".",$F$4) -> 255.255.255.224 | F23: =CONCATENATE($C$3,".",$D$3,".",$E$3,".",$F$3+1) -> 10.137.239.193 | H23: - | J23: =CONCATENATE(A23,".",B23) -> 10.137.239.203 | K23: =C23 -> 255.255.255.224 | L23: =F23 -> 10.137.239.193 | M23: =H23 -> - | N23: =$C$10 -> 32
A24: =CONCATENATE($C$3,".",$D$3,".",$E$3) -> 10.137.239 | B24: =B23+1 -> 204 | C24: =CONCATENATE($C$4,".",$D$4,".",$E$4,".",$F$4) -> 255.255.255.224 | F24: =CONCATENATE($C$3,".",$D$3,".",$E$3,".",$F$3+1) -> 10.137.239.193 | H24: 00-50-04-0A-0C-BE | I24: Eru 31 secundaria | J24: =CONCATENATE(A24,".",B24) -> 10.137.239.204 | K24: =C24 -> 255.255.255.224 | L24: =F24 -> 10.137.239.193 | M24: =H24 -> 00-50-04-0A-0C-BE | N24: =$C$10 -> 32
A25: =CONCATENATE($C$3,".",$D$3,".",$E$3) -> 10.137.239 | B25: =B24+1 -> 205 | C25: =CONCATENATE($C$4,".",$D$4,".",$E$4,".",$F$4) -> 255.255.255.224 | F25: =CONCATENATE($C$3,".",$D$3,".",$E$3,".",$F$3+1) -> 10.137.239.193 | H25: 00-04-76-E9-4C-72 | I25: Eru 32 secundaria | J25: =CONCATENATE(A25,".",B25) -> 10.137.239.205 | K25: =C25 -> 255.255.255.224 | L25: =F25 -> 10.137.239.193 | M25: =H25 -> 00-04-76-E9-4C-72 | N25: =$C$10 -> 32
A26: =CONCATENATE($C$3,".",$D$3,".",$E$3) -> 10.137.239 | B26: =B25+1 -> 206 | C26: =CONCATENATE($C$4,".",$D$4,".",$E$4,".",$F$4) -> 255.255.255.224 | F26: =CONCATENATE($C$3,".",$D$3,".",$E$3,".",$F$3+1) -> 10.137.239.193 | H26: 00-0A-5E-03-ED-E2 | I26: Eru 33 secundaria | J26: =CONCATENATE(A26,".",B26) -> 10.137.239.206 | K26: =C26 -> 255.255.255.224 | L26: =F26 -> 10.137.239.193 | M26: =H26 -> 00-0A-5E-03-ED-E2 | N26: =$C$10 -> 32
A27: =CONCATENATE($C$3,".",$D$3,".",$E$3) -> 10.137.239 | B27: =B26+1 -> 207 | C27: =CONCATENATE($C$4,".",$D$4,".",$E$4,".",$F$4) -> 255.255.255.224 | F27: =CONCATENATE($C$3,".",$D$3,".",$E$3,".",$F$3+1) -> 10.137.239.193 | H27: 00-04-76-E3-4C-10 | I27: Eru 34 secundaria | J27: =CONCATENATE(A27,".",B27) -> 10.137.239.207 | K27: =C27 -> 255.255.255.224 | L27: =F27 -> 10.137.239.193 | M27: =H27 -> 00-04-76-E3-4C-10 | N27: =$C$10 -> 32
A28: =CONCATENATE($C$3,".",$D$3,".",$E$3) -> 10.137.239 | B28: =B27+1 -> 208 | C28: =CONCATENATE($C$4,".",$D$4,".",$E$4,".",$F$4) -> 255.255.255.224 | F28: =CONCATENATE($C$3,".",$D$3,".",$E$3,".",$F$3+1) -> 10.137.239.193 | H28: 00-04-76-E9-4E-83 | I28: Eru 35 secundaria | J28: =CONCATENATE(A28,".",B28) -> 10.137.239.208 | K28: =C28 -> 255.255.255.224 | L28: =F28 -> 10.137.239.193 | M28: =H28 -> 00-04-76-E9-4E-83 | N28: =$C$10 -> 32
A29: =CONCATENATE($C$3,".",$D$3,".",$E$3) -> 10.137.239 | B29: =B28+1 -> 209 | C29: =CONCATENATE($C$4,".",$D$4,".",$E$4,".",$F$4) -> 255.255.255.224 | F29: =CONCATENATE($C$3,".",$D$3,".",$E$3,".",$F$3+1) -> 10.137.239.193 | H29: 00-04-76-E9-4A-B2 | I29: Eru 36 secundaria | J29: =CONCATENATE(A29,".",B29) -> 10.137.239.209 | K29: =C29 -> 255.255.255.224 | L29: =F29 -> 10.137.239.193 | M29: =H29 -> 00-04-76-E9-4A-B2 | N29: =$C$10 -> 32
A30: =CONCATENATE($C$3,".",$D$3,".",$E$3) -> 10.137.239 | B30: =B29+1 -> 210 | C30: =CONCATENATE($C$4,".",$D$4,".",$E$4,".",$F$4) -> 255.255.255.224 | F30: =CONCATENATE($C$3,".",$D$3,".",$E$3,".",$F$3+1) -> 10.137.239.193 | H30: 00-11-6B-3C-F1-8A | I30: Eru 37 secundaria | J30: =CONCATENATE(A30,".",B30) -> 10.137.239.210 | K30: =C30 -> 255.255.255.224 | L30: =F30 -> 10.137.239.193 | M30: =H30 -> 00-11-6B-3C-F1-8A | N30: =$C$10 -> 32
A31: =CONCATENATE($C$3,".",$D$3,".",$E$3) -> 10.137.239 | B31: =B30+1 -> 211 | C31: =CONCATENATE($C$4,".",$D$4,".",$E$4,".",$F$4) -> 255.255.255.224 | F31: =CONCATENATE($C$3,".",$D$3,".",$E$3,".",$F$3+1) -> 10.137.239.193 | H31: 00-04-76-E3-4E-8C | I31: Eru 38 secundaria | J31: =CONCATENATE(A31,".",B31) -> 10.137.239.211 | K31: =C31 -> 255.255.255.224 | L31: =F31 -> 10.137.239.193 | M31: =H31 -> 00-04-76-E3-4E-8C | N31: =$C$10 -> 32
A32: =CONCATENATE($C$3,".",$D$3,".",$E$3) -> 10.137.239 | B32: =B31+1 -> 212 | C32: =CONCATENATE($C$4,".",$D$4,".",$E$4,".",$F$4) -> 255.255.255.224 | F32: =CONCATENATE($C$3,".",$D$3,".",$E$3,".",$F$3+1) -> 10.137.239.193 | H32: 00-04-76-E9-4C-32 | I32: Eru 39 secundaria | J32: =CONCATENATE(A32,".",B32) -> 10.137.239.212 | K32: =C32 -> 255.255.255.224 | L32: =F32 -> 10.137.239.193 | M32: =H32 -> 00-04-76-E9-4C-32 | N32: =$C$10 -> 32
A33: =CONCATENATE($C$3,".",$D$3,".",$E$3) -> 10.137.239 | B33: =B32+1 -> 213 | C33: =CONCATENATE($C$4,".",$D$4,".",$E$4,".",$F$4) -> 255.255.255.224 | F33: =CONCATENATE($C$3,".",$D$3,".",$E$3,".",$F$3+1) -> 10.137.239.193 | H33: 00-04-76-E9-46-D9 | I33: Eru 40 secundaria | J33: =CONCATENATE(A33,".",B33) -> 10.137.239.213 | K33: =C33 -> 255.255.255.224 | L33: =F33 -> 10.137.239.193 | M33: =H33 -> 00-04-76-E9-46-D9 | N33: =$C$10 -> 32
A34: =CONCATENATE($C$3,".",$D$3,".",$E$3) -> 10.137.239 | B34: =B33+1 -> 214 | C34: =CONCATENATE($C$4,".",$D$4,".",$E$4,".",$F$4) -> 255.255.255.224 | F34: =CONCATENATE($C$3,".",$D$3,".",$E$3,".",$F$3+1) -> 10.137.239.193 | H34: 00-04-76-E9-4C-3F | I34: Eru 41 secundaria | J34: =CONCATENATE(A34,".",B34) -> 10.137.239.214 | K34: =C34 -> 255.255.255.224 | L34: =F34 -> 10.137.239.193 | M34: =H34 -> 00-04-76-E9-4C-3F | N34: =$C$10 -> 32
A35: =CONCATENATE($C$3,".",$D$3,".",$E$3) -> 10.137.239 | B35: =B34+1 -> 215 | C35: =CONCATENATE($C$4,".",$D$4,".",$E$4,".",$F$4) -> 255.255.255.224 | F35: =CONCATENATE($C$3,".",$D$3,".",$E$3,".",$F$3+1) -> 10.137.239.193 | H35: 00-04-76-E9-43-31 | I35: Eru 42 secundaria | J35: =CONCATENATE(A35,".",B35) -> 10.137.239.215 | K35: =C35 -> 255.255.255.224 | L35: =F35 -> 10.137.239.193 | M35: =H35 -> 00-04-76-E9-43-31 | N35: =$C$10 -> 32
... A37: =CONCATENATE($C$3,".",$D$3,".",$E$3) -> 10.137.239 | B37: =B36+1 -> 217 | C37: =CONCATENATE($C$4,".",$D$4,".",$E$4,".",$F$4) -> 255.255.255.224 | F37: =CONCATENATE($C$3,".",$D$3,".",$E$3,".",$F$3+1) -> 10.137.239.193 | H37: 00-04-76-E9-47-F7 | I37: Eru 44 secundaria | J37: =CONCATENATE(A37,".",B37) -> 10.137.239.217 | K37: =C37 -> 255.255.255.224 | L37: =F37 -> 10.137.239.193 | M37: =H37 -> 00-04-76-E9-47-F7 | N37: =$C$10 -> 32
A38: =CONCATENATE($C$3,".",$D$3,".",$E$3) -> 10.137.239 | B38: =B37+1 -> 218 | C38: =CONCATENATE($C$4,".",$D$4,".",$E$4,".",$F$4) -> 255.255.255.224 | F38: =CONCATENATE($C$3,".",$D$3,".",$E$3,".",$F$3+1) -> 10.137.239.193 | H38: - | J38: =CONCATENATE(A38,".",B38) -> 10.137.239.218 | K38: =C38 -> 255.255.255.224 | L38: =F38 -> 10.137.239.193 | M38: =H38 -> - | N38: =$C$10 -> 32
A39: =CONCATENATE($C$3,".",$D$3,".",$E$3) -> 10.137.239 | B39: =B38+1 -> 219 | C39: =CONCATENATE($C$4,".",$D$4,".",$E$4,".",$F$4) -> 255.255.255.224 | F39: =CONCATENATE($C$3,".",$D$3,".",$E$3,".",$F$3+1) -> 10.137.239.193 | H39: - | J39: =CONCATENATE(A39,".",B39) -> 10.137.239.219 | K39: =C39 -> 255.255.255.224 | L39: =F39 -> 10.137.239.193 | M39: =H39 -> - | N39: =$C$10 -> 32
A40: =CONCATENATE($C$3,".",$D$3,".",$E$3) -> 10.137.239 | B40: =B39+1 -> 220 | C40: =CONCATENATE($C$4,".",$D$4,".",$E$4,".",$F$4) -> 255.255.255.224 | F40: =CONCATENATE($C$3,".",$D$3,".",$E$3,".",$F$3+1) -> 10.137.239.193 | H40: 00-00-26-00-00-69 | I40: Codec Sos 1 | J40: =CONCATENATE(A40,".",B40) -> 10.137.239.220 | K40: =C40 -> 255.255.255.224 | L40: =F40 -> 10.137.239.193 | M40: =H40 -> 00-00-26-00-00-69 | N40: =$C$10 -> 32
A41: =CONCATENATE($C$3,".",$D$3,".",$E$3) -> 10.137.239 | B41: =B40+1 -> 221 | C41: =CONCATENATE($C$4,".",$D$4,".",$E$4,".",$F$4) -> 255.255.255.224 | F41: =CONCATENATE($C$3,".",$D$3,".",$E$3,".",$F$3+1) -> 10.137.239.193 | H41: 00:00:26:00:00-70 | I41: Codec Sos 2 | J41: =CONCATENATE(A41,".",B41) -> 10.137.239.221 | K41: =C41 -> 255.255.255.224 | L41: =F41 -> 10.137.239.193 | M41: =H41 -> 00:00:26:00:00-70 | N41: =$C$10 -> 32

Sheet CCTV
A1: CCTV | I1: =Xarxa!I1 -> C-31 (D)
A3: Network | C3: 10 | D3: 137 | E3: 239 | F3: 224
A4: Netmask | C4: 255 | D4: 255 | E4: 255 | F4: 224
A5: Wildcard | C5: 0 | D5: 0 | E5: 0 | F5: =256-F4-1 -> 31
A6: HostMin | C6: =C3 -> 10 | D6: =D3 -> 137 | E6: =E3 -> 239 | F6: =F3+1 -> 225
A7: HostMax | C7: =C3 -> 10 | D7: =D3 -> 137 | E7: =E3 -> 239 | F7: =F3+F5-2 -> 253
A8: Broadcast | C8: =C3 -> 10 | D8: =D3 -> 137 | E8: =E3 -> 239 | F8: =F3+F5-1 -> 254
A9: Hosts | C9: =F5-2 -> 29
A10: VLAN | C10: 42
A12: IP | C12: MASK | F12: GATEWAY | G12: MASK | H12: MAC | I12: DESCRIPTION
A13: =CONCATENATE($C$3,".",$D$3,".",$E$3) -> 10.137.239 | B13: =F6 -> 225 | C13: =CONCATENATE($C$4,".",$D$4,".",$E$4,".",$F$4) -> 255.255.255.224 | F13: =CONCATENATE($C$3,".",$D$3,".",$E$3,".",$F$3+1) -> 10.137.239.225 | H13: - | I13: Gateway | J13: =CONCATENATE(A13,".",B13) -> 10.137.239.225 | K13: =C13 -> 255.255.255.224 | L13: =F13 -> 10.137.239.225 | M13: =H13 -> - | N13: =$C$10 -> 42
A14: =CONCATENATE($C$3,".",$D$3,".",$E$3) -> 10.137.239 | B14: =B13+1 -> 226 | C14: =CONCATENATE($C$4,".",$D$4,".",$E$4,".",$F$4) -> 255.255.255.224 | F14: =CONCATENATE($C$3,".",$D$3,".",$E$3,".",$F$3+1) -> 10.137.239.225 | H14: - | J14: =CONCATENATE(A14,".",B14) -> 10.137.239.226 | K14: =C14 -> 255.255.255.224 | L14: =F14 -> 10.137.239.225 | M14: =H14 -> - | N14: =$C$10 -> 42
A15: =CONCATENATE($C$3,".",$D$3,".",$E$3) -> 10.137.239 | B15: =B14+1 -> 227 | C15: =CONCATENATE($C$4,".",$D$4,".",$E$4,".",$F$4) -> 255.255.255.224 | F15: =CONCATENATE($C$3,".",$D$3,".",$E$3,".",$F$3+1) -> 10.137.239.225 | H15: - | I15: Cámara 3017 | J15: =CONCATENATE(A15,".",B15) -> 10.137.239.227 | K15: =C15 -> 255.255.255.224 | L15: =F15 -> 10.137.239.225 | M15: =H15 -> - | N15: =$C$10 -> 42
A16: =CONCATENATE($C$3,".",$D$3,".",$E$3) -> 10.137.239 | B16: =B15+1 -> 228 | C16: =CONCATENATE($C$4,".",$D$4,".",$E$4,".",$F$4) -> 255.255.255.224 | F16: =CONCATENATE($C$3,".",$D$3,".",$E$3,".",$F$3+1) -> 10.137.239.225 | H16: - | I16: Cámara 3018 | J16: =CONCATENATE(A16,".",B16) -> 10.137.239.228 | K16: =C16 -> 255.255.255.224 | L16: =F16 -> 10.137.239.225 | M16: =H16 -> - | N16: =$C$10 -> 42
A17: =CONCATENATE($C$3,".",$D$3,".",$E$3) -> 10.137.239 | B17: =B16+1 -> 229 | C17: =CONCATENATE($C$4,".",$D$4,".",$E$4,".",$F$4) -> 255.255.255.224 | F17: =CONCATENATE($C$3,".",$D$3,".",$E$3,".",$F$3+1) -> 10.137.239.225 | H17: - | I17: Cámara 3019 | J17: =CONCATENATE(A17,".",B17) -> 10.137.239.229 | K17: =C17 -> 255.255.255.224 | L17: =F17 -> 10.137.239.225 | M17: =H17 -> - | N17: =$C$10 -> 42
A18: =CONCATENATE($C$3,".",$D$3,".",$E$3) -> 10.137.239 | B18: =B17+1 -> 230 | C18: =CONCATENATE($C$4,".",$D$4,".",$E$4,".",$F$4) -> 255.255.255.224 | F18: =CONCATENATE($C$3,".",$D$3,".",$E$3,".",$F$3+1) -> 10.137.239.225 | H18: - | I18: Cámara 3020 | J18: =CONCATENATE(A18,".",B18) -> 10.137.239.230 | K18: =C18 -> 255.255.255.224 | L18: =F18 -> 10.137.239.225 | M18: =H18 -> - | N18: =$C$10 -> 42
A19: =CONCATENATE($C$3,".",$D$3,".",$E$3) -> 10.137.239 | B19: =B18+1 -> 231 | C19: =CONCATENATE($C$4,".",$D$4,".",$E$4,".",$F$4) -> 255.255.255.224 | F19: =CONCATENATE($C$3,".",$D$3,".",$E$3,".",$F$3+1) -> 10.137.239.225 | H19: - | I19: Cámara 3021 | J19: =CONCATENATE(A19,".",B19) -> 10.137.239.231 | K19: =C19 -> 255.255.255.224 | L19: =F19 -> 10.137.239.225 | M19: =H19 -> - | N19: =$C$10 -> 42
A20: =CONCATENATE($C$3,".",$D$3,".",$E$3) -> 10.137.239 | B20: =B19+1 -> 232 | C20: =CONCATENATE($C$4,".",$D$4,".",$E$4,".",$F$4) -> 255.255.255.224 | F20: =CONCATENATE($C$3,".",$D$3,".",$E$3,".",$F$3+1) -> 10.137.239.225 | H20: - | I20: Cámara 3022 | J20: =CONCATENATE(A20,".",B20) -> 10.137.239.232 | K20: =C20 -> 255.255.255.224 | L20: =F20 -> 10.137.239.225 | M20: =H20 -> - | N20: =$C$10 -> 42
A21: =CONCATENATE($C$3,".",$D$3,".",$E$3) -> 10.137.239 | B21: =B20+1 -> 233 | C21: =CONCATENATE($C$4,".",$D$4,".",$E$4,".",$F$4) -> 255.255.255.224 | F21: =CONCATENATE($C$3,".",$D$3,".",$E$3,".",$F$3+1) -> 10.137.239.225 | H21: - | I21: Cámara 3023 | J21: =CONCATENATE(A21,".",B21) -> 10.137.239.233 | K21: =C21 -> 255.255.255.224 | L21: =F21 -> 10.137.239.225 | M21: =H21 -> - | N21: =$C$10 -> 42
A22: =CONCATENATE($C$3,".",$D$3,".",$E$3) -> 10.137.239 | B22: =B21+1 -> 234 | C22: =CONCATENATE($C$4,".",$D$4,".",$E$4,".",$F$4) -> 255.255.255.224 | F22: =CONCATENATE($C$3,".",$D$3,".",$E$3,".",$F$3+1) -> 10.137.239.225 | H22: - | J22: =CONCATENATE(A22,".",B22) -> 10.137.239.234 | K22: =C22 -> 255.255.255.224 | L22: =F22 -> 10.137.239.225 | M22: =H22 -> - | N22: =$C$10 -> 42
A23: =CONCATENATE($C$3,".",$D$3,".",$E$3) -> 10.137.239 | B23: =B22+1 -> 235 | C23: =CONCATENATE($C$4,".",$D$4,".",$E$4,".",$F$4) -> 255.255.255.224 | F23: =CONCATENATE($C$3,".",$D$3,".",$E$3,".",$F$3+1) -> 10.137.239.225 | H23: - | J23: =CONCATENATE(A23,".",B23) -> 10.137.239.235 | K23: =C23 -> 255.255.255.224 | L23: =F23 -> 10.137.239.225 | M23: =H23 -> - | N23: =$C$10 -> 42
A24: =CONCATENATE($C$3,".",$D$3,".",$E$3) -> 10.137.239 | B24: =B23+1 -> 236 | C24: =CONCATENATE($C$4,".",$D$4,".",$E$4,".",$F$4) -> 255.255.255.224 | F24: =CONCATENATE($C$3,".",$D$3,".",$E$3,".",$F$3+1) -> 10.137.239.225 | H24: - | J24: =CONCATENATE(A24,".",B24) -> 10.137.239.236 | K24: =C24 -> 255.255.255.224 | L24: =F24 -> 10.137.239.225 | M24: =H24 -> - | N24: =$C$10 -> 42
A25: =CONCATENATE($C$3,".",$D$3,".",$E$3) -> 10.137.239 | B25: =B24+1 -> 237 | C25: =CONCATENATE($C$4,".",$D$4,".",$E$4,".",$F$4) -> 255.255.255.224 | F25: =CONCATENATE($C$3,".",$D$3,".",$E$3,".",$F$3+1) -> 10.137.239.225 | H25: - | J25: =CONCATENATE(A25,".",B25) -> 10.137.239.237 | K25: =C25 -> 255.255.255.224 | L25: =F25 -> 10.137.239.225 | M25: =H25 -> - | N25: =$C$10 -> 42
A26: =CONCATENATE($C$3,".",$D$3,".",$E$3) -> 10.137.239 | B26: =B25+1 -> 238 | C26: =CONCATENATE($C$4,".",$D$4,".",$E$4,".",$F$4) -> 255.255.255.224 | F26: =CONCATENATE($C$3,".",$D$3,".",$E$3,".",$F$3+1) -> 10.137.239.225 | H26: - | J26: =CONCATENATE(A26,".",B26) -> 10.137.239.238 | K26: =C26 -> 255.255.255.224 | L26: =F26 -> 10.137.239.225 | M26: =H26 -> - | N26: =$C$10 -> 42
A27: =CONCATENATE($C$3,".",$D$3,".",$E$3) -> 10.137.239 | B27: =B26+1 -> 239 | C27: =CONCATENATE($C$4,".",$D$4,".",$E$4,".",$F$4) -> 255.255.255.224 | F27: =CONCATENATE($C$3,".",$D$3,".",$E$3,".",$F$3+1) -> 10.137.239.225 | H27: - | J27: =CONCATENATE(A27,".",B27) -> 10.137.239.239 | K27: =C27 -> 255.255.255.224 | L27: =F27 -> 10.137.239.225 | M27: =H27 -> - | N27: =$C$10 -> 42
A28: =CONCATENATE($C$3,".",$D$3,".",$E$3) -> 10.137.239 | B28: =B27+1 -> 240 | C28: =CONCATENATE($C$4,".",$D$4,".",$E$4,".",$F$4) -> 255.255.255.224 | F28: =CONCATENATE($C$3,".",$D$3,".",$E$3,".",$F$3+1) -> 10.137.239.225 | H28: - | J28: =CONCATENATE(A28,".",B28) -> 10.137.239.240 | K28: =C28 -> 255.255.255.224 | L28: =F28 -> 10.137.239.225 | M28: =H28 -> - | N28: =$C$10 -> 42
A29: =CONCATENATE($C$3,".",$D$3,".",$E$3) -> 10.137.239 | B29: =B28+1 -> 241 | C29: =CONCATENATE($C$4,".",$D$4,".",$E$4,".",$F$4) -> 255.255.255.224 | F29: =CONCATENATE($C$3,".",$D$3,".",$E$3,".",$F$3+1) -> 10.137.239.225 | H29: - | J29: =CONCATENATE(A29,".",B29) -> 10.137.239.241 | K29: =C29 -> 255.255.255.224 | L29: =F29 -> 10.137.239.225 | M29: =H29 -> - | N29: =$C$10 -> 42
A30: =CONCATENATE($C$3,".",$D$3,".",$E$3) -> 10.137.239 | B30: =B29+1 -> 242 | C30: =CONCATENATE($C$4,".",$D$4,".",$E$4,".",$F$4) -> 255.255.255.224 | F30: =CONCATENATE($C$3,".",$D$3,".",$E$3,".",$F$3+1) -> 10.137.239.225 | H30: - | J30: =CONCATENATE(A30,".",B30) -> 10.137.239.242 | K30: =C30 -> 255.255.255.224 | L30: =F30 -> 10.137.239.225 | M30: =H30 -> - | N30: =$C$10 -> 42
A31: =CONCATENATE($C$3,".",$D$3,".",$E$3) -> 10.137.239 | B31: =B30+1 -> 243 | C31: =CONCATENATE($C$4,".",$D$4,".",$E$4,".",$F$4) -> 255.255.255.224 | F31: =CONCATENATE($C$3,".",$D$3,".",$E$3,".",$F$3+1) -> 10.137.239.225 | H31: - | J31: =CONCATENATE(A31,".",B31) -> 10.137.239.243 | K31: =C31 -> 255.255.255.224 | L31: =F31 -> 10.137.239.225 | M31: =H31 -> - | N31: =$C$10 -> 42
A32: =CONCATENATE($C$3,".",$D$3,".",$E$3) -> 10.137.239 | B32: =B31+1 -> 244 | C32: =CONCATENATE($C$4,".",$D$4,".",$E$4,".",$F$4) -> 255.255.255.224 | F32: =CONCATENATE($C$3,".",$D$3,".",$E$3,".",$F$3+1) -> 10.137.239.225 | H32: - | J32: =CONCATENATE(A32,".",B32) -> 10.137.239.244 | K32: =C32 -> 255.255.255.224 | L32: =F32 -> 10.137.239.225 | M32: =H32 -> - | N32: =$C$10 -> 42
A33: =CONCATENATE($C$3,".",$D$3,".",$E$3) -> 10.137.239 | B33: =B32+1 -> 245 | C33: =CONCATENATE($C$4,".",$D$4,".",$E$4,".",$F$4) -> 255.255.255.224 | F33: =CONCATENATE($C$3,".",$D$3,".",$E$3,".",$F$3+1) -> 10.137.239.225 | H33: - | J33: =CONCATENATE(A33,".",B33) -> 10.137.239.245 | K33: =C33 -> 255.255.255.224 | L33: =F33 -> 10.137.239.225 | M33: =H33 -> - | N33: =$C$10 -> 42
... A41: =CONCATENATE($C$3,".",$D$3,".",$E$3) -> 10.137.239 | B41: =B40+1 -> 253 | C41: =CONCATENATE($C$4,".",$D$4,".",$E$4,".",$F$4) -> 255.255.255.224 | F41: =CONCATENATE($C$3,".",$D$3,".",$E$3,".",$F$3+1) -> 10.137.239.225 | H41: - | J41: =CONCATENATE(A41,".",B41) -> 10.137.239.253 | K41: =C41 -> 255.255.255.224 | L41: =F41 -> 10.137.239.225 | M41: =H41 -> - | N41: =$C$10 -> 42

Sheet CONNEXIONS
A1: CONNEXIONS | K1: =Xarxa!I1 -> C-31 (D)
A3: =INDIRECT(M3) -> Node Xarxa 32 | E3: MODULE | F3: PORT | G3: CONNECTED DEVICE | H3: IP | I3: MASK | J3: GATEWAY | K3: MAC | L3: VLAN | M3: =CONCATENATE("Xarxa!I","16") -> Xarxa!I16
A4: RS-40 | E4: 1 | F4: 1 | G4: ? | H4: =IF(ISERROR(VLOOKUP($G4,Xarxa!$I$12:$P$100,2,FALSE))=FALSE, VLOOKUP($G4,Xarxa!$I$12:$P$100,2,FALSE),IF(ISERROR(VLOOKUP($G4,'Dades 1'!$I$12:$P$115,2,FALSE))=FALSE, VLOOKUP($G4,'Dades 1'!$I$12:$P$115,2,FALSE),IF(ISERROR(VLOOKUP($G4,'Dades 2'!$I$12:$P$107,2,FALSE))=FALSE, VLOOKUP($G4,'Dades 2'!$I$12:$P$107,2,FALSE),IF(ISERROR(VLOOKUP($G4,CCTV!$I$12:$P$97,2,FALSE))=FALSE, VLOOKUP($G4,CCTV!$I$12:$P$97,2,FALSE),"?")))) -> ? | I4: =IF(ISERROR(VLOOKUP($G4,Xarxa!$I$12:$P$100,3,FALSE))=FALSE, VLOOKUP($G4,Xarxa!$I$12:$P$100,3,FALSE),IF(ISERROR(VLOOKUP($G4,'Dades 1'!$I$12:$P$115,3,FALSE))=FALSE, VLOOKUP($G4,'Dades 1'!$I$12:$P$115,3,FALSE),IF(ISERROR(VLOOKUP($G4,'Dades 2'!$I$12:$P$107,3,FALSE))=FALSE, VLOOKUP($G4,'Dades 2'!$I$12:$P$107,3,FALSE),IF(ISERROR(VLOOKUP($G4,CCTV!$I$12:$P$97,3,FALSE))=FALSE, VLOOKUP($G4,CCTV!$I$12:$P$97,3,FALSE),"?")))) -> ? | J4: =IF(ISERROR(VLOOKUP($G4,Xarxa!$I$12:$P$100,4,FALSE))=FALSE, VLOOKUP($G4,Xarxa!$I$12:$P$100,4,FALSE),IF(ISERROR(VLOOKUP($G4,'Dades 1'!$I$12:$P$115,4,FALSE))=FALSE, VLOOKUP($G4,'Dades 1'!$I$12:$P$115,4,FALSE),IF(ISERROR(VLOOKUP($G4,'Dades 2'!$I$12:$P$107,4,FALSE))=FALSE, VLOOKUP($G4,'Dades 2'!$I$12:$P$107,4,FALSE),IF(ISERROR(VLOOKUP($G4,CCTV!$I$12:$P$97,4,FALSE))=FALSE, VLOOKUP($G4,CCTV!$I$12:$P$97,4,FALSE),"?")))) -> ? | K4: =IF(ISERROR(VLOOKUP($G4,Xarxa!$I$12:$P$100,5,FALSE))=FALSE, VLOOKUP($G4,Xarxa!$I$12:$P$100,5,FALSE),IF(ISERROR(VLOOKUP($G4,'Dades 1'!$I$12:$P$115,5,FALSE))=FALSE, VLOOKUP($G4,'Dades 1'!$I$12:$P$115,5,FALSE),IF(ISERROR(VLOOKUP($G4,'Dades 2'!$I$12:$P$107,5,FALSE))=FALSE, VLOOKUP($G4,'Dades 2'!$I$12:$P$107,5,FALSE),IF(ISERROR(VLOOKUP($G4,CCTV!$I$12:$P$97,5,FALSE))=FALSE, VLOOKUP($G4,CCTV!$I$12:$P$97,5,FALSE),"?")))) -> ? | L4: =IF(ISERROR(VLOOKUP($G4,Xarxa!$I$12:$P$100,6,FALSE))=FALSE, VLOOKUP($G4,Xarxa!$I$12:$P$100,6,FALSE),IF(ISERROR(VLOOKUP($G4,'Dades 1'!$I$12:$P$115,6,FALSE))=FALSE, VLOOKUP($G4,'Dades 1'!$I$12:$P$115,6,FALSE),IF(ISERROR(VLOOKUP($G4,'Dades 2'!$I$12:$P$107,6,FALSE))=FALSE, VLOOKUP($G4,'Dades 2'!$I$12:$P$107,6,FALSE),IF(ISERROR(VLOOKUP($G4,CCTV!$I$12:$P$97,6,FALSE))=FALSE, VLOOKUP($G4,CCTV!$I$12:$P$97,6,FALSE),"?")))) -> ?
